Workbook
Name __col1: #REF!
Name __col2: #REF!
Name __col3: #REF!
Name _col1: #REF!
Name _col2: #REF!
Name _col3: #REF!
Name Code: #REF!
Name course: '[1]ВАШ ЗАКАЗ'!$G$5
Name fqwrfqwerfvqergfv: #REF!
Name fr43fr: #REF!
Name garant: #REF!
Name Header: #REF!
Name HeaderText: "HeaderText"
Name ItemName: #REF!
Name kjhgf: #REF!
Name News: #REF!
Name Rest1: #REF!
Name Rest2: #REF!
Name Rest3: #REF!
Name RPLAlutech09.21: #REF!
Name rrrr: #REF!
Name rubl: #REF!
Name sale: '[2]Ваш заказ'!$F$3
Name shapes_1: "Рисунок 14"
Name А1: #REF!
Name Прайс_значения: [3]Data!$E$2:$L$208

Sheet Оглавление
B1: Офис в Москве | G1: тел. +7 (495) 989.76.92
B2: Московская обл., г.Одинцово, ул.Транспортная, д.2 | G2: sale.ru@niceforyou.com
B3: Офис в Санкт-Петербурге | G3: тел. +7 (812) 309.32.17
B4: г.Санкт-Петербург, наб. реки Волковки, д.7 | G4: spb.ru@niceforyou.com
B5: Офис в Краснодаре | G5: тел. +7 (861) 992.08.69
B6: Краснодарский край, г.Краснодар, ул.Уральская, д.151/1 | G6: krasnodar.ru@niceforyou.com
B7: Офис в Казани | G7: тел. +7 (843) 212.09.38
B8: Республика Татарстан, г.Казань, ул.М.Гафури, д.50 | G8: kazan.ru@niceforyou.com
B9: Офис в Екатеринбурге | G9: тел. +7 (912) 280.18.38
B10: Свердловская область, г. Екатеринбург, ул. Монтажников, д. 26А, оф. 111 | G10: ekb.ru@niceforyou.com
A11: Прайс-лист АО "Найс Автоматика для Дома" 7 октября 2026 г.
A12: Для консультации по выбору запчастей к приводам и шлагбаумам обращайтесь на горячую линию технической поддержки Nice по телефону 8-800-333-17-17
B14: Общий прайс-лист
B16: Комплекты высокоскоростных приводов
B18: Комплекты автоматики для распашных ворот
B20: Комплекты автоматики для откатных ворот
B22: Комплекты шлагбаумов
B24: Комплекты автоматики для гаражных секционных ворот
B26: Пульты управления
B28: Программаторы и радиоприёмники
B30: Аксессуары
B32: Прайс-лист на запчасти

Sheet Общий прайс лист
D1: С 7 октября 2026г.
A2: Артикул для заказа | B2: Описание | C2: Ед. | D2: Розничная цена, руб с НДС | E2: Оглавление
B3: GATE&DOOR
B4: ПРИВОДЫ ДЛЯ РАСПАШНЫХ ВОРОТ
A5: WG4024 | B5: Привод для распашных ворот WG4024 | C5: шт | D5: 38900
A6: WINGO2024KCE | B6: Комплект для распашных ворот WINGO2024KCE. Состав комплекта: Привод WG4024 - 2 шт, блок управления MC424L - 1 шт, пульт управления INTI2 - 2 шт. | C6: компл | D6: 59900
A7: WINGO4024BDKCE | B7: Комплект для распашных ворот WINGO4024BDKCE. Состав комплекта: Привод WG4024 - 2 шт, блок управления MC424L - 1 шт, фотоэлементы EPM - 1 пара, лампа ELDC - 1шт, приемник OXIBD - 1 шт.; пульт управления INTI2 - 2 шт; | C7: компл | D7: 69900
A8: WG5024 | B8: Привод для распашных ворот WG5024 | C8: шт | D8: 38900
A9: WINGO3524KCE | B9: Комплект для распашных ворот WINGO3524KCE. Состав комплекта: Привод WG5024 - 2 шт, блок управления MC424L - 1 шт, пульт управления INTI2 - 2 шт. | C9: компл | D9: 69900
A10: WINGO5024BDKCE | B10: Комплект для распашных ворот WINGO5024BDKCE. Состав комплекта: Привод WG5024 - 2 шт, блок управления MC424L - 1 шт, фотоэлементы EPM - 1 пара, приемник OXIBD - 1 шт.; пульт управления INTI2 - 2 шт; лампа ELDC - 1шт, | C10: компл | D10: 79900
A11: WG3524HS | B11: Привод для распашных ворот WG3524HS | C11: шт | D11: 38900
A12: WG3524HSBDKLT | B12: Комплект для распашных ворот WG3524HSBDKLT. Состав комплекта: Привод WG3524HS - 2 шт, блок управления МС824H - 1 шт, приемник OXIBD - 1 шт.; пульт управления INTI2R - 2 шт; | C12: компл | D12: 69900
A13: WG3524HSON3KLT | B13: Комплект для распашных ворот WG3524HSBDKLT. Состав комплекта: Привод WG3524HS - 2 шт, блок управления МС824H - 1 шт, приемник OXIBD - 1 шт.; пульт управления ON3EBD - 2 шт; | C13: компл | D13: 64900
A14: WG3524HSBDKCE | B14: Комплект для распашных ворот WG3524HSBDKCE. Состав комплекта: Привод WG3524HS - 2 шт, блок управления МС824H - 1 шт, приемник OXIBD - 1 шт, фотоэлементы EPMB - 1 пара, лампа ELDC - 1шт, пульт управления INTI2R - 2 шт. | C14: компл | D14: 79900
A15: WG3524HSON3KCE | B15: Комплект для распашных ворот WG3524HSBDKCE. Состав комплекта: Привод WG3524HS - 2 шт, блок управления МС824H - 1 шт, приемник OXIBD - 1 шт, фотоэлементы EPMB - 1 пара, лампа ELDC - 1шт, пульт управления ON3EBD - 2 шт. | C15: компл | D15: 74900
A16: WG4000 | B16: Привод для распашных ворот WG4000 | C16: шт | D16: 38900
... A62: BM5024 | B62: Привод для распашных ворот BM5024 | C62: шт | D62: 85900
B63: АКСЕССУАРЫ ПРИВОДОВ ДЛЯ РАСПАШНЫХ ВОРОТ
A64: BMA1 | B64: Механизм открывания ворот на 360 градусов BMA1 | C64: шт | D64: 20900
A65: BMBOX | B65: Фундаментная коробка BMBOX | C65: шт | D65: 32900
A66: HYA11 | B66: Устройство для разблокировки HYA11 | C66: шт | D66: 5200
A67: HYA12 | B67: Рычаг-удлинитель HYA12 | C67: шт | D67: 20900
A68: MEA1 | B68: Механизм открывания ворот на 360 градусов MEA1 | C68: шт | D68: 20900
A69: MEA2 | B69: Механизм разблокировки MEA2 | C69: шт | D69: 20900
A70: MEA3 | B70: Механизм разблокировки MEA3 | C70: шт | D70: 20900
A71: MEA5 | B71: Рычаг для механизма MEA3 MEA5 | C71: шт | D71: 5200
A72: MECF | B72: Фундаментная коробка с катафорезным покрытием MECF | C72: шт | D72: 32900
A73: MECX | B73: Фундаментная коробка из нержавеющей стали MECX | C73: шт | D73: 32900
A74: PLA10 | B74: Электромеханический замок вертикальный, 12В PLA10 | C74: шт | D74: 20900
A75: PLA11 | B75: Электромеханический замок горизонтальный, 12В PLA11 | C75: шт | D75: 20900
... A81: PLA8 | B81: Передний регулируемый кронштейн PLA8 | C81: шт | D81: 5200
B82: ПРИВОДЫ ДЛЯ ОТКАТНЫХ ВОРОТ
A83: SLH400BDKCE | B83: Комплект для откатных ворот SLH400BDKCE. Состав комплекта: Привод SLH400 - 1 шт, приемник OXIBD - 1 шт; пульт управления MYGO4 - 2 шт; фотоэлементы EPMB - 1 пара, лампа ELDC - 1 шт; | C83: компл | D83: 59900
A84: RD400KCE | B84: Комплект для откатных ворот RD400KCE. Состав комплекта: Привод RD400 - 1 шт, пульт управления INTI2 - 2 шт; | C84: компл | D84: 35900
A85: RD400KIT2 | B85: Комплект для откатных ворот RD400KIT2. Состав комплекта: Привод RD400 - 1 шт, пульт управления INTI2 - 2 шт; фотоэлементы EPM - 1 пара; лампа ELDC - 1 шт; | C85: компл | D85: 45900
A86: RO600KLT | B86: Комплект для откатных ворот RO600KLT. Состав комплекта: Привод RO600 - 1 шт, пульт управления INTI2 - 2 шт; | C86: компл | D86: 35900
A87: RO600KCE | B87: Комплект для откатных ворот RO600KCE. Состав комплекта: Привод RO600 - 1 шт, пульт управления INTI2 - 2 шт; фотоэлементы EPM - 1 пара; лампа ELAC - 1 шт; | C87: компл | D87: 45900
A88: RO1000KLT | B88: Комплект для откатных ворот RO1000KLT. Состав комплекта: Привод RO1000 - 1 шт, пульт управления INTI2 - 2 шт; | C88: компл | D88: 46900
A89: RO1000KCE | B89: Комплект для откатных ворот RO1000KCE. Состав комплекта: Привод RO1000 - 1 шт, пульт управления INTI2 - 2 шт; фотоэлементы EPM - 1 пара; лампа ELAC - 1 шт; | C89: компл | D89: 56900
A90: RO1500KLT | B90: Комплект для откатных ворот RO1500KLT. Состав комплекта: Привод RO1500 - 1 шт, пульт управления INTI2 - 2 шт; | C90: компл | D90: 56900
...

Sheet Промокомплекты ON3EBD
A1: Промоакция: Цены на комплекты с пультами ON3EBD выгодно отличаются на 5000 руб!
D2: С 1 октября 2026г.
A3: Артикул для заказа Trade Code | B3: Описание | C3: Ед. | D3: Розничная цена, руб с НДС
A4: TO4016PON3KLT | B4: =VLOOKUP(A4,'Общий прайс лист'!A:B,2,FALSE) -> Комплект для распашных ворот TO4016PBDKLT. Состав комплекта: привод TO4016P (2 шт.), приёмник OXIBD (1 шт.), пульт управления ONEBD (2 шт.), Блок управления MC800 (1шт.) | C4: =VLOOKUP(A4,'Общий прайс лист'!A:D,3,FALSE) -> компл | D4: =VLOOKUP(A4,'Общий прайс лист'!A:D,4,FALSE) -> 64900
A5: TO4016PON3KCE | B5: =VLOOKUP(A5,'Общий прайс лист'!A:B,2,FALSE) -> Комплект для распашных ворот TO4016PBDKCE. Состав комплекта: привод TO4016P (2 шт.), приёмник OXIBD (1 шт.), пульт управления ON3EBD (2 шт.), Фотоэлементы Medium EPM (1 пара), Блок управления MC800 (1 шт.), Лампа сигнальная с антенной 230В ELAC (1 шт.) | C5: =VLOOKUP(A5,'Общий прайс лист'!A:D,3,FALSE) -> компл | D5: =VLOOKUP(A5,'Общий прайс лист'!A:D,4,FALSE) -> 75900
A6: TO5016PON3KLT | B6: =VLOOKUP(A6,'Общий прайс лист'!A:B,2,FALSE) -> Комплект для распашных ворот TO5016PBDKLT. Состав комплекта: привод TO5016P (2 шт.), Блок управления MC800 (1 шт.), приёмник OXIBD (1 шт.),пульт управления ON3EBD (2 шт.) | C6: =VLOOKUP(A6,'Общий прайс лист'!A:D,3,FALSE) -> компл | D6: =VLOOKUP(A6,'Общий прайс лист'!A:D,4,FALSE) -> 75900
A7: TO5016PON3KCE | B7: =VLOOKUP(A7,'Общий прайс лист'!A:B,2,FALSE) -> Комплект для распашных ворот TO5016PBDKCE. Состав комплекта: привод TO5016P (2 шт.), приёмник OXIBD (1 шт.), пульт управления ON3EBD (2 шт.), Фотоэлементы Medium EPM (1 пара), Блок управления MC800 (1 шт.), Лампа сигналь- ная с антенной 230В ELAC (1 шт.) | C7: =VLOOKUP(A7,'Общий прайс лист'!A:D,3,FALSE) -> компл | D7: =VLOOKUP(A7,'Общий прайс лист'!A:D,4,FALSE) -> 85900
A8: HY7005ON3KLT | B8: =VLOOKUP(A8,'Общий прайс лист'!A:B,2,FALSE) -> Комплект для распашных ворот HY7005BDKLT. Состав комплекта: привод HY7005 (2 шт.), приёмник OXIBD (1 шт.), пульт управления ON3EBD (2 шт.), Блок управления MC800 (1 шт.) | C8: =VLOOKUP(A8,'Общий прайс лист'!A:D,3,FALSE) -> компл | D8: =VLOOKUP(A8,'Общий прайс лист'!A:D,4,FALSE) -> 91900
A9: HY7005ON3KCE | B9: =VLOOKUP(A9,'Общий прайс лист'!A:B,2,FALSE) -> Комплект для распашных ворот HY7005BDKCE. Состав комплекта: привод HY7005 (2 шт.), приёмник OXIBD (1 шт.), пульт управления ON3EBD (2 шт.), Фотоэлементы Medium EPM (1 пара), Блок управления MC800 (1 шт.), Лампа сигнальная с антенной 230В ELAC (1 шт.) | C9: =VLOOKUP(A9,'Общий прайс лист'!A:D,3,FALSE) -> компл | D9: =VLOOKUP(A9,'Общий прайс лист'!A:D,4,FALSE) -> 101900
A10: WG3524HSON3KLT | B10: =VLOOKUP(A10,'Общий прайс лист'!A:B,2,FALSE) -> Комплект для распашных ворот WG3524HSBDKLT. Состав комплекта: Привод WG3524HS - 2 шт, блок управления МС824H - 1 шт, приемник OXIBD - 1 шт.; пульт управления ON3EBD - 2 шт; | C10: =VLOOKUP(A10,'Общий прайс лист'!A:D,3,FALSE) -> компл | D10: =VLOOKUP(A10,'Общий прайс лист'!A:D,4,FALSE) -> 64900
A11: WG3524HSON3KCE | B11: =VLOOKUP(A11,'Общий прайс лист'!A:B,2,FALSE) -> Комплект для распашных ворот WG3524HSBDKCE. Состав комплекта: Привод WG3524HS - 2 шт, блок управления МС824H - 1 шт, приемник OXIBD - 1 шт, фотоэлементы EPMB - 1 пара, лампа ELDC - 1шт, пульт управления ON3EBD - 2 шт. | C11: =VLOOKUP(A11,'Общий прайс лист'!A:D,3,FALSE) -> компл | D11: =VLOOKUP(A11,'Общий прайс лист'!A:D,4,FALSE) -> 74900
A12: TO5024HSON3KLT | B12: =VLOOKUP(A12,'Общий прайс лист'!A:B,2,FALSE) -> Комплект для распашных ворот TO5024HSBDKLT. Состав комплекта: привод TO5024HS (2 шт.), приёмник OXIBD (1 шт.), пульт управления ON3EBD (2 шт.), Блок управления MC824H (1 шт.) | C12: =VLOOKUP(A12,'Общий прайс лист'!A:D,3,FALSE) -> компл | D12: =VLOOKUP(A12,'Общий прайс лист'!A:D,4,FALSE) -> 75900
A13: TO5024HSON3KCE | B13: =VLOOKUP(A13,'Общий прайс лист'!A:B,2,FALSE) -> Комплект для распашных ворот TO5024HSBDKCE. Состав комплекта: привод TO5024HS (2 шт.), приёмник OXIBD (1 шт.), пульт управления ON3EBD (2 шт.), Фотоэлементы Medium BlueBus EPMB (1 пара), Блок управления MC824H (1 шт.), Лампа сигнальная с антенной, 12В/24В ELDC (1шт.) | C13: =VLOOKUP(A13,'Общий прайс лист'!A:D,3,FALSE) -> компл | D13: =VLOOKUP(A13,'Общий прайс лист'!A:D,4,FALSE) -> 85900

Sheet Компл. Высокоскоростных пр.
A1: Серия | B1: ОСНОВНЫЕ ХАРАКТЕРИСТИКИ | C1: Артикулы для заказа | G1: Описание | H1: Кол-во | I1: Розн. Цена за шт. | J1: Розн. Цена за комплекты | L1: Оглавление
A2: ПРИВОДЫ ДЛЯ ОТКАТНЫХ ВОРОТ
A3: ROBUS HI-SPEED | B3: до 250 кг, Инт. 50 циклов/час, скорость до 0,4 м/с, ВЫСОКОРОСТНОЙ | C3: КОМПЛЕКТ | D3: RB250HSBDKLT | F3: RB250HS | G3: =VLOOKUP(F3,'Общий прайс лист'!A:B,2,FALSE) -> Привод для откатных ворот RB250HS | H3: 1 | I3: =VLOOKUP(F3,'Общий прайс лист'!A:D,4,FALSE) -> 59900 | J3: =VLOOKUP(D3,'Общий прайс лист'!A:D,4,FALSE) -> 59900
F4: OXIBD | G4: =VLOOKUP(F4,'Общий прайс лист'!A:B,2,FALSE) -> Приемник OXIBD с обратной связью | H4: 1 | I4: =VLOOKUP(F4,'Общий прайс лист'!A:D,4,FALSE) -> 9490
F5: INTI2R | G5: Пульт управления INTI2R (цвет красный) | H5: 2
B6: Рекомендуемые дополнительные аксессуары → | F6: EDSWG | G6: =VLOOKUP(F6,'Общий прайс лист'!A:B,2,FALSE) -> Цифровой переключатель FLOR EDSW | I6: =VLOOKUP(F6,'Общий прайс лист'!A:D,4,FALSE) -> 14900
F7: EPMORB | G7: =VLOOKUP(F7,'Общий прайс лист'!A:B,2,FALSE) -> Фотоэлементы с зеркально-линзовым объективом BlueBus | I7: =VLOOKUP(F7,'Общий прайс лист'!A:D,4,FALSE) -> 9900
F8: RBA1 | G8: =VLOOKUP(F8,'Общий прайс лист'!A:B,2,FALSE) -> Индуктивный датчик RBA1 | I8: =VLOOKUP(F8,'Общий прайс лист'!A:D,4,FALSE) -> 9490
F9: PS124/PSS124 | G9: Аккумуляторная батарея (в зависимости от модификации привода)
B10: до 250 кг, Инт. 50 циклов/час, скорость до 0,4 м/с, ВЫСОКОРОСТНОЙ | C10: КОМПЛЕКТ | D10: RB250HSBDKCE | F10: RB250HS | G10: =VLOOKUP(F10,'Общий прайс лист'!A:B,2,FALSE) -> Привод для откатных ворот RB250HS | H10: 1 | I10: =VLOOKUP(F10,'Общий прайс лист'!A:D,4,FALSE) -> 59900 | J10: =VLOOKUP(D10,'Общий прайс лист'!A:D,4,FALSE) -> 69900
F11: OXIBD | G11: =VLOOKUP(F11,'Общий прайс лист'!A:B,2,FALSE) -> Приемник OXIBD с обратной связью | H11: 1 | I11: =VLOOKUP(F11,'Общий прайс лист'!A:D,4,FALSE) -> 9490
F12: INTI2R | G12: Пульт управления INTI2R (цвет красный) | H12: 2
F13: EPMB | G13: =VLOOKUP(F13,'Общий прайс лист'!A:B,2,FALSE) -> Фотоэлементы Medium BlueBus EPMB | H13: 1 | I13: =VLOOKUP(F13,'Общий прайс лист'!A:D,4,FALSE) -> 6900
F14: ELDC | G14: =VLOOKUP(F14,'Общий прайс лист'!A:B,2,FALSE) -> Лампа сигнальная с антенной 12В/24В ELDC | H14: 1 | I14: =VLOOKUP(F14,'Общий прайс лист'!A:D,4,FALSE) -> 5900
B15: Рекомендуемые дополнительные аксессуары → | F15: EDSWG | G15: =VLOOKUP(F15,'Общий прайс лист'!A:B,2,FALSE) -> Цифровой переключатель FLOR EDSW | I15: =VLOOKUP(F15,'Общий прайс лист'!A:D,4,FALSE) -> 14900
F16: EPMORB | G16: =VLOOKUP(F16,'Общий прайс лист'!A:B,2,FALSE) -> Фотоэлементы с зеркально-линзовым объективом BlueBus | I16: =VLOOKUP(F16,'Общий прайс лист'!A:D,4,FALSE) -> 9900
F17: RBA1 | G17: =VLOOKUP(F17,'Общий прайс лист'!A:B,2,FALSE) -> Индуктивный датчик RBA1 | I17: =VLOOKUP(F17,'Общий прайс лист'!A:D,4,FALSE) -> 9490
F18: PS124/PSS124 | G18: Аккумуляторная батарея (в зависимости от модификации привода)
A19: ROBUS HI-SPEED | B19: до 600 кг, Инт. 40 циклов/час, скорость до 0,44 м/с, ВЫСОКОРОСТНОЙ | C19: КОМПЛЕКТ | D19: RBS600HSBDKLT | F19: RBS600HS | G19: Привод RBS600HS | H19: 1 | J19: =VLOOKUP(D19,'Общий прайс лист'!A:D,4,FALSE) -> 64900
F20: MYGO4 | G20: Пульт управления MYGO4 | H20: 2
B21: Рекомендуемые дополнительные аксессуары → | F21: EDSWG | G21: =VLOOKUP(F21,'Общий прайс лист'!A:B,2,FALSE) -> Цифровой переключатель FLOR EDSW | I21: =VLOOKUP(F21,'Общий прайс лист'!A:D,4,FALSE) -> 14900
F22: EPMORB | G22: =VLOOKUP(F22,'Общий прайс лист'!A:B,2,FALSE) -> Фотоэлементы с зеркально-линзовым объективом BlueBus | I22: =VLOOKUP(F22,'Общий прайс лист'!A:D,4,FALSE) -> 9900
F23: RBA1 | G23: =VLOOKUP(F23,'Общий прайс лист'!A:B,2,FALSE) -> Индуктивный датчик RBA1 | I23: =VLOOKUP(F23,'Общий прайс лист'!A:D,4,FALSE) -> 9490
F24: PS124/PSS124 | G24: Аккумуляторная батарея (в зависимости от модификации привода)
B25: до 600 кг, Инт. 40 циклов/час, скорость до 0,44 м/с, ВЫСОКОРОСТНОЙ | C25: КОМПЛЕКТ | D25: RBS600HSBDKCE | F25: RBS600HS | G25: Привод RBS600HS | H25: 1 | J25: =VLOOKUP(D25,'Общий прайс лист'!A:D,4,FALSE) -> 74900
F26: MYGO4 | G26: Пульт управления MYGO4 | H26: 2
F27: EPMB | G27: =VLOOKUP(F27,'Общий прайс лист'!A:B,2,FALSE) -> Фотоэлементы Medium BlueBus EPMB | H27: 1 | I27: =VLOOKUP(F27,'Общий прайс лист'!A:D,4,FALSE) -> 6900
F28: ELDC | G28: =VLOOKUP(F28,'Общий прайс лист'!A:B,2,FALSE) -> Лампа сигнальная с антенной 12В/24В ELDC | H28: 1 | I28: =VLOOKUP(F28,'Общий прайс лист'!A:D,4,FALSE) -> 5900
B29: Рекомендуемые дополнительные аксессуары → | F29: EDSWG | G29: =VLOOKUP(F29,'Общий прайс лист'!A:B,2,FALSE) -> Цифровой переключатель FLOR EDSW | I29: =VLOOKUP(F29,'Общий прайс лист'!A:D,4,FALSE) -> 14900
F30: EPMORB | G30: =VLOOKUP(F30,'Общий прайс лист'!A:B,2,FALSE) -> Фотоэлементы с зеркально-линзовым объективом BlueBus | I30: =VLOOKUP(F30,'Общий прайс лист'!A:D,4,FALSE) -> 9900
F31: RBA1 | G31: =VLOOKUP(F31,'Общий прайс лист'!A:B,2,FALSE) -> Индуктивный датчик RBA1 | I31: =VLOOKUP(F31,'Общий прайс лист'!A:D,4,FALSE) -> 9490
F32: PS124/PSS124 | G32: Аккумуляторная батарея (в зависимости от модификации привода)
B33: до 1200 кг, Инт. 60 циклов/час, скорость до 0,37 м/с, ВЫСОКОРОСТНОЙ | C33: КОМПЛЕКТ | D33: RUN1200HSBDKLT | F33: RUN1200HS | G33: =VLOOKUP(F33,'Общий прайс лист'!A:B,2,FALSE) -> Привод для откатных ворот RUN1200HS | H33: 1 | I33: =VLOOKUP(F33,'Общий прайс лист'!A:D,4,FALSE) -> 106900 | J33: =VLOOKUP(D33,'Общий прайс лист'!A:D,4,FALSE) -> 106900
F34: OXIBD | G34: =VLOOKUP(F34,'Общий прайс лист'!A:B,2,FALSE) -> Приемник OXIBD с обратной связью | H34: 1 | I34: =VLOOKUP(F34,'Общий прайс лист'!A:D,4,FALSE) -> 9490
F35: INTI2R | G35: Пульт управления INTI2R (цвет красный) | H35: 2
B36: Рекомендуемые дополнительные аксессуары → | F36: EDSWG | G36: =VLOOKUP(F36,'Общий прайс лист'!A:B,2,FALSE) -> Цифровой переключатель FLOR EDSW | I36: =VLOOKUP(F36,'Общий прайс лист'!A:D,4,FALSE) -> 14900
F37: EPMORB | G37: =VLOOKUP(F37,'Общий прайс лист'!A:B,2,FALSE) -> Фотоэлементы с зеркально-линзовым объективом BlueBus | I37: =VLOOKUP(F37,'Общий прайс лист'!A:D,4,FALSE) -> 9900
B38: до 1200 кг, Инт. 60 циклов/час, скорость до 0,37 м/с, ВЫСОКОРОСТНОЙ | C38: КОМПЛЕКТ | D38: RUN1200HSBDKCE | F38: RUN1200HS | G38: =VLOOKUP(F38,'Общий прайс лист'!A:B,2,FALSE) -> Привод для откатных ворот RUN1200HS | H38: 1 | I38: =VLOOKUP(F38,'Общий прайс лист'!A:D,4,FALSE) -> 106900 | J38: =VLOOKUP(D38,'Общий прайс лист'!A:D,4,FALSE) -> 116900
F39: OXIBD | G39: =VLOOKUP(F39,'Общий прайс лист'!A:B,2,FALSE) -> Приемник OXIBD с обратной связью | H39: 1 | I39: =VLOOKUP(F39,'Общий прайс лист'!A:D,4,FALSE) -> 9490
F40: INTI2R | G40: Пульт управления INTI2R (цвет красный) | H40: 2
...

Sheet Компл. авт. для распашных ворот
A1: Серия | B1: ОСНОВНЫЕ ХАРАКТЕРИСТИКИ | C1: Артикулы для заказа | G1: Описание | H1: Кол-во | I1: Розн. Цена за шт. | J1: Розн. Цена за комплекты | L1: Оглавление
A3: WINGO | B3: до 400кг или до 2 м инт. 50%, режим калитки инт. 50% | C3: КОМПЛЕКТЫ | D3: WINGO2024KCE | F3: WG4024 | G3: =VLOOKUP(F3,'Общий прайс лист'!A:B,2,FALSE) -> Привод для распашных ворот WG4024 | H3: 2 | I3: =VLOOKUP(F3,'Общий прайс лист'!A:D,4,FALSE) -> 38900 | J3: =VLOOKUP(D3,'Общий прайс лист'!A:D,4,FALSE) -> 59900
F4: MC424L | G4: =VLOOKUP(F4,'Общий прайс лист'!A:B,2,FALSE) -> Блок управления MC424L, встроенный радиоприемник на 100 пультов, SM-разъем | H4: 1 | I4: =VLOOKUP(F4,'Общий прайс лист'!A:D,4,FALSE) -> 32490
F5: INTI2 | G5: Пульт управления INTI2 (цвет чёрный) | H5: 2
D6: WINGO4024BDKCE | F6: WG4024 | G6: =VLOOKUP(F6,'Общий прайс лист'!A:B,2,FALSE) -> Привод для распашных ворот WG4024 | H6: 2 | I6: =VLOOKUP(F6,'Общий прайс лист'!A:D,4,FALSE) -> 38900 | J6: =VLOOKUP(D6,'Общий прайс лист'!A:D,4,FALSE) -> 69900
F7: MC424L | G7: =VLOOKUP(F7,'Общий прайс лист'!A:B,2,FALSE) -> Блок управления MC424L, встроенный радиоприемник на 100 пультов, SM-разъем | H7: 1 | I7: =VLOOKUP(F7,'Общий прайс лист'!A:D,4,FALSE) -> 32490
F8: INTI2 | G8: Пульт управления INTI2 (цвет чёрный) | H8: 2
F9: OXIBD | G9: =VLOOKUP(F9,'Общий прайс лист'!A:B,2,FALSE) -> Приемник OXIBD с обратной связью | H9: 1 | I9: =VLOOKUP(F9,'Общий прайс лист'!A:D,4,FALSE) -> 9490
F10: EPM | G10: =VLOOKUP(F10,'Общий прайс лист'!A:B,2,FALSE) -> Фотоэлементы Medium EPM | H10: 1 | I10: =VLOOKUP(F10,'Общий прайс лист'!A:D,4,FALSE) -> 6900
F11: ELDC | G11: =VLOOKUP(F11,'Общий прайс лист'!A:B,2,FALSE) -> Лампа сигнальная с антенной 12В/24В ELDC | H11: 1 | I11: =VLOOKUP(F11,'Общий прайс лист'!A:D,4,FALSE) -> 5900
B12: Рекомендуемые дополнительные аксессуары → | F12: PLA10 | G12: =VLOOKUP(F12,'Общий прайс лист'!A:B,2,FALSE) -> Электромеханический замок вертикальный, 12В PLA10 | I12: =VLOOKUP(F12,'Общий прайс лист'!A:D,4,FALSE) -> 20900
F13: PLA11 | G13: =VLOOKUP(F13,'Общий прайс лист'!A:B,2,FALSE) -> Электромеханический замок горизонтальный, 12В PLA11 | I13: =VLOOKUP(F13,'Общий прайс лист'!A:D,4,FALSE) -> 20900
F14: EDSWG | G14: =VLOOKUP(F14,'Общий прайс лист'!A:B,2,FALSE) -> Цифровой переключатель FLOR EDSW | I14: =VLOOKUP(F14,'Общий прайс лист'!A:D,4,FALSE) -> 14900
F15: EPMOR | G15: =VLOOKUP(F15,'Общий прайс лист'!A:B,2,FALSE) -> Фотоэлементы с зеркально-линзовым объективом | I15: =VLOOKUP(F15,'Общий прайс лист'!A:D,4,FALSE) -> 9900
F16: PS124/PSS124 | G16: Аккумуляторная батарея (в зависимости от модификации привода)
B17: до 500кг или до 3,5 м инт. 50%, режим калитки инт. 50% | C17: КОМПЛЕКТЫ | D17: WINGO3524KCE | F17: WG5024 | G17: =VLOOKUP(F17,'Общий прайс лист'!A:B,2,FALSE) -> Привод для распашных ворот WG5024 | H17: 2 | I17: =VLOOKUP(F17,'Общий прайс лист'!A:D,4,FALSE) -> 38900 | J17: =VLOOKUP(D17,'Общий прайс лист'!A:D,4,FALSE) -> 69900
F18: MC424L | G18: =VLOOKUP(F18,'Общий прайс лист'!A:B,2,FALSE) -> Блок управления MC424L, встроенный радиоприемник на 100 пультов, SM-разъем | H18: 1 | I18: =VLOOKUP(F18,'Общий прайс лист'!A:D,4,FALSE) -> 32490
F19: INTI2 | G19: Пульт управления INTI2 (цвет чёрный) | H19: 2
D20: WINGO5024BDKCE | F20: WG5024 | G20: =VLOOKUP(F20,'Общий прайс лист'!A:B,2,FALSE) -> Привод для распашных ворот WG5024 | H20: 2 | I20: =VLOOKUP(F20,'Общий прайс лист'!A:D,4,FALSE) -> 38900 | J20: =VLOOKUP(D20,'Общий прайс лист'!A:D,4,FALSE) -> 79900
F21: MC424L | G21: =VLOOKUP(F21,'Общий прайс лист'!A:B,2,FALSE) -> Блок управления MC424L, встроенный радиоприемник на 100 пультов, SM-разъем | H21: 1 | I21: =VLOOKUP(F21,'Общий прайс лист'!A:D,4,FALSE) -> 32490
F22: INTI2 | G22: Пульт управления INTI2 (цвет чёрный) | H22: 2
F23: OXIBD | G23: =VLOOKUP(F23,'Общий прайс лист'!A:B,2,FALSE) -> Приемник OXIBD с обратной связью | H23: 1 | I23: =VLOOKUP(F23,'Общий прайс лист'!A:D,4,FALSE) -> 9490
F24: EPM | G24: =VLOOKUP(F24,'Общий прайс лист'!A:B,2,FALSE) -> Фотоэлементы Medium EPM | H24: 1 | I24: =VLOOKUP(F24,'Общий прайс лист'!A:D,4,FALSE) -> 6900
F25: ELDC | G25: =VLOOKUP(F25,'Общий прайс лист'!A:B,2,FALSE) -> Лампа сигнальная с антенной 12В/24В ELDC | H25: 1 | I25: =VLOOKUP(F25,'Общий прайс лист'!A:D,4,FALSE) -> 5900
B26: Рекомендуемые дополнительные аксессуары → | F26: PLA10 | G26: =VLOOKUP(F26,'Общий прайс лист'!A:B,2,FALSE) -> Электромеханический замок вертикальный, 12В PLA10 | I26: =VLOOKUP(F26,'Общий прайс лист'!A:D,4,FALSE) -> 20900
F27: PLA11 | G27: =VLOOKUP(F27,'Общий прайс лист'!A:B,2,FALSE) -> Электромеханический замок горизонтальный, 12В PLA11 | I27: =VLOOKUP(F27,'Общий прайс лист'!A:D,4,FALSE) -> 20900
F28: EDSWG | G28: =VLOOKUP(F28,'Общий прайс лист'!A:B,2,FALSE) -> Цифровой переключатель FLOR EDSW | I28: =VLOOKUP(F28,'Общий прайс лист'!A:D,4,FALSE) -> 14900
F29: EPMOR | G29: =VLOOKUP(F29,'Общий прайс лист'!A:B,2,FALSE) -> Фотоэлементы с зеркально-линзовым объективом | I29: =VLOOKUP(F29,'Общий прайс лист'!A:D,4,FALSE) -> 9900
F30: PS124/PSS124 | G30: Аккумуляторная батарея (в зависимости от модификации привода)
A31: WINGO HI-SPEED | B31: до 200кг или до 3 м. инт. 30 циклов/час, ВЫСОКОРОСТНОЙ, открытие на 90 градусов за 10 секунд! | C31: КОМПЛЕКТ | D31: WG3524HSBDKCE | E31: WG3524HSBDKLT | F31: WG3524HS | G31: =VLOOKUP(F31,'Общий прайс лист'!A:B,2,FALSE) -> Привод для распашных ворот WG3524HS | H31: 2 | I31: =VLOOKUP(F31,'Общий прайс лист'!A:D,4,FALSE) -> 38900 | J31: =VLOOKUP(E31,'Общий прайс лист'!A:D,4,FALSE) -> 69900 | K31: =VLOOKUP(D31,'Общий прайс лист'!A:D,4,FALSE) -> 79900
F32: MC824H | G32: =VLOOKUP(F32,'Общий прайс лист'!A:B,2,FALSE) -> Блок управления MC824H | H32: 1 | I32: =VLOOKUP(F32,'Общий прайс лист'!A:D,4,FALSE) -> 32490
F33: OXIBD | G33: =VLOOKUP(F33,'Общий прайс лист'!A:B,2,FALSE) -> Приемник OXIBD с обратной связью | H33: 1 | I33: =VLOOKUP(F33,'Общий прайс лист'!A:D,4,FALSE) -> 9490
F34: INTI2R | G34: Пульт управления INTI2R (цвет красный) | H34: 2
F35: EPMB | G35: =VLOOKUP(F35,'Общий прайс лист'!A:B,2,FALSE) -> Фотоэлементы Medium BlueBus EPMB | H35: 1 | I35: =VLOOKUP(F35,'Общий прайс лист'!A:D,4,FALSE) -> 6900
F36: ELDC | G36: =VLOOKUP(F36,'Общий прайс лист'!A:B,2,FALSE) -> Лампа сигнальная с антенной 12В/24В ELDC | H36: 1 | I36: =VLOOKUP(F36,'Общий прайс лист'!A:D,4,FALSE) -> 5900
B37: до 200кг или до 3 м. инт. 30 циклов/час, ВЫСОКОРОСТНОЙ, открытие на 90 градусов за 10 секунд! | C37: КОМПЛЕКТ | D37: WG3524HSON3KCE | E37: WG3524HSON3KLT | F37: WG3524HS | G37: =VLOOKUP(F37,'Общий прайс лист'!A:B,2,FALSE) -> Привод для распашных ворот WG3524HS | H37: 2 | I37: =VLOOKUP(F37,'Общий прайс лист'!A:D,4,FALSE) -> 38900 | J37: =VLOOKUP(E37,'Общий прайс лист'!A:D,4,FALSE) -> 64900 | K37: =VLOOKUP(D37,'Общий прайс лист'!A:D,4,FALSE) -> 74900
F38: MC824H | G38: =VLOOKUP(F38,'Общий прайс лист'!A:B,2,FALSE) -> Блок управления MC824H | H38: 1 | I38: =VLOOKUP(F38,'Общий прайс лист'!A:D,4,FALSE) -> 32490
F39: OXIBD | G39: =VLOOKUP(F39,'Общий прайс лист'!A:B,2,FALSE) -> Приемник OXIBD с обратной связью | H39: 1 | I39: =VLOOKUP(F39,'Общий прайс лист'!A:D,4,FALSE) -> 9490
F40: ON3EBD | G40: Пульт управления ON3EBD | H40: 2
F41: EPMB | G41: =VLOOKUP(F41,'Общий прайс лист'!A:B,2,FALSE) -> Фотоэлементы Medium BlueBus EPMB | H41: 1 | I41: =VLOOKUP(F41,'Общий прайс лист'!A:D,4,FALSE) -> 6900
...

Sheet Компл. авт. для откатных ворот
A1: Серия | B1: ОСНОВНЫЕ ХАРАКТЕРИСТИКИ | C1: Артикулы для заказа | I1: Описание | J1: Кол-во | K1: Розн. Цена за шт. | L1: Розн. Цена за комплекты | P1: Оглавление
A2: SLIGHT | B2: до 400 кг., Инт. 35 циклов/час, Скорость 0,34м/сек | C2: КОМПЛЕКТ | D2: SLH400BDKCE | H2: SLH400 | I2: Привод для откатных ворот SLH400 | J2: 1 | L2: =VLOOKUP(D2,'Общий прайс лист'!A:D,4,FALSE) -> 59900
H3: OXIBD | I3: =VLOOKUP(H3,'Общий прайс лист'!A:B,2,FALSE) -> Приемник OXIBD с обратной связью | J3: 1 | K3: =VLOOKUP(H3,'Общий прайс лист'!A:D,4,FALSE) -> 9490
H4: ELDC | I4: =VLOOKUP(H4,'Общий прайс лист'!$A$5:$D$310,2,FALSE) -> Лампа сигнальная с антенной 12В/24В ELDC | J4: 1 | K4: =VLOOKUP(H4,'Общий прайс лист'!A:D,4,FALSE) -> 5900
H5: MYGO4 | I5: Пульт управления MYGO | J5: 2
H6: EPMB | I6: =VLOOKUP(H6,'Общий прайс лист'!$A$5:$D$310,2,FALSE) -> Фотоэлементы Medium BlueBus EPMB | J6: 1 | K6: =VLOOKUP(H6,'Общий прайс лист'!A:D,4,FALSE) -> 6900
H7: EPMORB | I7: =VLOOKUP(H7,'Общий прайс лист'!$A$5:$D$310,2,FALSE) -> Фотоэлементы с зеркально-линзовым объективом BlueBus | K7: =VLOOKUP(H7,'Общий прайс лист'!A:D,4,FALSE) -> 9900
H8: EDSWG | I8: =VLOOKUP(H8,'Общий прайс лист'!$A$5:$D$310,2,FALSE) -> Цифровой переключатель FLOR EDSW | K8: =VLOOKUP(H8,'Общий прайс лист'!A:D,4,FALSE) -> 14900
H9: PS124/PSS124 | I9: Аккумуляторная батарея (в зависимости от модификации привода)
A10: ROAD | B10: до 400кг, Инт. 20 циклов/час, Скорость 0,25м/сек | C10: КОМПЛЕКТЫ | D10: RD400KCE | H10: RD400 | I10: Привод RD400 | J10: 1 | L10: =VLOOKUP(D10,'Общий прайс лист'!A:D,4,FALSE) -> 35900
H11: INTI2 | I11: Пульт управления INTI2 (цвет чёрный) | J11: 2
D12: RD400KIT2 | H12: RD400 | I12: Привод для откатных ворот RD400 | J12: 1 | L12: =VLOOKUP(D12,'Общий прайс лист'!A:D,4,FALSE) -> 45900
H13: INTI2 | I13: Пульт управления INTI2 (цвет чёрный) | J13: 2
H14: EPM | I14: =VLOOKUP(H14,'Общий прайс лист'!$A$5:$D$310,2,FALSE) -> Фотоэлементы Medium EPM | J14: 1 | K14: =VLOOKUP(H14,'Общий прайс лист'!A:D,4,FALSE) -> 6900
H15: ELDC | I15: =VLOOKUP(H15,'Общий прайс лист'!$A$5:$D$310,2,FALSE) -> Лампа сигнальная с антенной 12В/24В ELDC | J15: 1 | K15: =VLOOKUP(H15,'Общий прайс лист'!A:D,4,FALSE) -> 5900
H16: EPMOR | I16: =VLOOKUP(H16,'Общий прайс лист'!$A$5:$D$310,2,FALSE) -> Фотоэлементы с зеркально-линзовым объективом | K16: =VLOOKUP(H16,'Общий прайс лист'!A:D,4,FALSE) -> 9900
H17: EDSWG | I17: =VLOOKUP(H17,'Общий прайс лист'!$A$5:$D$310,2,FALSE) -> Цифровой переключатель FLOR EDSW | K17: =VLOOKUP(H17,'Общий прайс лист'!A:D,4,FALSE) -> 14900
A19: ROBO | B19: до 600кг, Инт. 20 циклов/час, Скорость 0,18м/сек | C19: КОМПЛЕКТЫ | D19: RO600KCE | E19: RO600KLT | H19: RO600 | I19: Привод для откатных ворот RO600 | J19: 1 | L19: =VLOOKUP(E19,'Общий прайс лист'!A:D,4,FALSE) -> 35900 | N19: =VLOOKUP(D19,'Общий прайс лист'!A:D,4,FALSE) -> 45900
H20: INTI2 | I20: Пульт управления INTI2 (цвет чёрный) | J20: 2
H21: EPM | I21: =VLOOKUP(H21,'Общий прайс лист'!$A$5:$D$310,2,FALSE) -> Фотоэлементы Medium EPM | J21: 1 | K21: =VLOOKUP(H21,'Общий прайс лист'!A:D,4,FALSE) -> 6900
H22: ELAC | I22: =VLOOKUP(H22,'Общий прайс лист'!$A$5:$D$310,2,FALSE) -> Лампа сигнальная с антенной, 230В ELAC | J22: 1 | K22: =VLOOKUP(H22,'Общий прайс лист'!A:D,4,FALSE) -> 5900
B23: Рекомендуемые дополнительные аксессуары → | H23: EDSWG | I23: =VLOOKUP(H23,'Общий прайс лист'!$A$5:$D$310,2,FALSE) -> Цифровой переключатель FLOR EDSW | K23: =VLOOKUP(H23,'Общий прайс лист'!A:D,4,FALSE) -> 14900
H24: EPMOR | I24: =VLOOKUP(H24,'Общий прайс лист'!$A$5:$D$310,2,FALSE) -> Фотоэлементы с зеркально-линзовым объективом | K24: =VLOOKUP(H24,'Общий прайс лист'!A:D,4,FALSE) -> 9900
B25: до 1000кг, Инт. 16 циклов/час, Скорость 0,17м/сек | C25: КОМПЛЕКТЫ | D25: RO1000KCE | E25: RO1000KLT | H25: RO1000 | I25: Привод для откатных ворот RO1000 | J25: 1 | L25: =VLOOKUP(E25,'Общий прайс лист'!A:D,4,FALSE) -> 46900 | N25: =VLOOKUP(D25,'Общий прайс лист'!A:D,4,FALSE) -> 56900
H26: INTI2 | I26: Пульт управления INTI2 (цвет чёрный) | J26: 2
H27: EPM | I27: =VLOOKUP(H27,'Общий прайс лист'!$A$5:$D$310,2,FALSE) -> Фотоэлементы Medium EPM | J27: 1 | K27: =VLOOKUP(H27,'Общий прайс лист'!A:D,4,FALSE) -> 6900
H28: ELAC | I28: =VLOOKUP(H28,'Общий прайс лист'!$A$5:$D$310,2,FALSE) -> Лампа сигнальная с антенной, 230В ELAC | J28: 1 | K28: =VLOOKUP(H28,'Общий прайс лист'!A:D,4,FALSE) -> 5900
B29: Рекомендуемые дополнительные аксессуары → | H29: EDSWG | I29: =VLOOKUP(H29,'Общий прайс лист'!$A$5:$D$310,2,FALSE) -> Цифровой переключатель FLOR EDSW | K29: =VLOOKUP(H29,'Общий прайс лист'!A:D,4,FALSE) -> 14900
H30: EPMOR | I30: =VLOOKUP(H30,'Общий прайс лист'!$A$5:$D$310,2,FALSE) -> Фотоэлементы с зеркально-линзовым объективом | K30: =VLOOKUP(H30,'Общий прайс лист'!A:D,4,FALSE) -> 9900
B31: до 1500кг, Инт. 22 циклов/час, Скорость 0,17м/сек | C31: КОМПЛЕКТЫ | D31: RO1500KCE | E31: RO1500KLT | H31: RO1500 | I31: Привод для откатных ворот RO1500 | J31: 1 | L31: =VLOOKUP(E31,'Общий прайс лист'!A:D,4,FALSE) -> 56900 | N31: =VLOOKUP(D31,'Общий прайс лист'!A:D,4,FALSE) -> 66900
H32: INTI2 | I32: Пульт управления INTI2 (цвет чёрный) | J32: 2
H33: EPM | I33: =VLOOKUP(H33,'Общий прайс лист'!$A$5:$D$310,2,FALSE) -> Фотоэлементы Medium EPM | J33: 1 | K33: =VLOOKUP(H33,'Общий прайс лист'!A:D,4,FALSE) -> 6900
H34: ELAC | I34: =VLOOKUP(H34,'Общий прайс лист'!$A$5:$D$310,2,FALSE) -> Лампа сигнальная с антенной, 230В ELAC | J34: 1 | K34: =VLOOKUP(H34,'Общий прайс лист'!A:D,4,FALSE) -> 5900
B35: Рекомендуемые дополнительные аксессуары → | H35: EDSWG | I35: =VLOOKUP(H35,'Общий прайс лист'!$A$5:$D$310,2,FALSE) -> Цифровой переключатель FLOR EDSW | K35: =VLOOKUP(H35,'Общий прайс лист'!A:D,4,FALSE) -> 14900
H36: EPMOR | I36: =VLOOKUP(H36,'Общий прайс лист'!$A$5:$D$310,2,FALSE) -> Фотоэлементы с зеркально-линзовым объективом | K36: =VLOOKUP(H36,'Общий прайс лист'!A:D,4,FALSE) -> 9900
H37: EDSWG | I37: =VLOOKUP(H37,'Общий прайс лист'!$A$5:$D$310,2,FALSE) -> Цифровой переключатель FLOR EDSW | K37: =VLOOKUP(H37,'Общий прайс лист'!A:D,4,FALSE) -> 14900
H38: EPMOR | I38: =VLOOKUP(H38,'Общий прайс лист'!$A$5:$D$310,2,FALSE) -> Фотоэлементы с зеркально-линзовым объективом | K38: =VLOOKUP(H38,'Общий прайс лист'!A:D,4,FALSE) -> 9900
A39: ROBUS HI-SPEED | B39: до 250 кг, Инт. 50 циклов/час, скорость до 0,4 м/с, ВЫСОКОРОСТНОЙ | C39: КОМПЛЕКТ | D39: RB250HSBDKLT | H39: RB250HS | I39: =VLOOKUP(H39,'Общий прайс лист'!$A$5:$D$310,2,FALSE) -> Привод для откатных ворот RB250HS | J39: 1 | K39: =VLOOKUP(H39,'Общий прайс лист'!A:D,4,FALSE) -> 59900 | L39: =VLOOKUP(D39,'Общий прайс лист'!A:D,4,FALSE) -> 59900
H40: OXIBD | I40: =VLOOKUP(H40,'Общий прайс лист'!A:B,2,FALSE) -> Приемник OXIBD с обратной связью | J40: 1 | K40: =VLOOKUP(H40,'Общий прайс лист'!A:D,4,FALSE) -> 9490
H41: INTI2R | I41: Пульт управления INTI2R (цвет красный) | J41: 2
...

Sheet Компл. шлагбаумов
A1: Серия | B1: ШИРИНА ПРОЕЗДА | C1: ОСНОВНЫЕ ХАРАКТЕРИСТИКИ | E1: Артикулы для заказа | I1: Описание | J1: Кол-во | K1: Розн. Цена за шт. | L1: Розн. Цена за комплекты | O1: Оглавление
A2: WIDE S | B2: 4 метра | C2: Для проезда до до 4 метров, Скорость от 3,5 с. Инт. До 100 циклов/час | D2: КОМПЛЕКТЫ | E2: WIDES4KIT2 | G2: WIDES4KIT | H2: WIDES | I2: =VLOOKUP(H2,'Общий прайс лист'!A:B,2,FALSE) -> Тумба шлагбаума со встроенным радиоприемником WIDES | J2: 1 | K2: =VLOOKUP(H2,'Общий прайс лист'!A:D,4,FALSE) -> 86900 | L2: =VLOOKUP(G2,'Общий прайс лист'!A:D,4,FALSE) -> 96900 | M2: =VLOOKUP(E2,'Общий прайс лист'!A:D,4,FALSE) -> 106900
H3: XBA19-4RU | I3: =VLOOKUP(H3,'Общий прайс лист'!A:B,2,FALSE) -> Рейка шлагбаумная 45x58x4200мм XBA19-4RU | J3: 1 | K3: =VLOOKUP(H3,'Общий прайс лист'!A:D,4,FALSE) -> 16900
H4: XBA13 | I4: =VLOOKUP(H4,'Общий прайс лист'!A:B,2,FALSE) -> Демпфер XBA13 | J4: 1 | K4: =VLOOKUP(H4,'Общий прайс лист'!A:D,4,FALSE) -> 16900
H5: NK1 | I5: =VLOOKUP(H5,'Общий прайс лист'!A:B,2,FALSE) -> Наклейки светоотражающие (комплект) NK1 | J5: 1 | K5: =VLOOKUP(H5,'Общий прайс лист'!A:D,4,FALSE) -> 1060
H6: ELDC | I6: =VLOOKUP(H6,'Общий прайс лист'!A:B,2,FALSE) -> Лампа сигнальная с антенной 12В/24В ELDC | J6: 1 | K6: =VLOOKUP(H6,'Общий прайс лист'!A:D,4,FALSE) -> 5900
H7: EPM | I7: =VLOOKUP(H7,'Общий прайс лист'!A:B,2,FALSE) -> Фотоэлементы Medium EPM | J7: 1 | K7: =VLOOKUP(H7,'Общий прайс лист'!A:D,4,FALSE) -> 6900
C8: Рекомендуемые дополнительные аксессуары → | H8: PS324 | I8: =VLOOKUP(H8,'Общий прайс лист'!A:B,2,FALSE) -> Аккумуляторная батарея PS324 | K8: =VLOOKUP(H8,'Общий прайс лист'!A:D,4,FALSE) -> 14900
H9: XBA4 | I9: =VLOOKUP(H9,'Общий прайс лист'!A:B,2,FALSE) -> Светодиоды сигнальные белые, 4м XBA4 | K9: =VLOOKUP(H9,'Общий прайс лист'!A:D,4,FALSE) -> 16900
H10: EPMOR | I10: =VLOOKUP(H10,'Общий прайс лист'!A:B,2,FALSE) -> Фотоэлементы с зеркально-линзовым объективом | K10: =VLOOKUP(H10,'Общий прайс лист'!A:D,4,FALSE) -> 9900
H11: EDSWG | I11: =VLOOKUP(H11,'Общий прайс лист'!A:B,2,FALSE) -> Цифровой переключатель FLOR EDSW | K11: =VLOOKUP(H11,'Общий прайс лист'!A:D,4,FALSE) -> 14900
H12: ELDC | I12: =VLOOKUP(H12,'Общий прайс лист'!A:B,2,FALSE) -> Лампа сигнальная с антенной 12В/24В ELDC | K12: =VLOOKUP(H12,'Общий прайс лист'!A:D,4,FALSE) -> 5900
H13: WA11 | I13: =VLOOKUP(H13,'Общий прайс лист'!A:B,2,FALSE) -> Опора стационарная WA11 | K13: =VLOOKUP(H13,'Общий прайс лист'!A:D,4,FALSE) -> 16900
H14: WA12 | I14: =VLOOKUP(H14,'Общий прайс лист'!A:B,2,FALSE) -> Опора подвесная WA12 | K14: =VLOOKUP(H14,'Общий прайс лист'!A:D,4,FALSE) -> 16900
H15: WA13 | I15: =VLOOKUP(H15,'Общий прайс лист'!A:B,2,FALSE) -> Решетка для рейки шлагбаумной WA13 | K15: =VLOOKUP(H15,'Общий прайс лист'!A:D,4,FALSE) -> 16900
A16: WIDE M | B16: 4 метра | C16: Для проезда до 4 метров, Скорость 3-6 сек. Инт. 300 циклов/час | D16: КОМПЛЕКТЫ | E16: WIDEM4KIT2 | G16: WIDEM4KIT | H16: WIDEM | I16: =VLOOKUP(H16,'Общий прайс лист'!A:B,2,FALSE) -> Тумба шлагбаума c радиоприемником WIDEM | J16: 1 | K16: =VLOOKUP(H16,'Общий прайс лист'!A:D,4,FALSE) -> 96900 | L16: =VLOOKUP(G16,'Общий прайс лист'!A:D,4,FALSE) -> 106900 | M16: =VLOOKUP(E16,'Общий прайс лист'!A:D,4,FALSE) -> 116900
H17: XBA19-4RU | I17: =VLOOKUP(H17,'Общий прайс лист'!A:B,2,FALSE) -> Рейка шлагбаумная 45x58x4200мм XBA19-4RU | J17: 1 | K17: =VLOOKUP(H17,'Общий прайс лист'!A:D,4,FALSE) -> 16900
H18: XBA13 | I18: =VLOOKUP(H18,'Общий прайс лист'!A:B,2,FALSE) -> Демпфер XBA13 | J18: 1 | K18: =VLOOKUP(H18,'Общий прайс лист'!A:D,4,FALSE) -> 16900
H19: NK1 | I19: =VLOOKUP(H19,'Общий прайс лист'!A:B,2,FALSE) -> Наклейки светоотражающие (комплект) NK1 | J19: 1 | K19: =VLOOKUP(H19,'Общий прайс лист'!A:D,4,FALSE) -> 1060
H20: ELDC | I20: =VLOOKUP(H20,'Общий прайс лист'!A:B,2,FALSE) -> Лампа сигнальная с антенной 12В/24В ELDC | J20: 1 | K20: =VLOOKUP(H20,'Общий прайс лист'!A:D,4,FALSE) -> 5900
H21: EPM | I21: =VLOOKUP(H21,'Общий прайс лист'!A:B,2,FALSE) -> Фотоэлементы Medium EPM | J21: 1 | K21: =VLOOKUP(H21,'Общий прайс лист'!A:D,4,FALSE) -> 6900
C22: Рекомендуемые дополнительные аксессуары → | H22: PS324 | I22: =VLOOKUP(H22,'Общий прайс лист'!A:B,2,FALSE) -> Аккумуляторная батарея PS324 | K22: =VLOOKUP(H22,'Общий прайс лист'!A:D,4,FALSE) -> 14900
H23: XBA4 | I23: =VLOOKUP(H23,'Общий прайс лист'!A:B,2,FALSE) -> Светодиоды сигнальные белые, 4м XBA4 | K23: =VLOOKUP(H23,'Общий прайс лист'!A:D,4,FALSE) -> 16900
H24: EPMOR | I24: =VLOOKUP(H24,'Общий прайс лист'!A:B,2,FALSE) -> Фотоэлементы с зеркально-линзовым объективом | K24: =VLOOKUP(H24,'Общий прайс лист'!A:D,4,FALSE) -> 9900
H25: EDSWG | I25: =VLOOKUP(H25,'Общий прайс лист'!A:B,2,FALSE) -> Цифровой переключатель FLOR EDSW | K25: =VLOOKUP(H25,'Общий прайс лист'!A:D,4,FALSE) -> 14900
H26: ELDC | I26: =VLOOKUP(H26,'Общий прайс лист'!A:B,2,FALSE) -> Лампа сигнальная с антенной 12В/24В ELDC | K26: =VLOOKUP(H26,'Общий прайс лист'!A:D,4,FALSE) -> 5900
H27: WA11 | I27: =VLOOKUP(H27,'Общий прайс лист'!A:B,2,FALSE) -> Опора стационарная WA11 | K27: =VLOOKUP(H27,'Общий прайс лист'!A:D,4,FALSE) -> 16900
H28: WA12 | I28: =VLOOKUP(H28,'Общий прайс лист'!A:B,2,FALSE) -> Опора подвесная WA12 | K28: =VLOOKUP(H28,'Общий прайс лист'!A:D,4,FALSE) -> 16900
H29: WA13 | I29: =VLOOKUP(H29,'Общий прайс лист'!A:B,2,FALSE) -> Решетка для рейки шлагбаумной WA13 | K29: =VLOOKUP(H29,'Общий прайс лист'!A:D,4,FALSE) -> 16900
A30: WIDE M | B30: 5 метров | C30: Для проезда до 5 метров, Скорость 6-10 сек. Инт. 200 циклов/час | D30: КОМПЛЕКТЫ | E30: WIDEM5KIT2 | G30: WIDEM5KIT | H30: WIDEM | I30: =VLOOKUP(H30,'Общий прайс лист'!A:B,2,FALSE) -> Тумба шлагбаума c радиоприемником WIDEM | J30: 1 | K30: =VLOOKUP(H30,'Общий прайс лист'!A:D,4,FALSE) -> 96900 | L30: =VLOOKUP(G30,'Общий прайс лист'!A:D,4,FALSE) -> 116900 | M30: =VLOOKUP(E30,'Общий прайс лист'!A:D,4,FALSE) -> 126900
H31: XBA19-5RU | I31: =VLOOKUP(H31,'Общий прайс лист'!A:B,2,FALSE) -> Рейка шлагбаумная 45x58x5200мм XBA19-5RU | J31: 1 | K31: =VLOOKUP(H31,'Общий прайс лист'!A:D,4,FALSE) -> 21900
H32: XBA13-10RU | I32: Демпфер XBA13-10RU | J32: 1
H33: NK1 | I33: =VLOOKUP(H33,'Общий прайс лист'!A:B,2,FALSE) -> Наклейки светоотражающие (комплект) NK1 | J33: 1 | K33: =VLOOKUP(H33,'Общий прайс лист'!A:D,4,FALSE) -> 1060
H34: EPM | I34: =VLOOKUP(H34,'Общий прайс лист'!A:B,2,FALSE) -> Фотоэлементы Medium EPM | J34: 1 | K34: =VLOOKUP(H34,'Общий прайс лист'!A:D,4,FALSE) -> 6900
H35: ELDC | I35: =VLOOKUP(H35,'Общий прайс лист'!A:B,2,FALSE) -> Лампа сигнальная с антенной 12В/24В ELDC | J35: 1 | K35: =VLOOKUP(H35,'Общий прайс лист'!A:D,4,FALSE) -> 5900
C36: Рекомендуемые дополнительные аксессуары → | H36: PS324 | I36: =VLOOKUP(H36,'Общий прайс лист'!A:B,2,FALSE) -> Аккумуляторная батарея PS324 | K36: =VLOOKUP(H36,'Общий прайс лист'!A:D,4,FALSE) -> 14900
H37: XBA4 | I37: =VLOOKUP(H37,'Общий прайс лист'!A:B,2,FALSE) -> Светодиоды сигнальные белые, 4м XBA4 | K37: =VLOOKUP(H37,'Общий прайс лист'!A:D,4,FALSE) -> 16900
H38: EPMOR | I38: =VLOOKUP(H38,'Общий прайс лист'!A:B,2,FALSE) -> Фотоэлементы с зеркально-линзовым объективом | K38: =VLOOKUP(H38,'Общий прайс лист'!A:D,4,FALSE) -> 9900
H39: EDSWG | I39: =VLOOKUP(H39,'Общий прайс лист'!A:B,2,FALSE) -> Цифровой переключатель FLOR EDSW | K39: =VLOOKUP(H39,'Общий прайс лист'!A:D,4,FALSE) -> 14900
H40: WA11 | I40: =VLOOKUP(H40,'Общий прайс лист'!A:B,2,FALSE) -> Опора стационарная WA11 | K40: =VLOOKUP(H40,'Общий прайс лист'!A:D,4,FALSE) -> 16900
...

Sheet Компл. авт. для гаражных ворот
A1: Серия | B1: ОСНОВНЫЕ ХАРАКТЕРИСТИКИ | C1: Артикулы для заказа | G1: Описание | H1: Кол-во | I1: Розн. Цена за шт. | J1: Розн. Цена за комплекты | L1: Оглавление
A2: SPIDER | B2: Для ворот площадью до 16,9 м². Инт. 150 циклов/сутки | C2: КОМПЛЕКТ | D2: SPIDERBL16BDWKCE | F2: SPIDER1200BLW | G2: Привод для секционных ворот SPIDER1200BLW | H2: 1 | J2: =VLOOKUP(D2,'Общий прайс лист'!A:D,4,FALSE) -> 67900
F3: SR16B | G3: Потолочная рейка ременная SR16B | H3: 1
F4: MYGO4 | G4: Пульт управления MYGO4 | H4: 2
B5: Для ворот площадью до 11,4 м². Инт. 50 циклов/сутки | C5: КОМПЛЕКТ | D5: SPIDER16BDWKCE | F5: SPIDER800W | G5: Привод для секционных ворот SPIDER800W | H5: 1 | J5: =VLOOKUP(D5,'Общий прайс лист'!A:D,4,FALSE) -> 47900
F6: SR16B | G6: Потолочная рейка ременная SR16B | H6: 1
F7: MYGO4 | G7: Пульт управления MYGO4 | H7: 2
B8: Рекомендуемые дополнительные аксессуары → | F8: ELDC | G8: =VLOOKUP(F8,'Общий прайс лист'!$A$5:$D$310,2,FALSE) -> Лампа сигнальная с антенной 12В/24В ELDC | I8: =VLOOKUP(F8,'Общий прайс лист'!A:D,4,FALSE) -> 5900
F9: EPMOR | G9: =VLOOKUP(F9,'Общий прайс лист'!$A$5:$D$310,2,FALSE) -> Фотоэлементы с зеркально-линзовым объективом | I9: =VLOOKUP(F9,'Общий прайс лист'!A:D,4,FALSE) -> 9900
F10: EPM | G10: =VLOOKUP(F10,'Общий прайс лист'!$A$5:$D$310,2,FALSE) -> Фотоэлементы Medium EPM | I10: =VLOOKUP(F10,'Общий прайс лист'!A:D,4,FALSE) -> 6900
F11: PS124/PSS124 | G11: Аккумуляторная батарея (в зависимости от модификации привода)
F12: SPA2 | G12: =VLOOKUP(F12,'Общий прайс лист'!$A$5:$D$310,2,FALSE) -> Комплект для разблокировки тросом SPA2 | I12: =VLOOKUP(F12,'Общий прайс лист'!A:D,4,FALSE) -> 9900
F13: SR08B | G13: Комплект удлинителя направляющей рейки SR16B на 800 мм | I13: =VLOOKUP(F13,'Общий прайс лист'!A:D,4,FALSE) -> 9900
F14: EDSWG | G14: =VLOOKUP(F14,'Общий прайс лист'!$A$5:$D$310,2,FALSE) -> Цифровой переключатель FLOR EDSW | I14: =VLOOKUP(F14,'Общий прайс лист'!A:D,4,FALSE) -> 14900
A15: SPIDO 600 | B15: К-т для ворот H до 2,6м, S до 9,6 м². Инт. 40 циклов/сутки | C15: КОМПЛЕКТ | D15: SPO32CKCE | F15: SPIDO600 | G15: Привод для секционных ворот SPIDO600 | H15: 1 | J15: =VLOOKUP(D15,'Общий прайс лист'!A:D,4,FALSE) -> 27900
F16: SR32C | G16: Потолочная рейка цепная SR32C | H16: 1
F17: INTI2 | G17: Пульт управления INTI2 (цвет чёрный) | H17: 2
B18: К-т для ворот H до 2,6м, S до 9,6 м². Инт. 40 циклов/сутки | C18: КОМПЛЕКТ | D18: SPO16BKCE | F18: SPIDO600 | G18: Привод для секционных ворот SPIDO600 | H18: 1 | J18: =VLOOKUP(D18,'Общий прайс лист'!A:D,4,FALSE) -> 33900
F19: SR16B | G19: Потолочная рейка ременная SR16B | H19: 1
F20: INTI2 | G20: Пульт управления INTI2 (цвет чёрный) | H20: 2
B21: Рекомендуемые дополнительные аксессуары → | F21: ELDC | G21: =VLOOKUP(F21,'Общий прайс лист'!$A$5:$D$310,2,FALSE) -> Лампа сигнальная с антенной 12В/24В ELDC | I21: =VLOOKUP(F21,'Общий прайс лист'!A:D,4,FALSE) -> 5900
F22: EPMOR | G22: =VLOOKUP(F22,'Общий прайс лист'!$A$5:$D$310,2,FALSE) -> Фотоэлементы с зеркально-линзовым объективом | I22: =VLOOKUP(F22,'Общий прайс лист'!A:D,4,FALSE) -> 9900
F23: EPM | G23: =VLOOKUP(F23,'Общий прайс лист'!$A$5:$D$310,2,FALSE) -> Фотоэлементы Medium EPM | I23: =VLOOKUP(F23,'Общий прайс лист'!A:D,4,FALSE) -> 6900
F24: PS124/PSS124 | G24: Аккумуляторная батарея (в зависимости от модификации привода)
F25: SPA2 | G25: =VLOOKUP(F25,'Общий прайс лист'!$A$5:$D$310,2,FALSE) -> Комплект для разблокировки тросом SPA2 | I25: =VLOOKUP(F25,'Общий прайс лист'!A:D,4,FALSE) -> 9900
F26: EDSWG | G26: =VLOOKUP(F26,'Общий прайс лист'!$A$5:$D$310,2,FALSE) -> Цифровой переключатель FLOR EDSW | I26: =VLOOKUP(F26,'Общий прайс лист'!A:D,4,FALSE) -> 14900
A27: SPIDO1000 | B27: К-т для ворот H до 2,6м, S до 12,7 м². Инт. 100 циклов/сутки | C27: КОМПЛЕКТ | D27: SPO1032CKCE | F27: SPIDO1000 | G27: Привод для секционных ворот SPIDO1000 | H27: 1 | J27: =VLOOKUP(D27,'Общий прайс лист'!A:D,4,FALSE) -> 37900
F28: SR32C | G28: Потолочная цепная рейка 3,2м | H28: 1
F29: INTI2 | G29: Пульт управления INTI2 (цвет чёрный) | H29: 2
B31: Рекомендуемые дополнительные аксессуары → | F31: ELDC | G31: =VLOOKUP(F31,'Общий прайс лист'!$A$5:$D$310,2,FALSE) -> Лампа сигнальная с антенной 12В/24В ELDC | I31: =VLOOKUP(F31,'Общий прайс лист'!A:D,4,FALSE) -> 5900
F32: EPMOR | G32: =VLOOKUP(F32,'Общий прайс лист'!$A$5:$D$310,2,FALSE) -> Фотоэлементы с зеркально-линзовым объективом | I32: =VLOOKUP(F32,'Общий прайс лист'!A:D,4,FALSE) -> 9900
F33: EPM | G33: =VLOOKUP(F33,'Общий прайс лист'!$A$5:$D$310,2,FALSE) -> Фотоэлементы Medium EPM | I33: =VLOOKUP(F33,'Общий прайс лист'!A:D,4,FALSE) -> 6900
F34: PS124/PSS124 | G34: Аккумуляторная батарея (в зависимости от модификации привода)
F35: SPA2 | G35: =VLOOKUP(F35,'Общий прайс лист'!$A$5:$D$310,2,FALSE) -> Комплект для разблокировки тросом SPA2 | I35: =VLOOKUP(F35,'Общий прайс лист'!A:D,4,FALSE) -> 9900
B36: К-т для ворот H до 2,6м, S до 12,7 м². Инт. 100 циклов/сутки | C36: КОМПЛЕКТ | D36: SPO1016BKCE | F36: SPIDO1000 | G36: Привод для секционных ворот SPIDO1000 | H36: 1 | J36: =VLOOKUP(D36,'Общий прайс лист'!A:D,4,FALSE) -> 42900
F37: SR16B | G37: Потолочная ременная двухсоставная рейка 3,2м (2 шт. по 1,6м) | H37: 1
F38: INTI2 | G38: Пульт управления INTI2 (цвет чёрный) | H38: 2
B40: Рекомендуемые дополнительные аксессуары → | F40: ELDC | G40: =VLOOKUP(F40,'Общий прайс лист'!$A$5:$D$310,2,FALSE) -> Лампа сигнальная с антенной 12В/24В ELDC | I40: =VLOOKUP(F40,'Общий прайс лист'!A:D,4,FALSE) -> 5900
F41: EPMOR | G41: =VLOOKUP(F41,'Общий прайс лист'!$A$5:$D$310,2,FALSE) -> Фотоэлементы с зеркально-линзовым объективом | I41: =VLOOKUP(F41,'Общий прайс лист'!A:D,4,FALSE) -> 9900
F42: EPM | G42: =VLOOKUP(F42,'Общий прайс лист'!$A$5:$D$310,2,FALSE) -> Фотоэлементы Medium EPM | I42: =VLOOKUP(F42,'Общий прайс лист'!A:D,4,FALSE) -> 6900
...

Sheet Пульты управления
A1: Артикул комплекта | B1: Пульты в составе комплекта | C1: Кол-во кнопок (радиоканалов) | D1: Кол-во пультов в составе компл., шт | E1: Цена Розница комплекта, руб с НДС | F1: Оглавление
A2: INTI (комплекты из 10 штук)
A3: INTI2GKIT10 | B3: INTI2G | C3: 2 | D3: 10 | E3: =VLOOKUP(A3,'Общий прайс лист'!A:D,4,FALSE) -> 24900
A4: INTI2YKIT10 | B4: INTI2Y | C4: 2 | D4: 10
A5: INTI2KIT10 | B5: INTI2 | C5: 2 | D5: 10
A6: INTI2BKIT10 | B6: INTI2B | C6: 2 | D6: 10
A7: INTI2RKIT10 | B7: INTI2R | C7: 2 | D7: 10
A8: INTI (комплекты из 100 штук)
A9: INTI2GKIT100 | B9: INTI2G | C9: 2 | D9: 100 | E9: =VLOOKUP(A9,'Общий прайс лист'!A:D,4,FALSE) -> 230900
A10: INTI2YKIT100 | B10: INTI2Y | C10: 2 | D10: 100
A11: INTI2KIT100 | B11: INTI2 | C11: 2 | D11: 100
A12: INTIBKIT100 | B12: INTI2B | C12: 2 | D12: 100
A13: INTI2RKIT100 | B13: INTI2R | C13: 2 | D13: 100
A15: INTIRWKIT100 | B15: INTI2G | C15: 2 | D15: 20 | E15: =VLOOKUP(A15,'Общий прайс лист'!A:D,4,FALSE) -> 219900
B16: INTI2Y | C16: 2 | D16: 20
B17: INTI2 | C17: 2 | D17: 20
B18: INTI2B | C18: 2 | D18: 20
B19: INTI2R | C19: 2 | D19: 20
A20: MYGO (комплекты из 10 штук) однонаправленные
A21: MYGO2KIT10 | B21: MYGO2 | C21: 2 | D21: 10 | E21: =VLOOKUP(A21,'Общий прайс лист'!A:D,4,FALSE) -> 24900
A22: MYGO4KIT10 | B22: MYGO4 | C22: 4 | D22: 10 | E22: =VLOOKUP(A22,'Общий прайс лист'!A:D,4,FALSE) -> 26900
A23: MYGO8KIT10 | B23: MYGO8 | C23: 8 | D23: 10 | E23: =VLOOKUP(A23,'Общий прайс лист'!A:D,4,FALSE) -> 28900
A24: MYGO (комплекты из 100 штук) однонаправленные
A25: MYGO2KIT100 | B25: MYGO2 | C25: 2 | D25: 100 | E25: =VLOOKUP(A25,'Общий прайс лист'!A:D,4,FALSE) -> 230900
A26: MYGO4KIT100 | B26: MYGO4 | C26: 4 | D26: 100 | E26: =VLOOKUP(A26,'Общий прайс лист'!A:D,4,FALSE) -> 240900
A27: MYGO8KIT100 | B27: MYGO8 | C27: 8 | D27: 100 | E27: =VLOOKUP(A27,'Общий прайс лист'!A:D,4,FALSE) -> 250900
A28: MYGO (комплекты 100 штук) однонаправленные МИКС
A29: MYGO248KIT100 | B29: MYGO2 | C29: 2 | D29: 60 | E29: =VLOOKUP(A29,'Общий прайс лист'!A:D,4,FALSE) -> 250900
B30: MYGO4 | C30: 4 | D30: 30
B31: MYGO8 | C31: 8 | D31: 10
A32: MYGOBD (комплекты из 10 штук) с обратной связью
A33: MYGO2BDKIT10 | B33: MYGO2BD | C33: 2 | D33: 10 | E33: =VLOOKUP(A33,'Общий прайс лист'!A:D,4,FALSE) -> 29900
A34: MYGO4BDKIT10 | B34: MYGO4BD | C34: 4 | D34: 10 | E34: =VLOOKUP(A34,'Общий прайс лист'!A:D,4,FALSE) -> 31900
A35: MYGO8BDKIT10 | B35: MYGO8BD | C35: 8 | D35: 10 | E35: =VLOOKUP(A35,'Общий прайс лист'!A:D,4,FALSE) -> 33900
A36: MYGOBD (комплекты из 100 штук) с обратной связью
A37: MYGO2BDKIT100 | B37: MYGO2BD | C37: 2 | D37: 100 | E37: =VLOOKUP(A37,'Общий прайс лист'!A:D,4,FALSE) -> 261900
A38: MYGO4BDKIT100 | B38: MYGO4BD | C38: 4 | D38: 100 | E38: =VLOOKUP(A38,'Общий прайс лист'!A:D,4,FALSE) -> 271900
A39: MYGO8BDKIT100 | B39: MYGO8BD | C39: 8 | D39: 100 | E39: =VLOOKUP(A39,'Общий прайс лист'!A:D,4,FALSE) -> 291900
A40: MYGOBD (комплекты из 100 штук) с обратной связью МИКС
A41: MYGO248BDKIT100 | B41: MYGO2BD | C41: 2 | D41: 60 | E41: =VLOOKUP(A41,'Общий прайс лист'!A:D,4,FALSE) -> 271900
...

Sheet Программаторы и радиоприёмники
A1: Артикул для заказа | B1: Описание | C1: Ед. | D1: Розничная цена, руб с НДС | E1: Оглавление
A2: Программаторы и модули радиоуправления
A3: CORE | B3: =VLOOKUP(A3,'Общий прайс лист'!A:B,2,FALSE) -> Nice Wi-Fi радио шлюз, управление со смартфона, 500 каналов CORE | C3: шт | D3: =VLOOKUP(A3,'Общий прайс лист'!A:D,4,FALSE) -> 18900
A4: BIDI-WIFI | B4: =VLOOKUP(A4,'Общий прайс лист'!A:B,2,FALSE) -> Модуль радиоуправления Nice BIDI-WIFI | C4: шт | D4: =VLOOKUP(A4,'Общий прайс лист'!A:D,4,FALSE) -> 11490
A5: BIDI-WiFiKIT5 | B5: =VLOOKUP(A5,'Общий прайс лист'!A:B,2,FALSE) -> Комплект из 5 модулей радиоуправления BiDi-WiFi BIDI-WIFIKIT5 | C5: шт | D5: =VLOOKUP(A5,'Общий прайс лист'!A:D,4,FALSE) -> 51490
A6: IBT4N | B6: =VLOOKUP(A6,'Общий прайс лист'!A:B,2,FALSE) -> Адаптер BUS4T IBT4N | C6: шт | D6: =VLOOKUP(A6,'Общий прайс лист'!A:D,4,FALSE) -> 7490
A7: PROVIEW | B7: =VLOOKUP(A7,'Общий прайс лист'!A:B,2,FALSE) -> Блок программирования, управления и диагностики серия PRO PROVIEW | C7: шт | D7: =VLOOKUP(A7,'Общий прайс лист'!A:D,4,FALSE) -> 35900
A8: Приёмники
A9: OX2UBP | B9: =VLOOKUP(A9,'Общий прайс лист'!A:B,2,FALSE) -> Внешний коннектор для радиоприемников серии OXI OX2 OX2UBP | C9: шт | D9: =VLOOKUP(A9,'Общий прайс лист'!A:D,4,FALSE) -> 7490
A10: OX2 | B10: =VLOOKUP(A10,'Общий прайс лист'!A:B,2,FALSE) -> Приемник OX2 | C10: шт | D10: =VLOOKUP(A10,'Общий прайс лист'!A:D,4,FALSE) -> 9490
A11: OX2KIT10 | B11: =VLOOKUP(A11,'Общий прайс лист'!A:B,2,FALSE) -> Комплект OX2KIT10. Состав комплекта: Приемник OX2 - 10 шт; | C11: компл | D11: =VLOOKUP(A11,'Общий прайс лист'!A:D,4,FALSE) -> 65900
A12: OX2T | B12: =VLOOKUP(A12,'Общий прайс лист'!A:B,2,FALSE) -> Приемник с передатчиком OX2T | C12: шт | D12: =VLOOKUP(A12,'Общий прайс лист'!A:D,4,FALSE) -> 20900
A13: OX4T | B13: =VLOOKUP(A13,'Общий прайс лист'!A:B,2,FALSE) -> Приемник с передатчиком OX4T | C13: шт | D13: =VLOOKUP(A13,'Общий прайс лист'!A:D,4,FALSE) -> 20900
A14: OXIBD | B14: =VLOOKUP(A14,'Общий прайс лист'!A:B,2,FALSE) -> Приемник OXIBD с обратной связью | C14: шт | D14: =VLOOKUP(A14,'Общий прайс лист'!A:D,4,FALSE) -> 9490
A15: OXIBDKIT10 | B15: =VLOOKUP(A15,'Общий прайс лист'!A:B,2,FALSE) -> Комплект OXIBDKIT10. Состав комплекта: Приемник OXIBD - 10 шт; | C15: компл | D15: =VLOOKUP(A15,'Общий прайс лист'!A:D,4,FALSE) -> 65900
A16: OXILR | B16: =VLOOKUP(A16,'Общий прайс лист'!A:B,2,FALSE) -> Приемник OXILR с двухсторонней связью | C16: шт | D16: =VLOOKUP(A16,'Общий прайс лист'!A:D,4,FALSE) -> 9490
A17: OXILRKIT10 | B17: =VLOOKUP(A17,'Общий прайс лист'!A:B,2,FALSE) -> Комплект OXILRKIT10. Состав комплекта: Приемник OXILR - 10 шт; | C17: компл | D17: =VLOOKUP(A17,'Общий прайс лист'!A:D,4,FALSE) -> 77900

Sheet Аксессуары
B1: Артикул для заказа | C1: Описание | D1: Ед. | E1: Розничная цена, руб с НДС | F1: Оглавление
A2: Аксессуары для откатных приводов | B2: RBA1 | C2: =VLOOKUP(B2,'Общий прайс лист'!$A$5:$D$310,2,FALSE) -> Индуктивный датчик RBA1 | D2: шт | E2: =VLOOKUP(B2,'Общий прайс лист'!$A$2:$D$310,4,FALSE) -> 9490
B3: ROA81 | C3: =VLOOKUP(B3,'Общий прайс лист'!$A$5:$D$310,2,FALSE) -> Оцинкованная зубчатая рейка, модуль M6 ROA81 | D3: шт | E3: =VLOOKUP(B3,'Общий прайс лист'!$A$2:$D$310,4,FALSE) -> 9490
B4: RUA12 | C4: =VLOOKUP(B4,'Общий прайс лист'!$A$5:$D$310,2,FALSE) -> 12-ти зубчатый венец M6 RUA12 | D4: шт | E4: =VLOOKUP(B4,'Общий прайс лист'!$A$2:$D$310,4,FALSE) -> 9490
A5: Аксессуары для распашных приводов | B5: BMA1 | C5: =VLOOKUP(B5,'Общий прайс лист'!$A$5:$D$310,2,FALSE) -> Механизм открывания ворот на 360 градусов BMA1 | D5: шт | E5: =VLOOKUP(B5,'Общий прайс лист'!$A$2:$D$310,4,FALSE) -> 20900
B6: BMBOX | C6: =VLOOKUP(B6,'Общий прайс лист'!$A$5:$D$310,2,FALSE) -> Фундаментная коробка BMBOX | D6: шт | E6: =VLOOKUP(B6,'Общий прайс лист'!$A$2:$D$310,4,FALSE) -> 32900
B7: HYA11 | C7: =VLOOKUP(B7,'Общий прайс лист'!$A$5:$D$310,2,FALSE) -> Устройство для разблокировки HYA11 | D7: шт | E7: =VLOOKUP(B7,'Общий прайс лист'!$A$2:$D$310,4,FALSE) -> 5200
B8: HYA12 | C8: =VLOOKUP(B8,'Общий прайс лист'!$A$5:$D$310,2,FALSE) -> Рычаг-удлинитель HYA12 | D8: шт | E8: =VLOOKUP(B8,'Общий прайс лист'!$A$2:$D$310,4,FALSE) -> 20900
B9: MEA1 | C9: =VLOOKUP(B9,'Общий прайс лист'!$A$5:$D$310,2,FALSE) -> Механизм открывания ворот на 360 градусов MEA1 | D9: шт | E9: =VLOOKUP(B9,'Общий прайс лист'!$A$2:$D$310,4,FALSE) -> 20900
B10: MEA2 | C10: =VLOOKUP(B10,'Общий прайс лист'!$A$5:$D$310,2,FALSE) -> Механизм разблокировки MEA2 | D10: шт | E10: =VLOOKUP(B10,'Общий прайс лист'!$A$2:$D$310,4,FALSE) -> 20900
B11: MEA3 | C11: =VLOOKUP(B11,'Общий прайс лист'!$A$5:$D$310,2,FALSE) -> Механизм разблокировки MEA3 | D11: шт | E11: =VLOOKUP(B11,'Общий прайс лист'!$A$2:$D$310,4,FALSE) -> 20900
B12: MEA5 | C12: =VLOOKUP(B12,'Общий прайс лист'!$A$5:$D$310,2,FALSE) -> Рычаг для механизма MEA3 MEA5 | D12: шт | E12: =VLOOKUP(B12,'Общий прайс лист'!$A$2:$D$310,4,FALSE) -> 5200
B13: MECF | C13: =VLOOKUP(B13,'Общий прайс лист'!$A$5:$D$310,2,FALSE) -> Фундаментная коробка с катафорезным покрытием MECF | D13: шт | E13: =VLOOKUP(B13,'Общий прайс лист'!$A$2:$D$310,4,FALSE) -> 32900
B14: MECX | C14: =VLOOKUP(B14,'Общий прайс лист'!$A$5:$D$310,2,FALSE) -> Фундаментная коробка из нержавеющей стали MECX | D14: шт | E14: =VLOOKUP(B14,'Общий прайс лист'!$A$2:$D$310,4,FALSE) -> 32900
B15: PLA6 | C15: =VLOOKUP(B15,'Общий прайс лист'!$A$5:$D$310,2,FALSE) -> Кронштейн монтажный задний PLA6 | D15: шт | E15: =VLOOKUP(B15,'Общий прайс лист'!$A$2:$D$310,4,FALSE) -> 5200
B16: PLA8 | C16: =VLOOKUP(B16,'Общий прайс лист'!$A$5:$D$310,2,FALSE) -> Передний регулируемый кронштейн PLA8 | D16: шт | E16: =VLOOKUP(B16,'Общий прайс лист'!$A$2:$D$310,4,FALSE) -> 5200
B17: PLA10 | C17: =VLOOKUP(B17,'Общий прайс лист'!$A$5:$D$310,2,FALSE) -> Электромеханический замок вертикальный, 12В PLA10 | D17: шт | E17: =VLOOKUP(B17,'Общий прайс лист'!$A$2:$D$310,4,FALSE) -> 20900
... B22: PLA16 | C22: =VLOOKUP(B22,'Общий прайс лист'!$A$5:$D$310,2,FALSE) -> регулируемый кронштейн PLA16 | D22: шт | E22: =VLOOKUP(B22,'Общий прайс лист'!$A$2:$D$310,4,FALSE) -> 5200
A23: Аксессуары для секционных приводов | B23: CRA1 | C23: =VLOOKUP(B23,'Общий прайс лист'!$A$5:$D$310,2,FALSE) -> Вал с 18-зубчатой шестерней CRA1 | D23: шт | E23: =VLOOKUP(B23,'Общий прайс лист'!$A$2:$D$310,4,FALSE) -> 9900
B24: CRA2 | C24: =VLOOKUP(B24,'Общий прайс лист'!$A$5:$D$310,2,FALSE) -> Муфта для цепи CRA2 | D24: шт | E24: =VLOOKUP(B24,'Общий прайс лист'!$A$2:$D$310,4,FALSE) -> 1590
B25: CRA3 | C25: =VLOOKUP(B25,'Общий прайс лист'!$A$5:$D$310,2,FALSE) -> Цепь 1/2'' с муфтой, 1000мм CRA3 | D25: шт | E25: =VLOOKUP(B25,'Общий прайс лист'!$A$2:$D$310,4,FALSE) -> 9900
B26: CRA4 | C26: =VLOOKUP(B26,'Общий прайс лист'!$A$5:$D$310,2,FALSE) -> Цепь 1/2'' с муфтой, 5000мм CRA4 | D26: шт | E26: =VLOOKUP(B26,'Общий прайс лист'!$A$2:$D$310,4,FALSE) -> 16900
B27: CRA5 | C27: =VLOOKUP(B27,'Общий прайс лист'!$A$5:$D$310,2,FALSE) -> Устройство натяжения цепи CRA5 | D27: шт | E27: =VLOOKUP(B27,'Общий прайс лист'!$A$2:$D$310,4,FALSE) -> 16900
B28: CRA6 | C28: =VLOOKUP(B28,'Общий прайс лист'!$A$5:$D$310,2,FALSE) -> Шестерня 36-зубчатая CRA6 | D28: шт | E28: =VLOOKUP(B28,'Общий прайс лист'!$A$2:$D$310,4,FALSE) -> 9900
B29: CRA7 | C29: =VLOOKUP(B29,'Общий прайс лист'!$A$5:$D$310,2,FALSE) -> Шестерня 18-зубчатая CRA7 | D29: шт | E29: =VLOOKUP(B29,'Общий прайс лист'!$A$2:$D$310,4,FALSE) -> 9900
B30: CRA8 | C30: =VLOOKUP(B30,'Общий прайс лист'!$A$5:$D$310,2,FALSE) -> Кронштейн крепления CRA8 | D30: шт | E30: =VLOOKUP(B30,'Общий прайс лист'!$A$2:$D$310,4,FALSE) -> 9900
B31: CRA9 | C31: =VLOOKUP(B31,'Общий прайс лист'!$A$5:$D$310,2,FALSE) -> Адаптер для вала CRA9 | D31: шт | E31: =VLOOKUP(B31,'Общий прайс лист'!$A$2:$D$310,4,FALSE) -> 9900
B32: SNA6 | C32: =VLOOKUP(B32,'Общий прайс лист'!$A$5:$D$310,2,FALSE) -> Рейка приводная SPIN, 4000мм SNA6 | D32: шт | E32: =VLOOKUP(B32,'Общий прайс лист'!$A$2:$D$310,4,FALSE) -> 16900
B33: SPA2 | C33: =VLOOKUP(B33,'Общий прайс лист'!$A$5:$D$310,2,FALSE) -> Комплект для разблокировки тросом SPA2 | D33: шт | E33: =VLOOKUP(B33,'Общий прайс лист'!$A$2:$D$310,4,FALSE) -> 9900
A34: Аксессуары для шлагбаумов | B34: BOOMKIT4 | C34: =VLOOKUP(B34,'Общий прайс лист'!$A$5:$D$310,2,FALSE) -> Адаптер овальной стрелы для шлагбаумов WIL и SIGNO | D34: компл | E34: =VLOOKUP(B34,'Общий прайс лист'!$A$2:$D$310,4,FALSE) -> 16900
B35: BOOMKIT6 | C35: =VLOOKUP(B35,'Общий прайс лист'!$A$5:$D$310,2,FALSE) -> Адаптер овальной стрелы для шлагбаумов WIL и SIGNO | D35: компл | E35: =VLOOKUP(B35,'Общий прайс лист'!$A$2:$D$310,4,FALSE) -> 16900
B36: XBA6KIT | C36: =VLOOKUP(B36,'Общий прайс лист'!$A$5:$D$310,2,FALSE) -> Комплект шлагбаумной рейки XBA15-3RU (2 шт.) с соединителем XBA9 | D36: шт | E36: =VLOOKUP(B36,'Общий прайс лист'!$A$2:$D$310,4,FALSE) -> 32490
B37: XBA15-3RU | C37: =VLOOKUP(B37,'Общий прайс лист'!$A$5:$D$310,2,FALSE) -> Рейка шлагбаумная 69x92x3200мм XBA15-3RU | D37: шт | E37: =VLOOKUP(B37,'Общий прайс лист'!$A$2:$D$310,4,FALSE) -> 16900
B38: XBA14-4RU | C38: =VLOOKUP(B38,'Общий прайс лист'!$A$5:$D$310,2,FALSE) -> Рейка шлагбаумная 69x92x4200мм XBA14-4RU | D38: шт | E38: =VLOOKUP(B38,'Общий прайс лист'!$A$2:$D$310,4,FALSE) -> 21900
B39: XBA5-5RU | C39: =VLOOKUP(B39,'Общий прайс лист'!$A$5:$D$310,2,FALSE) -> Рейка шлагбаумная 69x92x5200мм XBA5-5RU | D39: шт | E39: =VLOOKUP(B39,'Общий прайс лист'!$A$2:$D$310,4,FALSE) -> 27900
B40: XBA19-4RU | C40: =VLOOKUP(B40,'Общий прайс лист'!$A$5:$D$310,2,FALSE) -> Рейка шлагбаумная 45x58x4200мм XBA19-4RU | D40: шт | E40: =VLOOKUP(B40,'Общий прайс лист'!$A$2:$D$310,4,FALSE) -> 16900
B41: XBA19-5RU | C41: =VLOOKUP(B41,'Общий прайс лист'!$A$5:$D$310,2,FALSE) -> Рейка шлагбаумная 45x58x5200мм XBA19-5RU | D41: шт | E41: =VLOOKUP(B41,'Общий прайс лист'!$A$2:$D$310,4,FALSE) -> 21900
B42: XBA9 | C42: =VLOOKUP(B42,'Общий прайс лист'!$A$5:$D$310,2,FALSE) -> Соединитель для стрел XBA9 | D42: шт | E42: =VLOOKUP(B42,'Общий прайс лист'!$A$2:$D$310,4,FALSE) -> 16900
B43: WIA10 | C43: =VLOOKUP(B43,'Общий прайс лист'!$A$5:$D$310,2,FALSE) -> Кронштейн для аварийной разблокировки стрелы WIA10 | D43: шт | E43: =VLOOKUP(B43,'Общий прайс лист'!$A$2:$D$310,4,FALSE) -> 16900
B44: WIA11 | C44: =VLOOKUP(B44,'Общий прайс лист'!$A$5:$D$310,2,FALSE) -> Кронштейн для складывания стрелы WIA11 | D44: шт | E44: =VLOOKUP(B44,'Общий прайс лист'!$A$2:$D$310,4,FALSE) -> 16900
...

Sheet ЗИП
A2: Артикул для заказа | B2: Описание | C2: Ед. | D2: Розничная цена, руб с НДС | E2: Оглавление
A3: 700510002121 | B3: разъем (вилка) для ремонта приемников SMXI, SMXIS, OXI, OXIR10, OXIBD, OXILR, OX2, OX2T | C3: шт. | D3: 900
A4: 059-CE.8001 | B4: Плата блока управления A6 | C4: шт. | D4: 19900
A5: 081-B.8001 | B5: Плата блока управления A824 | C5: шт. | D5: 19900
A6: 102-A.8001 | B6: Плата блока управления A400 | C6: шт. | D6: 19900
A7: 7U450A.0727 | B7: Конденсатор TOONA 230В/MOBY 230В | C7: шт. | D7: 1900
A8: 10U400A.0727 | B8: Конденсатор HY7100, 7005 | C8: шт. | D8: 1900
A9: 12U450.0727 | B9: Конденсатор 12uF 450v RO500KCE | C9: шт. | D9: 1900
A10: 10U450C.0727 | B10: Конденсатор ME3000R01 | C10: шт. | D10: 1900
A11: 12U450B.0727 | B11: Конденсатор 12uF 450v ROX600,1000 / TO5016P | C11: шт. | D11: 1900
A12: 12U450D.0727 | B12: Конденсатор ROBO600, RO600, ROX1000R10, ROX600KCER10 | C12: шт. | D12: 1900
A13: 138-C.8001 | B13: Плата блока управления A60/A | C13: шт. | D13: 19900
A14: 14U450D.0727 | B14: Конденсатор RUN1800R01/A, 2500R01/A, RUN1800, 2500, RO1000, TH1500 | C14: шт. | D14: 1900
... A1277: XBA20 | B1277: Плата управления SBAR | C1277: шт. | D1277: 19900
B1278: Ключ разблокировки ROBO600 | C1278: шт. | D1278: 6900
C1279: шт.
