Workbook
Name __col1: #REF!
Name __col2: #REF!
Name __col3: #REF!
Name _col1: #REF!
Name _col2: #REF!
Name _col3: #REF!
Name Code: #REF!
Name course: '[1]ВАШ ЗАКАЗ'!$G$5
Name fqwrfqwerfvqergfv: #REF!
Name fr43fr: #REF!
Name garant: #REF!
Name Header: #REF!
Name HeaderText: "HeaderText"
Name ItemName: #REF!
Name kjhgf: #REF!
Name News: #REF!
Name Rest1: #REF!
Name Rest2: #REF!
Name Rest3: #REF!
Name RPLAlutech09.21: #REF!
Name rrrr: #REF!
Name rubl: #REF!
Name sale: '[2]Ваш заказ'!$F$3
Name shapes_1: "Рисунок 14"
Name А1: #REF!
Name Прайс_значения: [3]Data!$E$2:$L$208

Sheet Оглавление
B1: Офис в Москве | G1: тел. +7 (495) 989.76.92
B2: Московская обл., г.Одинцово, ул.Транспортная, д.2 | G2: sale.ru@niceforyou.com
B3: Офис в Санкт-Петербурге | G3: тел. +7 (812) 309.32.17
B4: г.Санкт-Петербург, наб. реки Волковки, д.7 | G4: spb.ru@niceforyou.com
B5: Офис в Краснодаре | G5: тел. +7 (861) 992.08.69
B6: Краснодарский край, г.Краснодар, ул.Уральская, д.151/1 | G6: krasnodar.ru@niceforyou.com
B7: Офис в Казани | G7: тел. +7 (843) 212.09.38
B8: Республика Татарстан, г.Казань, ул.М.Гафури, д.50 | G8: kazan.ru@niceforyou.com
B9: Офис в Екатеринбурге | G9: тел. +7 (912) 280.18.38
B10: Свердловская область, г. Екатеринбург, ул. Монтажников, д. 26А, оф. 111 | G10: ekb.ru@niceforyou.com
A11: Прайс-лист АО "Найс Автоматика для Дома" 7 октября 2026 г.
A12: Для консультации по выбору запчастей к приводам и шлагбаумам обращайтесь на горячую линию технической поддержки Nice по телефону 8-800-333-17-17
B14: Общий прайс-лист
B16: Комплекты высокоскоростных приводов
B18: Комплекты автоматики для распашных ворот
B20: Комплекты автоматики для откатных ворот
B22: Комплекты шлагбаумов
B24: Комплекты автоматики для гаражных секционных ворот
B26: Пульты управления
B28: Программаторы и радиоприёмники
B30: Аксессуары
B32: Прайс-лист на запчасти

Sheet Общий прайс лист
D1: С 7 октября 2026г.
A2: Артикул для заказа | B2: Описание | C2: Ед. | D2: Розничная цена, руб с НДС | E2: Оглавление
B3: GATE&DOOR
B4: ПРИВОДЫ ДЛЯ РАСПАШНЫХ ВОРОТ
A5: WG4024 | B5: Привод для распашных ворот WG4024 | C5: шт | D5: 38900
A6: WINGO2024KCE | B6: Комплект для распашных ворот WINGO2024KCE. Состав комплекта: Привод WG4024 - 2 шт, блок управления MC424L - 1 шт, пульт управления INTI2 - 2 шт. | C6: компл | D6: 59900
A7: WINGO4024BDKCE | B7: Комплект для распашных ворот WINGO4024BDKCE. Состав комплекта: Привод WG4024 - 2 шт, блок управления MC424L - 1 шт, фотоэлементы EPM - 1 пара, лампа ELDC - 1шт, приемник OXIBD - 1 шт.; пульт управления INTI2 - 2 шт; | C7: компл | D7: 69900
A8: WG5024 | B8: Привод для распашных ворот WG5024 | C8: шт | D8: 38900
A9: WINGO3524KCE | B9: Комплект для распашных ворот WINGO3524KCE. Состав комплекта: Привод WG5024 - 2 шт, блок управления MC424L - 1 шт, пульт управления INTI2 - 2 шт. | C9: компл | D9: 69900
A10: WINGO5024BDKCE | B10: Комплект для распашных ворот WINGO5024BDKCE. Состав комплекта: Привод WG5024 - 2 шт, блок управления MC424L - 1 шт, фотоэлементы EPM - 1 пара, приемник OXIBD - 1 шт.; пульт управления INTI2 - 2 шт; лампа ELDC - 1шт, | C10: компл | D10: 79900
A11: WG3524HS | B11: Привод для распашных ворот WG3524HS | C11: шт | D11: 38900
A12: WG3524HSBDKLT | B12: Комплект для распашных ворот WG3524HSBDKLT. Состав комплекта: Привод WG3524HS - 2 шт, блок управления МС824H - 1 шт, приемник OXIBD - 1 шт.; пульт управления INTI2R - 2 шт; | C12: компл | D12: 69900
A13: WG3524HSON3KLT | B13: Комплект для распашных ворот WG3524HSBDKLT. Состав комплекта: Привод WG3524HS - 2 шт, блок управления МС824H - 1 шт, приемник OXIBD - 1 шт.; пульт управления ON3EBD - 2 шт; | C13: компл | D13: 64900
A14: WG3524HSBDKCE | B14: Комплект для распашных ворот WG3524HSBDKCE. Состав комплекта: Привод WG3524HS - 2 шт, блок управления МС824H - 1 шт, приемник OXIBD - 1 шт, фотоэлементы EPMB - 1 пара, лампа ELDC - 1шт, пульт управления INTI2R - 2 шт. | C14: компл | D14: 79900
A15: WG3524HSON3KCE | B15: Комплект для распашных ворот WG3524HSBDKCE. Состав комплекта: Привод WG3524HS - 2 шт, блок управления МС824H - 1 шт, приемник OXIBD - 1 шт, фотоэлементы EPMB - 1 пара, лампа ELDC - 1шт, пульт управления ON3EBD - 2 шт. | C15: компл | D15: 74900
A16: WG4000 | B16: Привод для распашных ворот WG4000 | C16: шт | D16: 38900
... A62: BM5024 | B62: Привод для распашных ворот BM5024 | C62: шт | D62: 85900
B63: АКСЕССУАРЫ ПРИВОДОВ ДЛЯ РАСПАШНЫХ ВОРОТ
A64: BMA1 | B64: Механизм открывания ворот на 360 градусов BMA1 | C64: шт | D64: 20900
A65: BMBOX | B65: Фундаментная коробка BMBOX | C65: шт | D65: 32900
A66: HYA11 | B66: Устройство для разблокировки HYA11 | C66: шт | D66: 5200
A67: HYA12 | B67: Рычаг-удлинитель HYA12 | C67: шт | D67: 20900
A68: MEA1 | B68: Механизм открывания ворот на 360 градусов MEA1 | C68: шт | D68: 20900
A69: MEA2 | B69: Механизм разблокировки MEA2 | C69: шт | D69: 20900
A70: MEA3 | B70: Механизм разблокировки MEA3 | C70: шт | D70: 20900
A71: MEA5 | B71: Рычаг для механизма MEA3 MEA5 | C71: шт | D71: 5200
A72: MECF | B72: Фундаментная коробка с катафорезным покрытием MECF | C72: шт | D72: 32900
A73: MECX | B73: Фундаментная коробка из нержавеющей стали MECX | C73: шт | D73: 32900
A74: PLA10 | B74: Электромеханический замок вертикальный, 12В PLA10 | C74: шт | D74: 20900
A75: PLA11 | B75: Электромеханический замок горизонтальный, 12В PLA11 | C75: шт | D75: 20900
... A81: PLA8 | B81: Передний регулируемый кронштейн PLA8 | C81: шт | D81: 5200
B82: ПРИВОДЫ ДЛЯ ОТКАТНЫХ ВОРОТ
A83: SLH400BDKCE | B83: Комплект для откатных ворот SLH400BDKCE. Состав комплекта: Привод SLH400 - 1 шт, приемник OXIBD - 1 шт; пульт управления MYGO4 - 2 шт; фотоэлементы EPMB - 1 пара, лампа ELDC - 1 шт; | C83: компл | D83: 59900
A84: RD400KCE | B84: Комплект для откатных ворот RD400KCE. Состав комплекта: Привод RD400 - 1 шт, пульт управления INTI2 - 2 шт; | C84: компл | D84: 35900
A85: RD400KIT2 | B85: Комплект для откатных ворот RD400KIT2. Состав комплекта: Привод RD400 - 1 шт, пульт управления INTI2 - 2 шт; фотоэлементы EPM - 1 пара; лампа ELDC - 1 шт; | C85: компл | D85: 45900
A86: RO600KLT | B86: Комплект для откатных ворот RO600KLT. Состав комплекта: Привод RO600 - 1 шт, пульт управления INTI2 - 2 шт; | C86: компл | D86: 35900
A87: RO600KCE | B87: Комплект для откатных ворот RO600KCE. Состав комплекта: Привод RO600 - 1 шт, пульт управления INTI2 - 2 шт; фотоэлементы EPM - 1 пара; лампа ELAC - 1 шт; | C87: компл | D87: 45900
A88: RO1000KLT | B88: Комплект для откатных ворот RO1000KLT. Состав комплекта: Привод RO1000 - 1 шт, пульт управления INTI2 - 2 шт; | C88: компл | D88: 46900
A89: RO1000KCE | B89: Комплект для откатных ворот RO1000KCE. Состав комплекта: Привод RO1000 - 1 шт, пульт управления INTI2 - 2 шт; фотоэлементы EPM - 1 пара; лампа ELAC - 1 шт; | C89: компл | D89: 56900
A90: RO1500KLT | B90: Комплект для откатных ворот RO1500KLT. Состав комплекта: Привод RO1500 - 1 шт, пульт управления INTI2 - 2 шт; | C90: компл | D90: 56900
A91: RO1500KCE | B91: Комплект для откатных ворот RO1500KCE. Состав комплекта: Привод RO1500 - 1 шт, пульт управления INTI2 - 2 шт; фотоэлементы EPM - 1 пара; лампа ELAC - 1 шт; | C91: компл | D91: 66900
A92: RB250HS | B92: Привод для откатных ворот RB250HS | C92: шт | D92: 59900
A93: RB250HSBDKLT | B93: Комплект для откатных ворот RB250HSBDKLT. Состав комплекта: Привод RB250HS - 1 шт, приемник OXIBD - 1 шт; пульт управления INTI2R - 2 шт; | C93: компл | D93: 59900
A94: RB250HSBDKCE | B94: Комплект для откатных ворот RB250HSBDKCE. Состав комплекта: Привод RB250HS - 1 шт, приемник OXIBD - 1 шт; пульт управления INTI2R - 2 шт; фотоэлементы EPMB - 1 пара; лампа ELDC - 1 шт; | C94: компл | D94: 69900
... A117: TUB4000 | B117: Привод для откатных ворот TUB 4000 | C117: шт | D117: 305900
B118: АКСЕССУАРЫ ПРИВОДОВ ДЛЯ ОТКАТНЫХ ВОРОТ
A119: RBA1 | B119: Индуктивный датчик RBA1 | C119: шт | D119: 9490
A120: ROA81 | B120: Оцинкованная зубчатая рейка, модуль M6 ROA81 | C120: шт | D120: 9490
A121: RUA12 | B121: 12-ти зубчатый венец M6 RUA12 | C121: шт | D121: 9490
A122: MLAE44 | B122: Плата расширения, 4 выхода 4 входа MLAE44 | C122: шт | D122: 5190
A123: MLAE22 | B123: Плата расширения, 2 выхода 2 входа MLAE22 | C123: шт | D123: 5190
A124: MLAE21 | B124: Плата расширения, 1 выход 2 входа MLAE21 | C124: шт | D124: 5190
B125: ШЛАГБАУМЫ
A126: WIDES | B126: Тумба шлагбаума со встроенным радиоприемником WIDES | C126: шт | D126: 86900
A127: WIDES4KIT | B127: Комплект шлагбаума WideS4KIT. Состав комплекта: Тумба шлагбаума c радиоприемником WIDES (1 шт.), Рейка шлагбаумная 45x58x4200мм XBA19-4RU (1 шт.), Демпфер XBA13 (1 шт.), Наклейки светоотражающие NK1 (1 шт.) | C127: компл | D127: 96900
A128: WIDES4KIT2 | B128: Комплект шлагбаума WideS4KIT2. Состав комплекта: Тумба шлагбаума c радиоприемником WIDES (1 шт.), Рейка шлагбаумная 45x58x4200мм XBA19-4RU (1 шт.), Демпфер XBA13 (1 шт.), Наклейки светоотражающие NK1 (1 шт.) Фотоэлементы Medium EPM (1 пара), Лампа сигнальная с антенной 12В/24В ELDC (1 шт.) | C128: компл | D128: 106900
A129: WIDEM | B129: Тумба шлагбаума c радиоприемником WIDEM | C129: шт | D129: 96900
A130: WIDEM4KIT | B130: Комплект шлагбаума WideM4KIT. Состав комплекта: Тумба шлагбаума c радиоприемником WIDEM (1 шт.), Рейка шлагбаумная 45x58x4200мм XBA19-4RU (1 шт.), Демпфер XBA13 (1 шт.), Наклейки светоотражающие NK1 (1 шт.) | C130: компл | D130: 106900
A131: WIDEM4KIT2 | B131: Комплект шлагбаума WideM4KIT2. Состав комплекта: Тумба шлагбаума c радиоприемником WIDEM (1 шт.), Рейка шлагбаумная 45x58x4200мм XBA19-4RU (1 шт.), Демпфер XBA13 (1 шт.), Наклейки светоотражающие NK1 (1 шт.) Фотоэлементы Medium EPM (1 пара), Лампа сигнальная с антенной 12В/24В ELDC (1 шт.) | C131: компл | D131: 116900
A132: WIDEM5KIT | B132: Комплект шлагбаума WideM5KIT. Состав комплекта: Тумба шлагбаума c радиоприемником WIDEM (1 шт.), Рейка шлагбаумная 45x58x5200мм XBA19-5RU (1 шт.), Демпфер XBA13-10RU (10 м), Наклейки светоотражающие NK1 (1 шт.) | C132: компл | D132: 116900
A133: WIDEM5KIT2 | B133: Комплект шлагбаума WideM5KIT2. Состав комплекта: Тумба шлагбаума c радиоприемником WIDEM (1 шт.), Рейка шлагбаумная 45x58x5200мм XBA19-5RU (1 шт.), Демпфер XBA13-10RU (10 м), Наклейки светоотражающие NK1 (1 шт.), Фотоэлементы Medium EPM (1 пара), Лампа сигнальная с антенной 12В/24В ELDC (1 шт.) | C133: компл | D133: 126900
A134: WIDEL | B134: Тумба шлагбаума c радиоприемником WIDEL | C134: шт | D134: 149900
A135: WIDEL6KIT | B135: Комплект шлагбаума WideL6KIT. Состав комплекта: Тумба шлагбаума с радиоприемником WIDEL (1 шт.), Рейка шлагбаумная 69x92x3200мм XBA15-3RU - (2 шт.), Соединитель для стрел XBA9 - (1 шт.),, Демпфер XBA13-12RU (12 м) (1 шт.), Наклейки светоотражающие NK1 (1 шт.) | C135: компл | D135: 159900
A136: WIDEL6KIT2 | B136: Комплект шлагбаума WideL6KIT2. Состав комплекта: Тумба шлагбаума с радиоприемником WIDEL (1 шт.), Рейка шлагбаумная 69x92x3200мм XBA15-3RU - (2 шт.), Соединитель для стрел XBA9 - (1 шт.), Демпфер XBA13-12RU (12 м) (1 шт.), Наклейки светоотражающие NK1 (1 шт.), Фотоэлементы Medium EPM (1 пара), Лампа сигнальная с антенной 12В/24В ELDC (1 шт.) | C136: компл | D136: 169900
A137: WIDEL7KIT | B137: Комплект шлагбаума WideL7KIT. Состав комплекта: Тумба шлагбаума с радиоприемником WIDEL (1 шт.), Рейка шлагбаумная 69x92x3200мм XBA15-3RU (1 шт.), Рейка шлагбаумная 69x92x4200мм XBA14-4RU (1 шт.), Демпфер XBA13 (2 шт.), Соединитель для стрел XBA9 (1 шт.), Наклейки светоотражающие NK1 (2 шт.) | C137: компл | D137: 169900
... A158: L9BAR9BDKIT1 | B158: Комплект шлагбаума L9BAR9BDKIT1. Состав комплекта: Тумба L9BAR - 1 шт; рейка шлагбаумная XBA5-5RU (69х92х5200 мм) - 1 шт; рейка шлагбаумная XBA14-4RU (69х92х4200 мм) - 1 шт; соединитель для стрел XBA9 - 1 шт; Фотоэлементы Medium BlueBus EPMB (1 пара); наклейки светоотражающие NK1 - 2 шт; демпфер XBA13 - 2шт; приемник OXIBD - 1 шт; интегрируемая светофорная лампа XBA8 - 1 шт; Светодиоды сигнальные, 8м XBA18 - 1 шт. | C158: компл | D158: 314900
B159: АКСЕССУАРЫ ДЛЯ ШЛАГБАУМОВ
A160: BOOMKIT4 | B160: Адаптер овальной стрелы для шлагбаумов WIL и SIGNO | C160: компл | D160: 16900
A161: BOOMKIT6 | B161: Адаптер овальной стрелы для шлагбаумов WIL и SIGNO | C161: компл | D161: 16900
A162: XBA15-3RU | B162: Рейка шлагбаумная 69x92x3200мм XBA15-3RU | C162: шт | D162: 16900
A163: XBA14-4RU | B163: Рейка шлагбаумная 69x92x4200мм XBA14-4RU | C163: шт | D163: 21900
A164: XBA5-5RU | B164: Рейка шлагбаумная 69x92x5200мм XBA5-5RU | C164: шт | D164: 27900
A165: XBA6KIT | B165: Комплект шлагбаумной рейки XBA15-3RU (2 шт.) с соединителем XBA9 | C165: шт | D165: 32490
A166: XBA19-4RU | B166: Рейка шлагбаумная 45x58x4200мм XBA19-4RU | C166: шт | D166: 16900
A167: XBA19-5RU | B167: Рейка шлагбаумная 45x58x5200мм XBA19-5RU | C167: шт | D167: 21900
A168: XBA9 | B168: Соединитель для стрел XBA9 | C168: шт | D168: 16900
A169: WIA10 | B169: Кронштейн для аварийной разблокировки стрелы WIA10 | C169: шт | D169: 16900
A170: WIA11 | B170: Кронштейн для складывания стрелы WIA11 | C170: шт | D170: 16900
A171: XBA10 | B171: Кронштейн для аварийной разблокировки стрелы XBA10 | C171: шт | D171: 26900
... A190: NK1 | B190: Наклейки светоотражающие (комплект) NK1 | C190: шт | D190: 1060
B191: ПРИВОДЫ ДЛЯ СЕКЦИОННЫХ ВОРОТ
A192: SPIDERBL16BDWKCE | B192: Комплект для гаражных секционных ворот SPIDERBL16BDWKCE. Состав комплекта: Привод SPIDER1200BLW - 1шт. Потолочная ременная двухсоставная рейка 3,2м (2 шт. по 1,6м) SR16B - 1 шт., пульт управления MYGO4 - 2 шт. | C192: компл | D192: 67900
A193: SPIDER16BDWKCE | B193: Комплект для гаражных секционных ворот SPIDER16BDWKCE. Состав комплекта: Привод SPIDER800W - 1шт. Потолочная ременная двухсоставная рейка 3,2м (2 шт. по 1,6м) SR16B- 1 шт., пульт управления MYGO4 - 2 шт. | C193: компл | D193: 47900
A194: SPO1032CKCE | B194: Комплект SPO1032CKCE. Состав комплекта: Привод SPIDO1000 - 1шт; Потолочная цепная рейка 3,2м SR32C - 1 шт., пульт управления INTI2 - 2 шт. | C194: компл | D194: 37900
A195: SPO1016BKCE | B195: Комплект SPO1016BKCE. Состав комплекта: Привод SPIDO1000 - 1шт; Потолочная ременная двухсоставная рейка 3,2м (2 шт. по 1,6м) SR16B - 1 шт., пульт управления INTI2 - 2 шт. | C195: компл | D195: 42900
A196: SPO1040BKCE | B196: Комплект SPO1040BKCE. Состав комплекта: Привод SPIDO1000 - 1шт; Потолочная ременная двухсоставная рейка 3,2м (2 шт. по 1,6м) c удлинителем 0,8м SR40B - 1 шт., пульт управления INTI2 - 2 шт. | C196: компл | D196: 47900
A197: SPO32CKCE | B197: Комплект для секционных ворот SPO32CKCE. Состав комплекта: Привод SPIDO600 - 1шт. Потолочная рейка цепная SR32C - 1 шт., пульт управления INTI2 - 2 шт. | C197: компл | D197: 27900
A198: SPO16BKCE | B198: Комплект для секционных ворот SPO16BKCE. Состав комплекта: Привод SPIDO600 - 1шт. Потолочная ременная двухсоставная рейка 3,2м (2 шт. по 1,6м) SR16B - 1 шт., пульт управления INTI2 - 2 шт. | C198: компл | D198: 33900
A199: SO2000 | B199: Привод для секционных ворот SO2000 | C199: шт | D199: 68900
A200: SOONBDKLT | B200: Комплект SOONBDKLT. Состав комплекта: привод SO2000 (1 шт.), приёмник OXIBD (1 шт.), пульт управления MYGO4 (2 шт.) | C200: компл | D200: 74900
A201: SU2000 | B201: Привод для секционных ворот SU2000 | C201: шт | D201: 74900
A202: SUMOKIT | B202: Комплект SUMOKIT. Состав комплекта: Состав: привод SU2000 (1 шт.), блок управления DPRO924 (1 шт.) | C202: компл | D202: 80900
A203: SU2000V | B203: Привод для секционных ворот SU2000V | C203: шт | D203: 80900
... A206: SUMOVVKIT | B206: Комплект SUMOVVKIT. Состав комплекта: привод SU2000VV (1 шт.), блок управления DPRO924 (1 шт.) | C206: компл | D206: 91900
B207: АКСЕССУАРЫ ПРИВОДОВ ДЛЯ СЕКЦИОННЫХ ГАРАЖНЫХ ВОРОТ | D207: 0
A208: CRA1 | B208: Вал с 18-зубчатой шестерней CRA1 | C208: шт | D208: 9900
A209: CRA2 | B209: Муфта для цепи CRA2 | C209: шт | D209: 1590
A210: CRA3 | B210: Цепь 1/2'' с муфтой, 1000мм CRA3 | C210: шт | D210: 9900
A211: CRA4 | B211: Цепь 1/2'' с муфтой, 5000мм CRA4 | C211: шт | D211: 16900
A212: CRA5 | B212: Устройство натяжения цепи CRA5 | C212: шт | D212: 16900
...

Sheet Промокомплекты ON3EBD
A1: Промоакция: Цены на комплекты с пультами ON3EBD выгодно отличаются на 5000 руб!
D2: С 1 октября 2026г.
A3: Артикул для заказа Trade Code | B3: Описание | C3: Ед. | D3: Розничная цена, руб с НДС
A4: TO4016PON3KLT | B4: =VLOOKUP(A4,'Общий прайс лист'!A:B,2,FALSE) -> Комплект для распашных ворот TO4016PBDKLT. Состав комплекта: привод TO4016P (2 шт.), приёмник OXIBD (1 шт.), пульт управления ONEBD (2 шт.), Блок управления MC800 (1шт.) | C4: =VLOOKUP(A4,'Общий прайс лист'!A:D,3,FALSE) -> компл | D4: =VLOOKUP(A4,'Общий прайс лист'!A:D,4,FALSE) -> 64900
A5: TO4016PON3KCE | B5: =VLOOKUP(A5,'Общий прайс лист'!A:B,2,FALSE) -> Комплект для распашных ворот TO4016PBDKCE. Состав комплекта: привод TO4016P (2 шт.), приёмник OXIBD (1 шт.), пульт управления ON3EBD (2 шт.), Фотоэлементы Medium EPM (1 пара), Блок управления MC800 (1 шт.), Лампа сигнальная с антенной 230В ELAC (1 шт.) | C5: =VLOOKUP(A5,'Общий прайс лист'!A:D,3,FALSE) -> компл | D5: =VLOOKUP(A5,'Общий прайс лист'!A:D,4,FALSE) -> 75900
A6: TO5016PON3KLT | B6: =VLOOKUP(A6,'Общий прайс лист'!A:B,2,FALSE) -> Комплект для распашных ворот TO5016PBDKLT. Состав комплекта: привод TO5016P (2 шт.), Блок управления MC800 (1 шт.), приёмник OXIBD (1 шт.),пульт управления ON3EBD (2 шт.) | C6: =VLOOKUP(A6,'Общий прайс лист'!A:D,3,FALSE) -> компл | D6: =VLOOKUP(A6,'Общий прайс лист'!A:D,4,FALSE) -> 75900
A7: TO5016PON3KCE | B7: =VLOOKUP(A7,'Общий прайс лист'!A:B,2,FALSE) -> Комплект для распашных ворот TO5016PBDKCE. Состав комплекта: привод TO5016P (2 шт.), приёмник OXIBD (1 шт.), пульт управления ON3EBD (2 шт.), Фотоэлементы Medium EPM (1 пара), Блок управления MC800 (1 шт.), Лампа сигналь- ная с антенной 230В ELAC (1 шт.) | C7: =VLOOKUP(A7,'Общий прайс лист'!A:D,3,FALSE) -> компл | D7: =VLOOKUP(A7,'Общий прайс лист'!A:D,4,FALSE) -> 85900
A8: HY7005ON3KLT | B8: =VLOOKUP(A8,'Общий прайс лист'!A:B,2,FALSE) -> Комплект для распашных ворот HY7005BDKLT. Состав комплекта: привод HY7005 (2 шт.), приёмник OXIBD (1 шт.), пульт управления ON3EBD (2 шт.), Блок управления MC800 (1 шт.) | C8: =VLOOKUP(A8,'Общий прайс лист'!A:D,3,FALSE) -> компл | D8: =VLOOKUP(A8,'Общий прайс лист'!A:D,4,FALSE) -> 91900
A9: HY7005ON3KCE | B9: =VLOOKUP(A9,'Общий прайс лист'!A:B,2,FALSE) -> Комплект для распашных ворот HY7005BDKCE. Состав комплекта: привод HY7005 (2 шт.), приёмник OXIBD (1 шт.), пульт управления ON3EBD (2 шт.), Фотоэлементы Medium EPM (1 пара), Блок управления MC800 (1 шт.), Лампа сигнальная с антенной 230В ELAC (1 шт.) | C9: =VLOOKUP(A9,'Общий прайс лист'!A:D,3,FALSE) -> компл | D9: =VLOOKUP(A9,'Общий прайс лист'!A:D,4,FALSE) -> 101900
A10: WG3524HSON3KLT | B10: =VLOOKUP(A10,'Общий прайс лист'!A:B,2,FALSE) -> Комплект для распашных ворот WG3524HSBDKLT. Состав комплекта: Привод WG3524HS - 2 шт, блок управления МС824H - 1 шт, приемник OXIBD - 1 шт.; пульт управления ON3EBD - 2 шт; | C10: =VLOOKUP(A10,'Общий прайс лист'!A:D,3,FALSE) -> компл | D10: =VLOOKUP(A10,'Общий прайс лист'!A:D,4,FALSE) -> 64900
A11: WG3524HSON3KCE | B11: =VLOOKUP(A11,'Общий прайс лист'!A:B,2,FALSE) -> Комплект для распашных ворот WG3524HSBDKCE. Состав комплекта: Привод WG3524HS - 2 шт, блок управления МС824H - 1 шт, приемник OXIBD - 1 шт, фотоэлементы EPMB - 1 пара, лампа ELDC - 1шт, пульт управления ON3EBD - 2 шт. | C11: =VLOOKUP(A11,'Общий прайс лист'!A:D,3,FALSE) -> компл | D11: =VLOOKUP(A11,'Общий прайс лист'!A:D,4,FALSE) -> 74900
A12: TO5024HSON3KLT | B12: =VLOOKUP(A12,'Общий прайс лист'!A:B,2,FALSE) -> Комплект для распашных ворот TO5024HSBDKLT. Состав комплекта: привод TO5024HS (2 шт.), приёмник OXIBD (1 шт.), пульт управления ON3EBD (2 шт.), Блок управления MC824H (1 шт.) | C12: =VLOOKUP(A12,'Общий прайс лист'!A:D,3,FALSE) -> компл | D12: =VLOOKUP(A12,'Общий прайс лист'!A:D,4,FALSE) -> 75900
A13: TO5024HSON3KCE | B13: =VLOOKUP(A13,'Общий прайс лист'!A:B,2,FALSE) -> Комплект для распашных ворот TO5024HSBDKCE. Состав комплекта: привод TO5024HS (2 шт.), приёмник OXIBD (1 шт.), пульт управления ON3EBD (2 шт.), Фотоэлементы Medium BlueBus EPMB (1 пара), Блок управления MC824H (1 шт.), Лампа сигнальная с антенной, 12В/24В ELDC (1шт.) | C13: =VLOOKUP(A13,'Общий прайс лист'!A:D,3,FALSE) -> компл | D13: =VLOOKUP(A13,'Общий прайс лист'!A:D,4,FALSE) -> 85900

Sheet Компл. Высокоскоростных пр.
A1: Серия | B1: ОСНОВНЫЕ ХАРАКТЕРИСТИКИ | C1: Артикулы для заказа | G1: Описание | H1: Кол-во | I1: Розн. Цена за шт. | J1: Розн. Цена за комплекты | L1: Оглавление
A2: ПРИВОДЫ ДЛЯ ОТКАТНЫХ ВОРОТ
A3: ROBUS HI-SPEED | B3: до 250 кг, Инт. 50 циклов/час, скорость до 0,4 м/с, ВЫСОКОРОСТНОЙ | C3: КОМПЛЕКТ | D3: RB250HSBDKLT | F3: RB250HS | G3: =VLOOKUP(F3,'Общий прайс лист'!A:B,2,FALSE) -> Привод для откатных ворот RB250HS | H3: 1 | I3: =VLOOKUP(F3,'Общий прайс лист'!A:D,4,FALSE) -> 59900 | J3: =VLOOKUP(D3,'Общий прайс лист'!A:D,4,FALSE) -> 59900
F4: OXIBD | G4: =VLOOKUP(F4,'Общий прайс лист'!A:B,2,FALSE) -> Приемник OXIBD с обратной связью | H4: 1 | I4: =VLOOKUP(F4,'Общий прайс лист'!A:D,4,FALSE) -> 9490
F5: INTI2R | G5: Пульт управления INTI2R (цвет красный) | H5: 2
B6: Рекомендуемые дополнительные аксессуары → | F6: EDSWG | G6: =VLOOKUP(F6,'Общий прайс лист'!A:B,2,FALSE) -> Цифровой переключатель FLOR EDSW | I6: =VLOOKUP(F6,'Общий прайс лист'!A:D,4,FALSE) -> 14900
F7: EPMORB | G7: =VLOOKUP(F7,'Общий прайс лист'!A:B,2,FALSE) -> Фотоэлементы с зеркально-линзовым объективом BlueBus | I7: =VLOOKUP(F7,'Общий прайс лист'!A:D,4,FALSE) -> 9900
F8: RBA1 | G8: =VLOOKUP(F8,'Общий прайс лист'!A:B,2,FALSE) -> Индуктивный датчик RBA1 | I8: =VLOOKUP(F8,'Общий прайс лист'!A:D,4,FALSE) -> 9490
F9: PS124/PSS124 | G9: Аккумуляторная батарея (в зависимости от модификации привода)
B10: до 250 кг, Инт. 50 циклов/час, скорость до 0,4 м/с, ВЫСОКОРОСТНОЙ | C10: КОМПЛЕКТ | D10: RB250HSBDKCE | F10: RB250HS | G10: =VLOOKUP(F10,'Общий прайс лист'!A:B,2,FALSE) -> Привод для откатных ворот RB250HS | H10: 1 | I10: =VLOOKUP(F10,'Общий прайс лист'!A:D,4,FALSE) -> 59900 | J10: =VLOOKUP(D10,'Общий прайс лист'!A:D,4,FALSE) -> 69900
F11: OXIBD | G11: =VLOOKUP(F11,'Общий прайс лист'!A:B,2,FALSE) -> Приемник OXIBD с обратной связью | H11: 1 | I11: =VLOOKUP(F11,'Общий прайс лист'!A:D,4,FALSE) -> 9490
F12: INTI2R | G12: Пульт управления INTI2R (цвет красный) | H12: 2
F13: EPMB | G13: =VLOOKUP(F13,'Общий прайс лист'!A:B,2,FALSE) -> Фотоэлементы Medium BlueBus EPMB | H13: 1 | I13: =VLOOKUP(F13,'Общий прайс лист'!A:D,4,FALSE) -> 6900
F14: ELDC | G14: =VLOOKUP(F14,'Общий прайс лист'!A:B,2,FALSE) -> Лампа сигнальная с антенной 12В/24В ELDC | H14: 1 | I14: =VLOOKUP(F14,'Общий прайс лист'!A:D,4,FALSE) -> 5900
B15: Рекомендуемые дополнительные аксессуары → | F15: EDSWG | G15: =VLOOKUP(F15,'Общий прайс лист'!A:B,2,FALSE) -> Цифровой переключатель FLOR EDSW | I15: =VLOOKUP(F15,'Общий прайс лист'!A:D,4,FALSE) -> 14900
F16: EPMORB | G16: =VLOOKUP(F16,'Общий прайс лист'!A:B,2,FALSE) -> Фотоэлементы с зеркально-линзовым объективом BlueBus | I16: =VLOOKUP(F16,'Общий прайс лист'!A:D,4,FALSE) -> 9900
F17: RBA1 | G17: =VLOOKUP(F17,'Общий прайс лист'!A:B,2,FALSE) -> Индуктивный датчик RBA1 | I17: =VLOOKUP(F17,'Общий прайс лист'!A:D,4,FALSE) -> 9490
F18: PS124/PSS124 | G18: Аккумуляторная батарея (в зависимости от модификации привода)
A19: ROBUS HI-SPEED | B19: до 600 кг, Инт. 40 циклов/час, скорость до 0,44 м/с, ВЫСОКОРОСТНОЙ | C19: КОМПЛЕКТ | D19: RBS600HSBDKLT | F19: RBS600HS | G19: Привод RBS600HS | H19: 1 | J19: =VLOOKUP(D19,'Общий прайс лист'!A:D,4,FALSE) -> 64900
F20: MYGO4 | G20: Пульт управления MYGO4 | H20: 2
B21: Рекомендуемые дополнительные аксессуары → | F21: EDSWG | G21: =VLOOKUP(F21,'Общий прайс лист'!A:B,2,FALSE) -> Цифровой переключатель FLOR EDSW | I21: =VLOOKUP(F21,'Общий прайс лист'!A:D,4,FALSE) -> 14900
F22: EPMORB | G22: =VLOOKUP(F22,'Общий прайс лист'!A:B,2,FALSE) -> Фотоэлементы с зеркально-линзовым объективом BlueBus | I22: =VLOOKUP(F22,'Общий прайс лист'!A:D,4,FALSE) -> 9900
F23: RBA1 | G23: =VLOOKUP(F23,'Общий прайс лист'!A:B,2,FALSE) -> Индуктивный датчик RBA1 | I23: =VLOOKUP(F23,'Общий прайс лист'!A:D,4,FALSE) -> 9490
F24: PS124/PSS124 | G24: Аккумуляторная батарея (в зависимости от модификации привода)
B25: до 600 кг, Инт. 40 циклов/час, скорость до 0,44 м/с, ВЫСОКОРОСТНОЙ | C25: КОМПЛЕКТ | D25: RBS600HSBDKCE | F25: RBS600HS | G25: Привод RBS600HS | H25: 1 | J25: =VLOOKUP(D25,'Общий прайс лист'!A:D,4,FALSE) -> 74900
F26: MYGO4 | G26: Пульт управления MYGO4 | H26: 2
F27: EPMB | G27: =VLOOKUP(F27,'Общий прайс лист'!A:B,2,FALSE) -> Фотоэлементы Medium BlueBus EPMB | H27: 1 | I27: =VLOOKUP(F27,'Общий прайс лист'!A:D,4,FALSE) -> 6900
F28: ELDC | G28: =VLOOKUP(F28,'Общий прайс лист'!A:B,2,FALSE) -> Лампа сигнальная с антенной 12В/24В ELDC | H28: 1 | I28: =VLOOKUP(F28,'Общий прайс лист'!A:D,4,FALSE) -> 5900
B29: Рекомендуемые дополнительные аксессуары → | F29: EDSWG | G29: =VLOOKUP(F29,'Общий прайс лист'!A:B,2,FALSE) -> Цифровой переключатель FLOR EDSW | I29: =VLOOKUP(F29,'Общий прайс лист'!A:D,4,FALSE) -> 14900
F30: EPMORB | G30: =VLOOKUP(F30,'Общий прайс лист'!A:B,2,FALSE) -> Фотоэлементы с зеркально-линзовым объективом BlueBus | I30: =VLOOKUP(F30,'Общий прайс лист'!A:D,4,FALSE) -> 9900
F31: RBA1 | G31: =VLOOKUP(F31,'Общий прайс лист'!A:B,2,FALSE) -> Индуктивный датчик RBA1 | I31: =VLOOKUP(F31,'Общий прайс лист'!A:D,4,FALSE) -> 9490
F32: PS124/PSS124 | G32: Аккумуляторная батарея (в зависимости от модификации привода)
B33: до 1200 кг, Инт. 60 циклов/час, скорость до 0,37 м/с, ВЫСОКОРОСТНОЙ | C33: КОМПЛЕКТ | D33: RUN1200HSBDKLT | F33: RUN1200HS | G33: =VLOOKUP(F33,'Общий прайс лист'!A:B,2,FALSE) -> Привод для откатных ворот RUN1200HS | H33: 1 | I33: =VLOOKUP(F33,'Общий прайс лист'!A:D,4,FALSE) -> 106900 | J33: =VLOOKUP(D33,'Общий прайс лист'!A:D,4,FALSE) -> 106900
F34: OXIBD | G34: =VLOOKUP(F34,'Общий прайс лист'!A:B,2,FALSE) -> Приемник OXIBD с обратной связью | H34: 1 | I34: =VLOOKUP(F34,'Общий прайс лист'!A:D,4,FALSE) -> 9490
F35: INTI2R | G35: Пульт управления INTI2R (цвет красный) | H35: 2
B36: Рекомендуемые дополнительные аксессуары → | F36: EDSWG | G36: =VLOOKUP(F36,'Общий прайс лист'!A:B,2,FALSE) -> Цифровой переключатель FLOR EDSW | I36: =VLOOKUP(F36,'Общий прайс лист'!A:D,4,FALSE) -> 14900
F37: EPMORB | G37: =VLOOKUP(F37,'Общий прайс лист'!A:B,2,FALSE) -> Фотоэлементы с зеркально-линзовым объективом BlueBus | I37: =VLOOKUP(F37,'Общий прайс лист'!A:D,4,FALSE) -> 9900
B38: до 1200 кг, Инт. 60 циклов/час, скорость до 0,37 м/с, ВЫСОКОРОСТНОЙ | C38: КОМПЛЕКТ | D38: RUN1200HSBDKCE | F38: RUN1200HS | G38: =VLOOKUP(F38,'Общий прайс лист'!A:B,2,FALSE) -> Привод для откатных ворот RUN1200HS | H38: 1 | I38: =VLOOKUP(F38,'Общий прайс лист'!A:D,4,FALSE) -> 106900 | J38: =VLOOKUP(D38,'Общий прайс лист'!A:D,4,FALSE) -> 116900
F39: OXIBD | G39: =VLOOKUP(F39,'Общий прайс лист'!A:B,2,FALSE) -> Приемник OXIBD с обратной связью | H39: 1 | I39: =VLOOKUP(F39,'Общий прайс лист'!A:D,4,FALSE) -> 9490
F40: INTI2R | G40: Пульт управления INTI2R (цвет красный) | H40: 2
F41: EPMB | G41: =VLOOKUP(F41,'Общий прайс лист'!A:B,2,FALSE) -> Фотоэлементы Medium BlueBus EPMB | H41: 1 | I41: =VLOOKUP(F41,'Общий прайс лист'!A:D,4,FALSE) -> 6900
F42: ELDC | G42: =VLOOKUP(F42,'Общий прайс лист'!A:B,2,FALSE) -> Лампа сигнальная с антенной 12В/24В ELDC | H42: 1 | I42: =VLOOKUP(F42,'Общий прайс лист'!A:D,4,FALSE) -> 5900
B43: Рекомендуемые дополнительные аксессуары → | F43: EDSWG | G43: =VLOOKUP(F43,'Общий прайс лист'!A:B,2,FALSE) -> Цифровой переключатель FLOR EDSW | I43: =VLOOKUP(F43,'Общий прайс лист'!A:D,4,FALSE) -> 14900
F44: EPMORB | G44: =VLOOKUP(F44,'Общий прайс лист'!A:B,2,FALSE) -> Фотоэлементы с зеркально-линзовым объективом BlueBus | I44: =VLOOKUP(F44,'Общий прайс лист'!A:D,4,FALSE) -> 9900
A45: ПРИВОДЫ ДЛЯ РАСПАШНЫХ ВОРОТ
A46: WINGO HI-SPEED | B46: до 200кг или до 3 м. инт. 30 циклов/час, ВЫСОКОРОСТНОЙ, открытие на 90 градусов за 10 секунд! | C46: КОМПЛЕКТ | D46: WG3524HSBDKLT | F46: WG3524HS | G46: =VLOOKUP(F46,'Общий прайс лист'!A:B,2,FALSE) -> Привод для распашных ворот WG3524HS | H46: 2 | I46: =VLOOKUP(F46,'Общий прайс лист'!A:D,4,FALSE) -> 38900 | J46: =VLOOKUP(D46,'Общий прайс лист'!A:D,4,FALSE) -> 69900
F47: MC824H | G47: =VLOOKUP(F47,'Общий прайс лист'!A:B,2,FALSE) -> Блок управления MC824H | H47: 1 | I47: =VLOOKUP(F47,'Общий прайс лист'!A:D,4,FALSE) -> 32490
F48: OXIBD | G48: =VLOOKUP(F48,'Общий прайс лист'!A:B,2,FALSE) -> Приемник OXIBD с обратной связью | H48: 1 | I48: =VLOOKUP(F48,'Общий прайс лист'!A:D,4,FALSE) -> 9490
F49: INTI2R | G49: Пульт управления INTI2R (цвет красный) | H49: 2
B50: до 200кг или до 3 м. инт. 30 циклов/час, ВЫСОКОРОСТНОЙ, открытие на 90 градусов за 10 секунд! | C50: КОМПЛЕКТ | D50: WG3524HSON3KLT | F50: WG3524HS | G50: =VLOOKUP(F50,'Общий прайс лист'!A:B,2,FALSE) -> Привод для распашных ворот WG3524HS | H50: 2 | I50: =VLOOKUP(F50,'Общий прайс лист'!A:D,4,FALSE) -> 38900 | J50: =VLOOKUP(D50,'Общий прайс лист'!A:D,4,FALSE) -> 64900
F51: MC824H | G51: =VLOOKUP(F51,'Общий прайс лист'!A:B,2,FALSE) -> Блок управления MC824H | H51: 1 | I51: =VLOOKUP(F51,'Общий прайс лист'!A:D,4,FALSE) -> 32490
F52: OXIBD | G52: =VLOOKUP(F52,'Общий прайс лист'!A:B,2,FALSE) -> Приемник OXIBD с обратной связью | H52: 1 | I52: =VLOOKUP(F52,'Общий прайс лист'!A:D,4,FALSE) -> 9490
F53: ON3EBD | G53: Пульт управления ON3EBD | H53: 3
B54: Рекомендуемые дополнительные аксессуары → | F54: PLA10 | G54: =VLOOKUP(F54,'Общий прайс лист'!A:B,2,FALSE) -> Электромеханический замок вертикальный, 12В PLA10 | I54: =VLOOKUP(F54,'Общий прайс лист'!A:D,4,FALSE) -> 20900
F55: PLA11 | G55: =VLOOKUP(F55,'Общий прайс лист'!A:B,2,FALSE) -> Электромеханический замок горизонтальный, 12В PLA11 | I55: =VLOOKUP(F55,'Общий прайс лист'!A:D,4,FALSE) -> 20900
F56: EPMORB | G56: =VLOOKUP(F56,'Общий прайс лист'!A:B,2,FALSE) -> Фотоэлементы с зеркально-линзовым объективом BlueBus | I56: =VLOOKUP(F56,'Общий прайс лист'!A:D,4,FALSE) -> 9900
F57: EDSWG | G57: =VLOOKUP(F57,'Общий прайс лист'!A:B,2,FALSE) -> Цифровой переключатель FLOR EDSW | I57: =VLOOKUP(F57,'Общий прайс лист'!A:D,4,FALSE) -> 14900
F58: PS324/PSS324 | G58: Аккумуляторная батарея (в зависимости от модификации привода)
B59: до 200кг или до 3 м. инт. 30 циклов/час, ВЫСОКОРОСТНОЙ, открытие на 90 градусов за 10 секунд! | C59: КОМПЛЕКТ | D59: WG3524HSBDKCE | F59: WG3524HS | G59: =VLOOKUP(F59,'Общий прайс лист'!A:B,2,FALSE) -> Привод для распашных ворот WG3524HS | H59: 2 | I59: =VLOOKUP(F59,'Общий прайс лист'!A:D,4,FALSE) -> 38900 | J59: =VLOOKUP(D59,'Общий прайс лист'!A:D,4,FALSE) -> 79900
F60: MC824H | G60: =VLOOKUP(F60,'Общий прайс лист'!A:B,2,FALSE) -> Блок управления MC824H | H60: 1 | I60: =VLOOKUP(F60,'Общий прайс лист'!A:D,4,FALSE) -> 32490
F61: OXIBD | G61: =VLOOKUP(F61,'Общий прайс лист'!A:B,2,FALSE) -> Приемник OXIBD с обратной связью | H61: 1 | I61: =VLOOKUP(F61,'Общий прайс лист'!A:D,4,FALSE) -> 9490
F62: INTI2R | G62: Пульт управления INTI2R (цвет красный) | H62: 2
F63: EPMB | G63: =VLOOKUP(F63,'Общий прайс лист'!A:B,2,FALSE) -> Фотоэлементы Medium BlueBus EPMB | H63: 1 | I63: =VLOOKUP(F63,'Общий прайс лист'!A:D,4,FALSE) -> 6900
F64: ELDC | G64: =VLOOKUP(F64,'Общий прайс лист'!A:B,2,FALSE) -> Лампа сигнальная с антенной 12В/24В ELDC | H64: 1 | I64: =VLOOKUP(F64,'Общий прайс лист'!A:D,4,FALSE) -> 5900
B65: до 200кг или до 3 м. инт. 30 циклов/час, ВЫСОКОРОСТНОЙ, открытие на 90 градусов за 10 секунд! | D65: WG3524HSON3KCE | F65: WG3524HS | G65: =VLOOKUP(F65,'Общий прайс лист'!A:B,2,FALSE) -> Привод для распашных ворот WG3524HS | H65: 2 | I65: =VLOOKUP(F65,'Общий прайс лист'!A:D,4,FALSE) -> 38900 | J65: =VLOOKUP(D65,'Общий прайс лист'!A:D,4,FALSE) -> 74900
F66: MC824H | G66: =VLOOKUP(F66,'Общий прайс лист'!A:B,2,FALSE) -> Блок управления MC824H | H66: 1 | I66: =VLOOKUP(F66,'Общий прайс лист'!A:D,4,FALSE) -> 32490
F67: OXIBD | G67: =VLOOKUP(F67,'Общий прайс лист'!A:B,2,FALSE) -> Приемник OXIBD с обратной связью | H67: 1 | I67: =VLOOKUP(F67,'Общий прайс лист'!A:D,4,FALSE) -> 9490
F68: ON3EBD | G68: Пульт управления ON3EBD | H68: 2
F69: EPMB | G69: =VLOOKUP(F69,'Общий прайс лист'!A:B,2,FALSE) -> Фотоэлементы Medium BlueBus EPMB | H69: 1 | I69: =VLOOKUP(F69,'Общий прайс лист'!A:D,4,FALSE) -> 6900
F70: ELDC | G70: =VLOOKUP(F70,'Общий прайс лист'!A:B,2,FALSE) -> Лампа сигнальная с антенной 12В/24В ELDC | H70: 1 | I70: =VLOOKUP(F70,'Общий прайс лист'!A:D,4,FALSE) -> 5900
B71: Рекомендуемые дополнительные аксессуары → | F71: PLA10 | G71: =VLOOKUP(F71,'Общий прайс лист'!A:B,2,FALSE) -> Электромеханический замок вертикальный, 12В PLA10 | I71: =VLOOKUP(F71,'Общий прайс лист'!A:D,4,FALSE) -> 20900
F72: PLA11 | G72: =VLOOKUP(F72,'Общий прайс лист'!A:B,2,FALSE) -> Электромеханический замок горизонтальный, 12В PLA11 | I72: =VLOOKUP(F72,'Общий прайс лист'!A:D,4,FALSE) -> 20900
F73: EPMORB | G73: =VLOOKUP(F73,'Общий прайс лист'!A:B,2,FALSE) -> Фотоэлементы с зеркально-линзовым объективом BlueBus | I73: =VLOOKUP(F73,'Общий прайс лист'!A:D,4,FALSE) -> 9900
F74: EDSWG | G74: =VLOOKUP(F74,'Общий прайс лист'!A:B,2,FALSE) -> Цифровой переключатель FLOR EDSW | I74: =VLOOKUP(F74,'Общий прайс лист'!A:D,4,FALSE) -> 14900
F75: PS324/PSS324 | G75: Аккумуляторная батарея (в зависимости от модификации привода)
A76: TOONA HI-SPEED | B76: до 400кг или до 5 м. инт. 95 циклов/час, ВЫСОКОРОСТНОЙ, открытие на 90 градусов за 16 cекунд! | C76: КОМПЛЕКТЫ | D76: TO5024HSBDKLT | F76: TO5024HS | G76: =VLOOKUP(F76,'Общий прайс лист'!A:B,2,FALSE) -> Привод для распашных ворот TO5024HS | H76: 2 | I76: =VLOOKUP(F76,'Общий прайс лист'!A:D,4,FALSE) -> 38900 | J76: =VLOOKUP(D76,'Общий прайс лист'!A:D,4,FALSE) -> 80900
F77: MC824H | G77: =VLOOKUP(F77,'Общий прайс лист'!A:B,2,FALSE) -> Блок управления MC824H | H77: 1 | I77: =VLOOKUP(F77,'Общий прайс лист'!A:D,4,FALSE) -> 32490
F78: OXIBD | G78: =VLOOKUP(F78,'Общий прайс лист'!A:B,2,FALSE) -> Приемник OXIBD с обратной связью | H78: 1 | I78: =VLOOKUP(F78,'Общий прайс лист'!A:D,4,FALSE) -> 9490
F79: INTI2R | G79: Пульт управления INTI2R (цвет красный) | H79: 2
B80: до 400кг или до 5 м. инт. 95 циклов/час, ВЫСОКОРОСТНОЙ, открытие на 90 градусов за 16 секунд! | C80: КОМПЛЕКТЫ | D80: TO5024HSON3KLT | F80: TO5024HS | G80: =VLOOKUP(F80,'Общий прайс лист'!A:B,2,FALSE) -> Привод для распашных ворот TO5024HS | H80: 2 | I80: =VLOOKUP(F80,'Общий прайс лист'!A:D,4,FALSE) -> 38900 | J80: =VLOOKUP(D80,'Общий прайс лист'!A:D,4,FALSE) -> 75900
F81: MC824H | G81: =VLOOKUP(F81,'Общий прайс лист'!A:B,2,FALSE) -> Блок управления MC824H | H81: 1 | I81: =VLOOKUP(F81,'Общий прайс лист'!A:D,4,FALSE) -> 32490
F82: OXIBD | G82: =VLOOKUP(F82,'Общий прайс лист'!A:B,2,FALSE) -> Приемник OXIBD с обратной связью | H82: 1 | I82: =VLOOKUP(F82,'Общий прайс лист'!A:D,4,FALSE) -> 9490
F83: ON3EBD | G83: Пульт управления ON3EBD | H83: 2
B84: Рекомендуемые дополнительные аксессуары → | F84: PLA10 | G84: =VLOOKUP(F84,'Общий прайс лист'!A:B,2,FALSE) -> Электромеханический замок вертикальный, 12В PLA10 | I84: =VLOOKUP(F84,'Общий прайс лист'!A:D,4,FALSE) -> 20900
F85: PLA11 | G85: =VLOOKUP(F85,'Общий прайс лист'!A:B,2,FALSE) -> Электромеханический замок горизонтальный, 12В PLA11 | I85: =VLOOKUP(F85,'Общий прайс лист'!A:D,4,FALSE) -> 20900
F86: EPMORB | G86: =VLOOKUP(F86,'Общий прайс лист'!A:B,2,FALSE) -> Фотоэлементы с зеркально-линзовым объективом BlueBus | I86: =VLOOKUP(F86,'Общий прайс лист'!A:D,4,FALSE) -> 9900
F87: EDSWG | G87: =VLOOKUP(F87,'Общий прайс лист'!A:B,2,FALSE) -> Цифровой переключатель FLOR EDSW | I87: =VLOOKUP(F87,'Общий прайс лист'!A:D,4,FALSE) -> 14900
F88: PS324/PSS324 | G88: Аккумуляторная батарея (в зависимости от модификации привода)
B89: до 400кг или до 5 м. инт. 95 циклов/час, ВЫСОКОРОСТНОЙ, открытие на 90 градусов за 16 секунд! | C89: КОМПЛЕКТ | D89: TO5024HSBDKCE | F89: TO5024HS | G89: =VLOOKUP(F89,'Общий прайс лист'!A:B,2,FALSE) -> Привод для распашных ворот TO5024HS | H89: 2 | I89: =VLOOKUP(F89,'Общий прайс лист'!A:D,4,FALSE) -> 38900 | J89: =VLOOKUP(D89,'Общий прайс лист'!A:D,4,FALSE) -> 90900
F90: MC824H | G90: =VLOOKUP(F90,'Общий прайс лист'!A:B,2,FALSE) -> Блок управления MC824H | H90: 1 | I90: =VLOOKUP(F90,'Общий прайс лист'!A:D,4,FALSE) -> 32490
F91: OXIBD | G91: =VLOOKUP(F91,'Общий прайс лист'!A:B,2,FALSE) -> Приемник OXIBD с обратной связью | H91: 1 | I91: =VLOOKUP(F91,'Общий прайс лист'!A:D,4,FALSE) -> 9490
F92: INTI2R | G92: Пульт управления INTI2R (цвет красный) | H92: 2
F93: EPMB | G93: =VLOOKUP(F93,'Общий прайс лист'!A:B,2,FALSE) -> Фотоэлементы Medium BlueBus EPMB | H93: 1 | I93: =VLOOKUP(F93,'Общий прайс лист'!A:D,4,FALSE) -> 6900
F94: ELDC | G94: =VLOOKUP(F94,'Общий прайс лист'!A:B,2,FALSE) -> Лампа сигнальная с антенной 12В/24В ELDC | H94: 1 | I94: =VLOOKUP(F94,'Общий прайс лист'!A:D,4,FALSE) -> 5900
B95: до 400кг или до 5 м. инт. 95 циклов/час, ВЫСОКОРОСТНОЙ, открытие на 90 градусов за 16 секунд! | C95: КОМПЛЕКТ | D95: TO5024HSON3KCE | F95: TO5024HS | G95: =VLOOKUP(F95,'Общий прайс лист'!A:B,2,FALSE) -> Привод для распашных ворот TO5024HS | H95: 2 | I95: =VLOOKUP(F95,'Общий прайс лист'!A:D,4,FALSE) -> 38900 | J95: =VLOOKUP(D95,'Общий прайс лист'!A:D,4,FALSE) -> 85900
F96: MC824H | G96: =VLOOKUP(F96,'Общий прайс лист'!A:B,2,FALSE) -> Блок управления MC824H | H96: 1 | I96: =VLOOKUP(F96,'Общий прайс лист'!A:D,4,FALSE) -> 32490
F97: OXIBD | G97: =VLOOKUP(F97,'Общий прайс лист'!A:B,2,FALSE) -> Приемник OXIBD с обратной связью | H97: 1 | I97: =VLOOKUP(F97,'Общий прайс лист'!A:D,4,FALSE) -> 9490
F98: ON3EBD | G98: Пульт управления ON3EBD | H98: 2
F99: EPMB | G99: =VLOOKUP(F99,'Общий прайс лист'!A:B,2,FALSE) -> Фотоэлементы Medium BlueBus EPMB | H99: 1 | I99: =VLOOKUP(F99,'Общий прайс лист'!A:D,4,FALSE) -> 6900
F100: ELDC | G100: =VLOOKUP(F100,'Общий прайс лист'!A:B,2,FALSE) -> Лампа сигнальная с антенной 12В/24В ELDC | H100: 1 | I100: =VLOOKUP(F100,'Общий прайс лист'!A:D,4,FALSE) -> 5900
...

Sheet Компл. авт. для распашных ворот
A1: Серия | B1: ОСНОВНЫЕ ХАРАКТЕРИСТИКИ | C1: Артикулы для заказа | G1: Описание | H1: Кол-во | I1: Розн. Цена за шт. | J1: Розн. Цена за комплекты | L1: Оглавление
A3: WINGO | B3: до 400кг или до 2 м инт. 50%, режим калитки инт. 50% | C3: КОМПЛЕКТЫ | D3: WINGO2024KCE | F3: WG4024 | G3: =VLOOKUP(F3,'Общий прайс лист'!A:B,2,FALSE) -> Привод для распашных ворот WG4024 | H3: 2 | I3: =VLOOKUP(F3,'Общий прайс лист'!A:D,4,FALSE) -> 38900 | J3: =VLOOKUP(D3,'Общий прайс лист'!A:D,4,FALSE) -> 59900
F4: MC424L | G4: =VLOOKUP(F4,'Общий прайс лист'!A:B,2,FALSE) -> Блок управления MC424L, встроенный радиоприемник на 100 пультов, SM-разъем | H4: 1 | I4: =VLOOKUP(F4,'Общий прайс лист'!A:D,4,FALSE) -> 32490
F5: INTI2 | G5: Пульт управления INTI2 (цвет чёрный) | H5: 2
D6: WINGO4024BDKCE | F6: WG4024 | G6: =VLOOKUP(F6,'Общий прайс лист'!A:B,2,FALSE) -> Привод для распашных ворот WG4024 | H6: 2 | I6: =VLOOKUP(F6,'Общий прайс лист'!A:D,4,FALSE) -> 38900 | J6: =VLOOKUP(D6,'Общий прайс лист'!A:D,4,FALSE) -> 69900
F7: MC424L | G7: =VLOOKUP(F7,'Общий прайс лист'!A:B,2,FALSE) -> Блок управления MC424L, встроенный радиоприемник на 100 пультов, SM-разъем | H7: 1 | I7: =VLOOKUP(F7,'Общий прайс лист'!A:D,4,FALSE) -> 32490
F8: INTI2 | G8: Пульт управления INTI2 (цвет чёрный) | H8: 2
F9: OXIBD | G9: =VLOOKUP(F9,'Общий прайс лист'!A:B,2,FALSE) -> Приемник OXIBD с обратной связью | H9: 1 | I9: =VLOOKUP(F9,'Общий прайс лист'!A:D,4,FALSE) -> 9490
F10: EPM | G10: =VLOOKUP(F10,'Общий прайс лист'!A:B,2,FALSE) -> Фотоэлементы Medium EPM | H10: 1 | I10: =VLOOKUP(F10,'Общий прайс лист'!A:D,4,FALSE) -> 6900
F11: ELDC | G11: =VLOOKUP(F11,'Общий прайс лист'!A:B,2,FALSE) -> Лампа сигнальная с антенной 12В/24В ELDC | H11: 1 | I11: =VLOOKUP(F11,'Общий прайс лист'!A:D,4,FALSE) -> 5900
B12: Рекомендуемые дополнительные аксессуары → | F12: PLA10 | G12: =VLOOKUP(F12,'Общий прайс лист'!A:B,2,FALSE) -> Электромеханический замок вертикальный, 12В PLA10 | I12: =VLOOKUP(F12,'Общий прайс лист'!A:D,4,FALSE) -> 20900
F13: PLA11 | G13: =VLOOKUP(F13,'Общий прайс лист'!A:B,2,FALSE) -> Электромеханический замок горизонтальный, 12В PLA11 | I13: =VLOOKUP(F13,'Общий прайс лист'!A:D,4,FALSE) -> 20900
F14: EDSWG | G14: =VLOOKUP(F14,'Общий прайс лист'!A:B,2,FALSE) -> Цифровой переключатель FLOR EDSW | I14: =VLOOKUP(F14,'Общий прайс лист'!A:D,4,FALSE) -> 14900
F15: EPMOR | G15: =VLOOKUP(F15,'Общий прайс лист'!A:B,2,FALSE) -> Фотоэлементы с зеркально-линзовым объективом | I15: =VLOOKUP(F15,'Общий прайс лист'!A:D,4,FALSE) -> 9900
F16: PS124/PSS124 | G16: Аккумуляторная батарея (в зависимости от модификации привода)
B17: до 500кг или до 3,5 м инт. 50%, режим калитки инт. 50% | C17: КОМПЛЕКТЫ | D17: WINGO3524KCE | F17: WG5024 | G17: =VLOOKUP(F17,'Общий прайс лист'!A:B,2,FALSE) -> Привод для распашных ворот WG5024 | H17: 2 | I17: =VLOOKUP(F17,'Общий прайс лист'!A:D,4,FALSE) -> 38900 | J17: =VLOOKUP(D17,'Общий прайс лист'!A:D,4,FALSE) -> 69900
F18: MC424L | G18: =VLOOKUP(F18,'Общий прайс лист'!A:B,2,FALSE) -> Блок управления MC424L, встроенный радиоприемник на 100 пультов, SM-разъем | H18: 1 | I18: =VLOOKUP(F18,'Общий прайс лист'!A:D,4,FALSE) -> 32490
F19: INTI2 | G19: Пульт управления INTI2 (цвет чёрный) | H19: 2
D20: WINGO5024BDKCE | F20: WG5024 | G20: =VLOOKUP(F20,'Общий прайс лист'!A:B,2,FALSE) -> Привод для распашных ворот WG5024 | H20: 2 | I20: =VLOOKUP(F20,'Общий прайс лист'!A:D,4,FALSE) -> 38900 | J20: =VLOOKUP(D20,'Общий прайс лист'!A:D,4,FALSE) -> 79900
F21: MC424L | G21: =VLOOKUP(F21,'Общий прайс лист'!A:B,2,FALSE) -> Блок управления MC424L, встроенный радиоприемник на 100 пультов, SM-разъем | H21: 1 | I21: =VLOOKUP(F21,'Общий прайс лист'!A:D,4,FALSE) -> 32490
F22: INTI2 | G22: Пульт управления INTI2 (цвет чёрный) | H22: 2
F23: OXIBD | G23: =VLOOKUP(F23,'Общий прайс лист'!A:B,2,FALSE) -> Приемник OXIBD с обратной связью | H23: 1 | I23: =VLOOKUP(F23,'Общий прайс лист'!A:D,4,FALSE) -> 9490
F24: EPM | G24: =VLOOKUP(F24,'Общий прайс лист'!A:B,2,FALSE) -> Фотоэлементы Medium EPM | H24: 1 | I24: =VLOOKUP(F24,'Общий прайс лист'!A:D,4,FALSE) -> 6900
F25: ELDC | G25: =VLOOKUP(F25,'Общий прайс лист'!A:B,2,FALSE) -> Лампа сигнальная с антенной 12В/24В ELDC | H25: 1 | I25: =VLOOKUP(F25,'Общий прайс лист'!A:D,4,FALSE) -> 5900
B26: Рекомендуемые дополнительные аксессуары → | F26: PLA10 | G26: =VLOOKUP(F26,'Общий прайс лист'!A:B,2,FALSE) -> Электромеханический замок вертикальный, 12В PLA10 | I26: =VLOOKUP(F26,'Общий прайс лист'!A:D,4,FALSE) -> 20900
F27: PLA11 | G27: =VLOOKUP(F27,'Общий прайс лист'!A:B,2,FALSE) -> Электромеханический замок горизонтальный, 12В PLA11 | I27: =VLOOKUP(F27,'Общий прайс лист'!A:D,4,FALSE) -> 20900
F28: EDSWG | G28: =VLOOKUP(F28,'Общий прайс лист'!A:B,2,FALSE) -> Цифровой переключатель FLOR EDSW | I28: =VLOOKUP(F28,'Общий прайс лист'!A:D,4,FALSE) -> 14900
F29: EPMOR | G29: =VLOOKUP(F29,'Общий прайс лист'!A:B,2,FALSE) -> Фотоэлементы с зеркально-линзовым объективом | I29: =VLOOKUP(F29,'Общий прайс лист'!A:D,4,FALSE) -> 9900
F30: PS124/PSS124 | G30: Аккумуляторная батарея (в зависимости от модификации привода)
A31: WINGO HI-SPEED | B31: до 200кг или до 3 м. инт. 30 циклов/час, ВЫСОКОРОСТНОЙ, открытие на 90 градусов за 10 секунд! | C31: КОМПЛЕКТ | D31: WG3524HSBDKCE | E31: WG3524HSBDKLT | F31: WG3524HS | G31: =VLOOKUP(F31,'Общий прайс лист'!A:B,2,FALSE) -> Привод для распашных ворот WG3524HS | H31: 2 | I31: =VLOOKUP(F31,'Общий прайс лист'!A:D,4,FALSE) -> 38900 | J31: =VLOOKUP(E31,'Общий прайс лист'!A:D,4,FALSE) -> 69900 | K31: =VLOOKUP(D31,'Общий прайс лист'!A:D,4,FALSE) -> 79900
F32: MC824H | G32: =VLOOKUP(F32,'Общий прайс лист'!A:B,2,FALSE) -> Блок управления MC824H | H32: 1 | I32: =VLOOKUP(F32,'Общий прайс лист'!A:D,4,FALSE) -> 32490
F33: OXIBD | G33: =VLOOKUP(F33,'Общий прайс лист'!A:B,2,FALSE) -> Приемник OXIBD с обратной связью | H33: 1 | I33: =VLOOKUP(F33,'Общий прайс лист'!A:D,4,FALSE) -> 9490
F34: INTI2R | G34: Пульт управления INTI2R (цвет красный) | H34: 2
F35: EPMB | G35: =VLOOKUP(F35,'Общий прайс лист'!A:B,2,FALSE) -> Фотоэлементы Medium BlueBus EPMB | H35: 1 | I35: =VLOOKUP(F35,'Общий прайс лист'!A:D,4,FALSE) -> 6900
F36: ELDC | G36: =VLOOKUP(F36,'Общий прайс лист'!A:B,2,FALSE) -> Лампа сигнальная с антенной 12В/24В ELDC | H36: 1 | I36: =VLOOKUP(F36,'Общий прайс лист'!A:D,4,FALSE) -> 5900
B37: до 200кг или до 3 м. инт. 30 циклов/час, ВЫСОКОРОСТНОЙ, открытие на 90 градусов за 10 секунд! | C37: КОМПЛЕКТ | D37: WG3524HSON3KCE | E37: WG3524HSON3KLT | F37: WG3524HS | G37: =VLOOKUP(F37,'Общий прайс лист'!A:B,2,FALSE) -> Привод для распашных ворот WG3524HS | H37: 2 | I37: =VLOOKUP(F37,'Общий прайс лист'!A:D,4,FALSE) -> 38900 | J37: =VLOOKUP(E37,'Общий прайс лист'!A:D,4,FALSE) -> 64900 | K37: =VLOOKUP(D37,'Общий прайс лист'!A:D,4,FALSE) -> 74900
F38: MC824H | G38: =VLOOKUP(F38,'Общий прайс лист'!A:B,2,FALSE) -> Блок управления MC824H | H38: 1 | I38: =VLOOKUP(F38,'Общий прайс лист'!A:D,4,FALSE) -> 32490
F39: OXIBD | G39: =VLOOKUP(F39,'Общий прайс лист'!A:B,2,FALSE) -> Приемник OXIBD с обратной связью | H39: 1 | I39: =VLOOKUP(F39,'Общий прайс лист'!A:D,4,FALSE) -> 9490
F40: ON3EBD | G40: Пульт управления ON3EBD | H40: 2
F41: EPMB | G41: =VLOOKUP(F41,'Общий прайс лист'!A:B,2,FALSE) -> Фотоэлементы Medium BlueBus EPMB | H41: 1 | I41: =VLOOKUP(F41,'Общий прайс лист'!A:D,4,FALSE) -> 6900
F42: ELDC | G42: =VLOOKUP(F42,'Общий прайс лист'!A:B,2,FALSE) -> Лампа сигнальная с антенной 12В/24В ELDC | H42: 1 | I42: =VLOOKUP(F42,'Общий прайс лист'!A:D,4,FALSE) -> 5900
B43: Рекомендуемые дополнительные аксессуары → | F43: PLA11 | G43: =VLOOKUP(F43,'Общий прайс лист'!A:B,2,FALSE) -> Электромеханический замок горизонтальный, 12В PLA11 | I43: =VLOOKUP(F43,'Общий прайс лист'!A:D,4,FALSE) -> 20900
F44: EDSWG | G44: =VLOOKUP(F44,'Общий прайс лист'!A:B,2,FALSE) -> Цифровой переключатель FLOR EDSW | I44: =VLOOKUP(F44,'Общий прайс лист'!A:D,4,FALSE) -> 14900
F45: EPMORB | G45: =VLOOKUP(F45,'Общий прайс лист'!A:B,2,FALSE) -> Фотоэлементы с зеркально-линзовым объективом BlueBus | I45: =VLOOKUP(F45,'Общий прайс лист'!A:D,4,FALSE) -> 9900
F46: PS324/PSS324 | G46: Аккумуляторная батарея (в зависимости от модификации привода)
A47: WINGO
B48: до 400кг или до 2 м | C48: КОМПЛЕКТ | D48: WINGO4KLT | F48: WG4000 | G48: =VLOOKUP(F48,'Общий прайс лист'!A:B,2,FALSE) -> Привод для распашных ворот WG4000 | H48: 2 | I48: =VLOOKUP(F48,'Общий прайс лист'!A:D,4,FALSE) -> 38900 | J48: =VLOOKUP(D48,'Общий прайс лист'!A:D,4,FALSE) -> 59900
F49: MC800 | G49: Блок управления | H49: 1 | I49: =VLOOKUP(F49,'Общий прайс лист'!A:D,4,FALSE) -> 32490
F50: OXIBD | G50: Радиоприемник | H50: 1 | I50: =VLOOKUP(F50,'Общий прайс лист'!A:D,4,FALSE) -> 9490
F51: INTI2 | G51: Пульт управления INTI2 (цвет чёрный) | H51: 2
B53: до 400кг или до 2 м | C53: КОМПЛЕКТЫ | D53: WINGO4BDKCE | F53: WG4000 | G53: =VLOOKUP(F53,'Общий прайс лист'!A:B,2,FALSE) -> Привод для распашных ворот WG4000 | H53: 2 | I53: =VLOOKUP(F53,'Общий прайс лист'!A:D,4,FALSE) -> 38900 | J53: =VLOOKUP(D53,'Общий прайс лист'!A:D,4,FALSE) -> 69900
F54: MC800 | G54: =VLOOKUP(F54,'Общий прайс лист'!A:B,2,FALSE) -> Блок управления MC800 | H54: 1 | I54: =VLOOKUP(F54,'Общий прайс лист'!A:D,4,FALSE) -> 32490
F55: OXIBD | G55: =VLOOKUP(F55,'Общий прайс лист'!A:B,2,FALSE) -> Приемник OXIBD с обратной связью | H55: 1 | I55: =VLOOKUP(F55,'Общий прайс лист'!A:D,4,FALSE) -> 9490
F56: EPM | G56: =VLOOKUP(F56,'Общий прайс лист'!A:B,2,FALSE) -> Фотоэлементы Medium EPM | H56: 1 | I56: =VLOOKUP(F56,'Общий прайс лист'!A:D,4,FALSE) -> 6900
F57: ELAC | G57: =VLOOKUP(F57,'Общий прайс лист'!A:B,2,FALSE) -> Лампа сигнальная с антенной, 230В ELAC | H57: 1 | I57: =VLOOKUP(F57,'Общий прайс лист'!A:D,4,FALSE) -> 5900
F58: INTI2 | G58: Пульт управления INTI2 (цвет чёрный) | H58: 2
B60: до 500кг или до 3,5 м | C60: КОМПЛЕКТ | D60: WINGO5KLT | F60: WG5000 | G60: =VLOOKUP(F60,'Общий прайс лист'!A:B,2,FALSE) -> Привод для распашных ворот WG5000 | H60: 2 | I60: =VLOOKUP(F60,'Общий прайс лист'!A:D,4,FALSE) -> 38900 | J60: =VLOOKUP(D60,'Общий прайс лист'!A:D,4,FALSE) -> 69900
F61: MC800 | G61: =VLOOKUP(F61,'Общий прайс лист'!A:B,2,FALSE) -> Блок управления MC800 | H61: 1 | I61: =VLOOKUP(F61,'Общий прайс лист'!A:D,4,FALSE) -> 32490
F62: OXIBD | G62: =VLOOKUP(F62,'Общий прайс лист'!A:B,2,FALSE) -> Приемник OXIBD с обратной связью | H62: 1 | I62: =VLOOKUP(F62,'Общий прайс лист'!A:D,4,FALSE) -> 9490
F63: INTI2 | G63: Пульт управления INTI2 (цвет чёрный) | H63: 2
B65: до 500кг или до 3,5 м | C65: КОМПЛЕКТЫ | D65: WINGO5BDKCE | F65: WG5000 | G65: =VLOOKUP(F65,'Общий прайс лист'!A:B,2,FALSE) -> Привод для распашных ворот WG5000 | H65: 2 | I65: =VLOOKUP(F65,'Общий прайс лист'!A:D,4,FALSE) -> 38900 | J65: =VLOOKUP(D65,'Общий прайс лист'!A:D,4,FALSE) -> 79900
F66: MC800 | G66: =VLOOKUP(F66,'Общий прайс лист'!A:B,2,FALSE) -> Блок управления MC800 | H66: 1 | I66: =VLOOKUP(F66,'Общий прайс лист'!A:D,4,FALSE) -> 32490
F67: OXIBD | G67: =VLOOKUP(F67,'Общий прайс лист'!A:B,2,FALSE) -> Приемник OXIBD с обратной связью | H67: 1 | I67: =VLOOKUP(F67,'Общий прайс лист'!A:D,4,FALSE) -> 9490
F68: EPM | G68: =VLOOKUP(F68,'Общий прайс лист'!A:B,2,FALSE) -> Фотоэлементы Medium EPM | H68: 1 | I68: =VLOOKUP(F68,'Общий прайс лист'!A:D,4,FALSE) -> 6900
F69: ELAC | G69: =VLOOKUP(F69,'Общий прайс лист'!A:B,2,FALSE) -> Лампа сигнальная с антенной, 230В ELAC | H69: 1 | I69: =VLOOKUP(F69,'Общий прайс лист'!A:D,4,FALSE) -> 5900
F70: INTI2 | G70: Пульт управления INTI2 (цвет чёрный) | H70: 2
A71: TOONA | B71: до 800кг или до 3,0м. инт. 100%, режим калитки | C71: КОМПЛЕКТ | D71: TOONA4024BDKCE | F71: TO4024 | G71: =VLOOKUP(F71,'Общий прайс лист'!A:B,2,FALSE) -> Привод для распашных ворот TO4024 | H71: 2 | I71: =VLOOKUP(F71,'Общий прайс лист'!A:D,4,FALSE) -> 38900 | J71: =VLOOKUP(D71,'Общий прайс лист'!A:D,4,FALSE) -> 80900
F72: MC824H | G72: =VLOOKUP(F72,'Общий прайс лист'!A:B,2,FALSE) -> Блок управления MC824H | H72: 1 | I72: =VLOOKUP(F72,'Общий прайс лист'!A:D,4,FALSE) -> 32490
F73: OXIBD | G73: =VLOOKUP(F73,'Общий прайс лист'!A:B,2,FALSE) -> Приемник OXIBD с обратной связью | H73: 1 | I73: =VLOOKUP(F73,'Общий прайс лист'!A:D,4,FALSE) -> 9490
F74: MYGO4 | G74: Пульт управления MYGO | H74: 2
F75: ELDC | G75: =VLOOKUP(F75,'Общий прайс лист'!A:B,2,FALSE) -> Лампа сигнальная с антенной 12В/24В ELDC | H75: 1 | I75: =VLOOKUP(F75,'Общий прайс лист'!A:D,4,FALSE) -> 5900
F76: EPMB | G76: =VLOOKUP(F76,'Общий прайс лист'!A:B,2,FALSE) -> Фотоэлементы Medium BlueBus EPMB | H76: 1 | I76: =VLOOKUP(F76,'Общий прайс лист'!A:D,4,FALSE) -> 6900
B77: Рекомендуемые дополнительные аксессуары → | F77: EDSWG | G77: =VLOOKUP(F77,'Общий прайс лист'!A:B,2,FALSE) -> Цифровой переключатель FLOR EDSW | I77: =VLOOKUP(F77,'Общий прайс лист'!A:D,4,FALSE) -> 14900
F78: EPMORB | G78: =VLOOKUP(F78,'Общий прайс лист'!A:B,2,FALSE) -> Фотоэлементы с зеркально-линзовым объективом BlueBus | I78: =VLOOKUP(F78,'Общий прайс лист'!A:D,4,FALSE) -> 9900
F79: PLA10 | G79: =VLOOKUP(F79,'Общий прайс лист'!A:B,2,FALSE) -> Электромеханический замок вертикальный, 12В PLA10 | I79: =VLOOKUP(F79,'Общий прайс лист'!A:D,4,FALSE) -> 20900
F80: PLA11 | G80: =VLOOKUP(F80,'Общий прайс лист'!A:B,2,FALSE) -> Электромеханический замок горизонтальный, 12В PLA11 | I80: =VLOOKUP(F80,'Общий прайс лист'!A:D,4,FALSE) -> 20900
B81: до 800кг или до 3,0м. САМЫЙ МОЩНЫЙ инт. 50%, режим калитки, ЛУЧШИЙ ПОКАЗАТЕЛЬ ТЯГОВОГО УСИЛИЯ НА РЫНКЕ 3200Н* | C81: КОМПЛЕКТ | D81: TO4016PBDKCE | E81: TO4016PBDKLT | F81: TO4016P | G81: =VLOOKUP(F81,'Общий прайс лист'!A:B,2,FALSE) -> Привод для распашных ворот TO4016P | H81: 2 | I81: =VLOOKUP(F81,'Общий прайс лист'!A:D,4,FALSE) -> 38900 | J81: =VLOOKUP(E81,'Общий прайс лист'!A:D,4,FALSE) -> 69900 | K81: =VLOOKUP(D81,'Общий прайс лист'!A:D,4,FALSE) -> 80900
F82: OXIBD | G82: =VLOOKUP(F82,'Общий прайс лист'!A:B,2,FALSE) -> Приемник OXIBD с обратной связью | H82: 1 | I82: =VLOOKUP(F82,'Общий прайс лист'!A:D,4,FALSE) -> 9490
F83: MC800 | G83: =VLOOKUP(F83,'Общий прайс лист'!A:B,2,FALSE) -> Блок управления MC800 | H83: 1 | I83: =VLOOKUP(F83,'Общий прайс лист'!A:D,4,FALSE) -> 32490
F84: MYGO4 | G84: Пульт управления MYGO | H84: 2
F85: ELAC | G85: =VLOOKUP(F85,'Общий прайс лист'!A:B,2,FALSE) -> Лампа сигнальная с антенной, 230В ELAC | H85: 1 | I85: =VLOOKUP(F85,'Общий прайс лист'!A:D,4,FALSE) -> 5900
F86: EPM | G86: =VLOOKUP(F86,'Общий прайс лист'!A:B,2,FALSE) -> Фотоэлементы Medium EPM | H86: 1 | I86: =VLOOKUP(F86,'Общий прайс лист'!A:D,4,FALSE) -> 6900
B87: до 800кг или до 3,0м. САМЫЙ МОЩНЫЙ инт. 50%, режим калитки, ЛУЧШИЙ ПОКАЗАТЕЛЬ ТЯГОВОГО УСИЛИЯ НА РЫНКЕ 3200Н* | C87: КОМПЛЕКТ | D87: TO4016PON3KCE | E87: TO4016PON3KLT | F87: TO4016P | G87: =VLOOKUP(F87,'Общий прайс лист'!A:B,2,FALSE) -> Привод для распашных ворот TO4016P | H87: 2 | I87: =VLOOKUP(F87,'Общий прайс лист'!A:D,4,FALSE) -> 38900 | J87: =VLOOKUP(E87,'Общий прайс лист'!A:D,4,FALSE) -> 64900 | K87: =VLOOKUP(D87,'Общий прайс лист'!A:D,4,FALSE) -> 75900
F88: OXIBD | G88: =VLOOKUP(F88,'Общий прайс лист'!A:B,2,FALSE) -> Приемник OXIBD с обратной связью | H88: 1 | I88: =VLOOKUP(F88,'Общий прайс лист'!A:D,4,FALSE) -> 9490
F89: MC800 | G89: =VLOOKUP(F89,'Общий прайс лист'!A:B,2,FALSE) -> Блок управления MC800 | H89: 1 | I89: =VLOOKUP(F89,'Общий прайс лист'!A:D,4,FALSE) -> 32490
F90: ON3EBD | G90: Пульт управления ON3EBD | H90: 2
F91: ELAC | G91: =VLOOKUP(F91,'Общий прайс лист'!A:B,2,FALSE) -> Лампа сигнальная с антенной, 230В ELAC | H91: 1 | I91: =VLOOKUP(F91,'Общий прайс лист'!A:D,4,FALSE) -> 5900
F92: EPM | G92: =VLOOKUP(F92,'Общий прайс лист'!A:B,2,FALSE) -> Фотоэлементы Medium EPM | H92: 1 | I92: =VLOOKUP(F92,'Общий прайс лист'!A:D,4,FALSE) -> 6900
B93: до 800кг или до 3,0м. САМЫЙ МОЩНЫЙ инт. 50%, режим калитки, ЛУЧШИЙ ПОКАЗАТЕЛЬ ТЯГОВОГО УСИЛИЯ НА РЫНКЕ 3200Н* | C93: КОМПЛЕКТ | D93: TO4016PPLA16BDKLT | F93: TO4016P | G93: =VLOOKUP(F93,'Общий прайс лист'!A:B,2,FALSE) -> Привод для распашных ворот TO4016P | H93: 2 | I93: =VLOOKUP(F93,'Общий прайс лист'!A:D,4,FALSE) -> 38900 | J93: =VLOOKUP(D93,'Общий прайс лист'!A:D,4,FALSE) -> 80900
F94: MC800 | G94: =VLOOKUP(F94,'Общий прайс лист'!A:B,2,FALSE) -> Блок управления MC800 | H94: 1 | I94: =VLOOKUP(F94,'Общий прайс лист'!A:D,4,FALSE) -> 32490
F95: OXIBD | G95: =VLOOKUP(F95,'Общий прайс лист'!A:B,2,FALSE) -> Приемник OXIBD с обратной связью | H95: 1 | I95: =VLOOKUP(F95,'Общий прайс лист'!A:D,4,FALSE) -> 9490
F96: MYGO4 | G96: Пульт управления MYGO | H96: 2
F97: PLA16 | G97: =VLOOKUP(F97,'Общий прайс лист'!A:B,2,FALSE) -> регулируемый кронштейн PLA16 | H97: 2 | I97: =VLOOKUP(F97,'Общий прайс лист'!A:D,4,FALSE) -> 5200
B98: Рекомендуемые дополнительные аксессуары → | F98: EDSWG | G98: =VLOOKUP(F98,'Общий прайс лист'!A:B,2,FALSE) -> Цифровой переключатель FLOR EDSW | I98: =VLOOKUP(F98,'Общий прайс лист'!A:D,4,FALSE) -> 14900
F99: EPMOR | G99: =VLOOKUP(F99,'Общий прайс лист'!A:B,2,FALSE) -> Фотоэлементы с зеркально-линзовым объективом | I99: =VLOOKUP(F99,'Общий прайс лист'!A:D,4,FALSE) -> 9900
F100: PLA10 | G100: =VLOOKUP(F100,'Общий прайс лист'!A:B,2,FALSE) -> Электромеханический замок вертикальный, 12В PLA10 | I100: =VLOOKUP(F100,'Общий прайс лист'!A:D,4,FALSE) -> 20900
F101: PLA11 | G101: =VLOOKUP(F101,'Общий прайс лист'!A:B,2,FALSE) -> Электромеханический замок горизонтальный, 12В PLA11 | I101: =VLOOKUP(F101,'Общий прайс лист'!A:D,4,FALSE) -> 20900
A103: TOONA | B103: до 1`000кг или до 5,0м. САМЫЙ МОЩНЫЙ инт. 50%, режим калитки, ЛУЧШИЙ ПОКАЗАТЕЛЬ ТЯГОВОГО УСИЛИЯ НА РЫНКЕ 3200Н* | C103: КОМПЛЕКТ | D103: TO5016PBDKCE | E103: TO5016PBDKLT | F103: TO5016P | G103: =VLOOKUP(F103,'Общий прайс лист'!A:B,2,FALSE) -> Привод для распашных ворот TO5016P | H103: 2 | I103: =VLOOKUP(F103,'Общий прайс лист'!A:D,4,FALSE) -> 38900 | J103: =VLOOKUP(E103,'Общий прайс лист'!A:D,4,FALSE) -> 80900 | K103: =VLOOKUP(D103,'Общий прайс лист'!A:D,4,FALSE) -> 90900
F104: OXIBD | G104: =VLOOKUP(F104,'Общий прайс лист'!A:B,2,FALSE) -> Приемник OXIBD с обратной связью | H104: 1 | I104: =VLOOKUP(F104,'Общий прайс лист'!A:D,4,FALSE) -> 9490
F105: MC800 | G105: =VLOOKUP(F105,'Общий прайс лист'!A:B,2,FALSE) -> Блок управления MC800 | H105: 1 | I105: =VLOOKUP(F105,'Общий прайс лист'!A:D,4,FALSE) -> 32490
...

Sheet Компл. авт. для откатных ворот
A1: Серия | B1: ОСНОВНЫЕ ХАРАКТЕРИСТИКИ | C1: Артикулы для заказа | I1: Описание | J1: Кол-во | K1: Розн. Цена за шт. | L1: Розн. Цена за комплекты | P1: Оглавление
A2: SLIGHT | B2: до 400 кг., Инт. 35 циклов/час, Скорость 0,34м/сек | C2: КОМПЛЕКТ | D2: SLH400BDKCE | H2: SLH400 | I2: Привод для откатных ворот SLH400 | J2: 1 | L2: =VLOOKUP(D2,'Общий прайс лист'!A:D,4,FALSE) -> 59900
H3: OXIBD | I3: =VLOOKUP(H3,'Общий прайс лист'!A:B,2,FALSE) -> Приемник OXIBD с обратной связью | J3: 1 | K3: =VLOOKUP(H3,'Общий прайс лист'!A:D,4,FALSE) -> 9490
H4: ELDC | I4: =VLOOKUP(H4,'Общий прайс лист'!$A$5:$D$310,2,FALSE) -> Лампа сигнальная с антенной 12В/24В ELDC | J4: 1 | K4: =VLOOKUP(H4,'Общий прайс лист'!A:D,4,FALSE) -> 5900
H5: MYGO4 | I5: Пульт управления MYGO | J5: 2
H6: EPMB | I6: =VLOOKUP(H6,'Общий прайс лист'!$A$5:$D$310,2,FALSE) -> Фотоэлементы Medium BlueBus EPMB | J6: 1 | K6: =VLOOKUP(H6,'Общий прайс лист'!A:D,4,FALSE) -> 6900
H7: EPMORB | I7: =VLOOKUP(H7,'Общий прайс лист'!$A$5:$D$310,2,FALSE) -> Фотоэлементы с зеркально-линзовым объективом BlueBus | K7: =VLOOKUP(H7,'Общий прайс лист'!A:D,4,FALSE) -> 9900
H8: EDSWG | I8: =VLOOKUP(H8,'Общий прайс лист'!$A$5:$D$310,2,FALSE) -> Цифровой переключатель FLOR EDSW | K8: =VLOOKUP(H8,'Общий прайс лист'!A:D,4,FALSE) -> 14900
H9: PS124/PSS124 | I9: Аккумуляторная батарея (в зависимости от модификации привода)
A10: ROAD | B10: до 400кг, Инт. 20 циклов/час, Скорость 0,25м/сек | C10: КОМПЛЕКТЫ | D10: RD400KCE | H10: RD400 | I10: Привод RD400 | J10: 1 | L10: =VLOOKUP(D10,'Общий прайс лист'!A:D,4,FALSE) -> 35900
H11: INTI2 | I11: Пульт управления INTI2 (цвет чёрный) | J11: 2
D12: RD400KIT2 | H12: RD400 | I12: Привод для откатных ворот RD400 | J12: 1 | L12: =VLOOKUP(D12,'Общий прайс лист'!A:D,4,FALSE) -> 45900
H13: INTI2 | I13: Пульт управления INTI2 (цвет чёрный) | J13: 2
H14: EPM | I14: =VLOOKUP(H14,'Общий прайс лист'!$A$5:$D$310,2,FALSE) -> Фотоэлементы Medium EPM | J14: 1 | K14: =VLOOKUP(H14,'Общий прайс лист'!A:D,4,FALSE) -> 6900
H15: ELDC | I15: =VLOOKUP(H15,'Общий прайс лист'!$A$5:$D$310,2,FALSE) -> Лампа сигнальная с антенной 12В/24В ELDC | J15: 1 | K15: =VLOOKUP(H15,'Общий прайс лист'!A:D,4,FALSE) -> 5900
H16: EPMOR | I16: =VLOOKUP(H16,'Общий прайс лист'!$A$5:$D$310,2,FALSE) -> Фотоэлементы с зеркально-линзовым объективом | K16: =VLOOKUP(H16,'Общий прайс лист'!A:D,4,FALSE) -> 9900
H17: EDSWG | I17: =VLOOKUP(H17,'Общий прайс лист'!$A$5:$D$310,2,FALSE) -> Цифровой переключатель FLOR EDSW | K17: =VLOOKUP(H17,'Общий прайс лист'!A:D,4,FALSE) -> 14900
A19: ROBO | B19: до 600кг, Инт. 20 циклов/час, Скорость 0,18м/сек | C19: КОМПЛЕКТЫ | D19: RO600KCE | E19: RO600KLT | H19: RO600 | I19: Привод для откатных ворот RO600 | J19: 1 | L19: =VLOOKUP(E19,'Общий прайс лист'!A:D,4,FALSE) -> 35900 | N19: =VLOOKUP(D19,'Общий прайс лист'!A:D,4,FALSE) -> 45900
H20: INTI2 | I20: Пульт управления INTI2 (цвет чёрный) | J20: 2
H21: EPM | I21: =VLOOKUP(H21,'Общий прайс лист'!$A$5:$D$310,2,FALSE) -> Фотоэлементы Medium EPM | J21: 1 | K21: =VLOOKUP(H21,'Общий прайс лист'!A:D,4,FALSE) -> 6900
H22: ELAC | I22: =VLOOKUP(H22,'Общий прайс лист'!$A$5:$D$310,2,FALSE) -> Лампа сигнальная с антенной, 230В ELAC | J22: 1 | K22: =VLOOKUP(H22,'Общий прайс лист'!A:D,4,FALSE) -> 5900
B23: Рекомендуемые дополнительные аксессуары → | H23: EDSWG | I23: =VLOOKUP(H23,'Общий прайс лист'!$A$5:$D$310,2,FALSE) -> Цифровой переключатель FLOR EDSW | K23: =VLOOKUP(H23,'Общий прайс лист'!A:D,4,FALSE) -> 14900
H24: EPMOR | I24: =VLOOKUP(H24,'Общий прайс лист'!$A$5:$D$310,2,FALSE) -> Фотоэлементы с зеркально-линзовым объективом | K24: =VLOOKUP(H24,'Общий прайс лист'!A:D,4,FALSE) -> 9900
B25: до 1000кг, Инт. 16 циклов/час, Скорость 0,17м/сек | C25: КОМПЛЕКТЫ | D25: RO1000KCE | E25: RO1000KLT | H25: RO1000 | I25: Привод для откатных ворот RO1000 | J25: 1 | L25: =VLOOKUP(E25,'Общий прайс лист'!A:D,4,FALSE) -> 46900 | N25: =VLOOKUP(D25,'Общий прайс лист'!A:D,4,FALSE) -> 56900
H26: INTI2 | I26: Пульт управления INTI2 (цвет чёрный) | J26: 2
H27: EPM | I27: =VLOOKUP(H27,'Общий прайс лист'!$A$5:$D$310,2,FALSE) -> Фотоэлементы Medium EPM | J27: 1 | K27: =VLOOKUP(H27,'Общий прайс лист'!A:D,4,FALSE) -> 6900
H28: ELAC | I28: =VLOOKUP(H28,'Общий прайс лист'!$A$5:$D$310,2,FALSE) -> Лампа сигнальная с антенной, 230В ELAC | J28: 1 | K28: =VLOOKUP(H28,'Общий прайс лист'!A:D,4,FALSE) -> 5900
B29: Рекомендуемые дополнительные аксессуары → | H29: EDSWG | I29: =VLOOKUP(H29,'Общий прайс лист'!$A$5:$D$310,2,FALSE) -> Цифровой переключатель FLOR EDSW | K29: =VLOOKUP(H29,'Общий прайс лист'!A:D,4,FALSE) -> 14900
H30: EPMOR | I30: =VLOOKUP(H30,'Общий прайс лист'!$A$5:$D$310,2,FALSE) -> Фотоэлементы с зеркально-линзовым объективом | K30: =VLOOKUP(H30,'Общий прайс лист'!A:D,4,FALSE) -> 9900
B31: до 1500кг, Инт. 22 циклов/час, Скорость 0,17м/сек | C31: КОМПЛЕКТЫ | D31: RO1500KCE | E31: RO1500KLT | H31: RO1500 | I31: Привод для откатных ворот RO1500 | J31: 1 | L31: =VLOOKUP(E31,'Общий прайс лист'!A:D,4,FALSE) -> 56900 | N31: =VLOOKUP(D31,'Общий прайс лист'!A:D,4,FALSE) -> 66900
H32: INTI2 | I32: Пульт управления INTI2 (цвет чёрный) | J32: 2
H33: EPM | I33: =VLOOKUP(H33,'Общий прайс лист'!$A$5:$D$310,2,FALSE) -> Фотоэлементы Medium EPM | J33: 1 | K33: =VLOOKUP(H33,'Общий прайс лист'!A:D,4,FALSE) -> 6900
H34: ELAC | I34: =VLOOKUP(H34,'Общий прайс лист'!$A$5:$D$310,2,FALSE) -> Лампа сигнальная с антенной, 230В ELAC | J34: 1 | K34: =VLOOKUP(H34,'Общий прайс лист'!A:D,4,FALSE) -> 5900
B35: Рекомендуемые дополнительные аксессуары → | H35: EDSWG | I35: =VLOOKUP(H35,'Общий прайс лист'!$A$5:$D$310,2,FALSE) -> Цифровой переключатель FLOR EDSW | K35: =VLOOKUP(H35,'Общий прайс лист'!A:D,4,FALSE) -> 14900
H36: EPMOR | I36: =VLOOKUP(H36,'Общий прайс лист'!$A$5:$D$310,2,FALSE) -> Фотоэлементы с зеркально-линзовым объективом | K36: =VLOOKUP(H36,'Общий прайс лист'!A:D,4,FALSE) -> 9900
H37: EDSWG | I37: =VLOOKUP(H37,'Общий прайс лист'!$A$5:$D$310,2,FALSE) -> Цифровой переключатель FLOR EDSW | K37: =VLOOKUP(H37,'Общий прайс лист'!A:D,4,FALSE) -> 14900
H38: EPMOR | I38: =VLOOKUP(H38,'Общий прайс лист'!$A$5:$D$310,2,FALSE) -> Фотоэлементы с зеркально-линзовым объективом | K38: =VLOOKUP(H38,'Общий прайс лист'!A:D,4,FALSE) -> 9900
A39: ROBUS HI-SPEED | B39: до 250 кг, Инт. 50 циклов/час, скорость до 0,4 м/с, ВЫСОКОРОСТНОЙ | C39: КОМПЛЕКТ | D39: RB250HSBDKLT | H39: RB250HS | I39: =VLOOKUP(H39,'Общий прайс лист'!$A$5:$D$310,2,FALSE) -> Привод для откатных ворот RB250HS | J39: 1 | K39: =VLOOKUP(H39,'Общий прайс лист'!A:D,4,FALSE) -> 59900 | L39: =VLOOKUP(D39,'Общий прайс лист'!A:D,4,FALSE) -> 59900
H40: OXIBD | I40: =VLOOKUP(H40,'Общий прайс лист'!A:B,2,FALSE) -> Приемник OXIBD с обратной связью | J40: 1 | K40: =VLOOKUP(H40,'Общий прайс лист'!A:D,4,FALSE) -> 9490
H41: INTI2R | I41: Пульт управления INTI2R (цвет красный) | J41: 2
D42: RB250HSBDKCE | H42: RB250HS | I42: =VLOOKUP(H42,'Общий прайс лист'!$A$5:$D$310,2,FALSE) -> Привод для откатных ворот RB250HS | J42: 1 | K42: =VLOOKUP(H42,'Общий прайс лист'!A:D,4,FALSE) -> 59900 | L42: =VLOOKUP(D42,'Общий прайс лист'!A:D,4,FALSE) -> 69900
H43: OXIBD | I43: =VLOOKUP(H43,'Общий прайс лист'!A:B,2,FALSE) -> Приемник OXIBD с обратной связью | J43: 1 | K43: =VLOOKUP(H43,'Общий прайс лист'!A:D,4,FALSE) -> 9490
H44: INTI2R | I44: Пульт управления INTI2R (цвет красный) | J44: 2
H45: EPMB | I45: =VLOOKUP(H45,'Общий прайс лист'!$A$5:$D$310,2,FALSE) -> Фотоэлементы Medium BlueBus EPMB | J45: 1 | K45: =VLOOKUP(H45,'Общий прайс лист'!A:D,4,FALSE) -> 6900
H46: ELDC | I46: =VLOOKUP(H46,'Общий прайс лист'!$A$5:$D$310,2,FALSE) -> Лампа сигнальная с антенной 12В/24В ELDC | J46: 1 | K46: =VLOOKUP(H46,'Общий прайс лист'!A:D,4,FALSE) -> 5900
B47: Рекомендуемые дополнительные аксессуары → | H47: EDSWG | I47: =VLOOKUP(H47,'Общий прайс лист'!$A$5:$D$310,2,FALSE) -> Цифровой переключатель FLOR EDSW | K47: =VLOOKUP(H47,'Общий прайс лист'!A:D,4,FALSE) -> 14900
H48: EPMORB | I48: =VLOOKUP(H48,'Общий прайс лист'!$A$5:$D$310,2,FALSE) -> Фотоэлементы с зеркально-линзовым объективом BlueBus | K48: =VLOOKUP(H48,'Общий прайс лист'!A:D,4,FALSE) -> 9900
H49: RBA1 | I49: =VLOOKUP(H49,'Общий прайс лист'!$A$5:$D$310,2,FALSE) -> Индуктивный датчик RBA1 | K49: =VLOOKUP(H49,'Общий прайс лист'!A:D,4,FALSE) -> 9490
H50: PS124/PSS124 | I50: Аккумуляторная батарея (в зависимости от модификации привода)
B51: до 400кг, Инт. 35 циклов/час, Скорость 0,34м/сек | C51: КОМПЛЕКТ | F51: RBS400BDKLT | H51: RBS400 | I51: Привод для откатных ворот RBS400 | J51: 1 | L51: =VLOOKUP(F51,'Общий прайс лист'!A:D,4,FALSE) -> 48900
H52: MYGO4 | I52: Пульт управления MYGO | J52: 2
A53: ROBUS | H53: RBS400 | I53: Привод для откатных ворот RBS400 | J53: 1 | L53: =VLOOKUP(E54,'Общий прайс лист'!A:D,4,FALSE) -> 58900
E54: RBS400BDKCE | H54: MYGO4 | I54: Пульт управления MYGO | J54: 2
H55: EPMB | I55: =VLOOKUP(H55,'Общий прайс лист'!$A$5:$D$310,2,FALSE) -> Фотоэлементы Medium BlueBus EPMB | J55: 1 | K55: =VLOOKUP(H55,'Общий прайс лист'!A:D,4,FALSE) -> 6900
H56: ELDC | I56: =VLOOKUP(H56,'Общий прайс лист'!$A$5:$D$310,2,FALSE) -> Лампа сигнальная с антенной 12В/24В ELDC | J56: 1 | K56: =VLOOKUP(H56,'Общий прайс лист'!A:D,4,FALSE) -> 5900
B57: Рекомендуемые дополнительные аксессуары → | H57: EDSWG | I57: =VLOOKUP(H57,'Общий прайс лист'!$A$5:$D$310,2,FALSE) -> Цифровой переключатель FLOR EDSW | K57: =VLOOKUP(H57,'Общий прайс лист'!A:D,4,FALSE) -> 14900
H58: EPMORB | I58: =VLOOKUP(H58,'Общий прайс лист'!$A$5:$D$310,2,FALSE) -> Фотоэлементы с зеркально-линзовым объективом BlueBus | K58: =VLOOKUP(H58,'Общий прайс лист'!A:D,4,FALSE) -> 9900
H59: PS124/PSS124 | I59: Аккумуляторная батарея (в зависимости от модификации привода)
A60: ROBUS | B60: до 600кг, Инт. 40 циклов/час, Скорость 0,34м/сек | C60: КОМПЛЕКТ | D60: RBS600BDKCE | E60: RBS600BDKLT | H60: RBS600 | I60: Привод для откатных ворот RBS600 | J60: 1 | L60: =VLOOKUP(E60,'Общий прайс лист'!A:D,4,FALSE) -> 59900
H61: MYGO4 | I61: Пульт управления MYGO | J61: 2
H62: RBS600 | I62: Привод для откатных ворот RBS600 | J62: 1 | L62: =VLOOKUP(D60,'Общий прайс лист'!A:D,4,FALSE) -> 69900
H63: MYGO4 | I63: Пульт управления MYGO | J63: 2
H64: EPMB | I64: =VLOOKUP(H64,'Общий прайс лист'!$A$5:$D$310,2,FALSE) -> Фотоэлементы Medium BlueBus EPMB | J64: 1 | K64: =VLOOKUP(H64,'Общий прайс лист'!A:D,4,FALSE) -> 6900
H65: ELDC | I65: =VLOOKUP(H65,'Общий прайс лист'!$A$5:$D$310,2,FALSE) -> Лампа сигнальная с антенной 12В/24В ELDC | J65: 1 | K65: =VLOOKUP(H65,'Общий прайс лист'!A:D,4,FALSE) -> 5900
B66: Рекомендуемые дополнительные аксессуары → | H66: EDSWG | I66: =VLOOKUP(H66,'Общий прайс лист'!$A$5:$D$310,2,FALSE) -> Цифровой переключатель FLOR EDSW | K66: =VLOOKUP(H66,'Общий прайс лист'!A:D,4,FALSE) -> 14900
H67: EPMORB | I67: =VLOOKUP(H67,'Общий прайс лист'!$A$5:$D$310,2,FALSE) -> Фотоэлементы с зеркально-линзовым объективом BlueBus | K67: =VLOOKUP(H67,'Общий прайс лист'!A:D,4,FALSE) -> 9900
H68: PS124/PSS124 | I68: Аккумуляторная батарея (в зависимости от модификации привода)
A70: ROBUS | B70: до 800кг, Инт. 35 циклов/час, Скорость 0,30м/сек | C70: КОМПЛЕКТ | D70: RBS800BDKCE | E70: RBS800BDKLT | H70: RBS800 | I70: Привод для откатных ворот RBS800 | J70: 1 | L70: =VLOOKUP(E70,'Общий прайс лист'!A:D,4,FALSE) -> 67900
H71: MYGO4 | I71: Пульт управления MYGO | J71: 2
H72: RBS600 | I72: Привод для откатных ворот RBS800 | J72: 1 | L72: =VLOOKUP(D70,'Общий прайс лист'!A:D,4,FALSE) -> 77900
H73: MYGO4 | I73: Пульт управления MYGO | J73: 2
H74: EPMB | I74: =VLOOKUP(H74,'Общий прайс лист'!$A$5:$D$310,2,FALSE) -> Фотоэлементы Medium BlueBus EPMB | J74: 1 | K74: =VLOOKUP(H74,'Общий прайс лист'!A:D,4,FALSE) -> 6900
H75: ELDC | I75: =VLOOKUP(H75,'Общий прайс лист'!$A$5:$D$310,2,FALSE) -> Лампа сигнальная с антенной 12В/24В ELDC | J75: 1 | K75: =VLOOKUP(H75,'Общий прайс лист'!A:D,4,FALSE) -> 5900
B76: Рекомендуемые дополнительные аксессуары → | H76: EDSWG | I76: =VLOOKUP(H76,'Общий прайс лист'!$A$5:$D$310,2,FALSE) -> Цифровой переключатель FLOR EDSW | K76: =VLOOKUP(H76,'Общий прайс лист'!A:D,4,FALSE) -> 14900
H77: EPMORB | I77: =VLOOKUP(H77,'Общий прайс лист'!$A$5:$D$310,2,FALSE) -> Фотоэлементы с зеркально-линзовым объективом BlueBus | K77: =VLOOKUP(H77,'Общий прайс лист'!A:D,4,FALSE) -> 9900
H78: PS124/PSS124 | I78: Аккумуляторная батарея (в зависимости от модификации привода)
A80: ROBUS HS NEW | B80: НОВИНКА 2025 до 600кг, Инт. 40 циклов/час, Скорость 0,44м/сек | C80: КОМПЛЕКТ | D80: ` | E80: RBS600HSBDKLT | H80: RBS600HS | I80: Привод для откатных ворот RBS600HS | J80: 1 | L80: =VLOOKUP(E80,'Общий прайс лист'!A:D,4,FALSE) -> 64900
H81: MYGO4 | I81: Пульт управления MYGO | J81: 2
H82: RBS600 | I82: Привод для откатных ворот RBS600HS | J82: 1 | L82: =VLOOKUP(D83,'Общий прайс лист'!A:D,4,FALSE) -> 74900
D83: RBS600HSBDKCE | H83: MYGO4 | I83: Пульт управления MYGO | J83: 2
H84: EPMB | I84: =VLOOKUP(H84,'Общий прайс лист'!$A$5:$D$310,2,FALSE) -> Фотоэлементы Medium BlueBus EPMB | J84: 1 | K84: =VLOOKUP(H84,'Общий прайс лист'!A:D,4,FALSE) -> 6900
H85: ELDC | I85: =VLOOKUP(H85,'Общий прайс лист'!$A$5:$D$310,2,FALSE) -> Лампа сигнальная с антенной 12В/24В ELDC | J85: 1 | K85: =VLOOKUP(H85,'Общий прайс лист'!A:D,4,FALSE) -> 5900
B86: Рекомендуемые дополнительные аксессуары → | H86: EDSWG | I86: =VLOOKUP(H86,'Общий прайс лист'!$A$5:$D$310,2,FALSE) -> Цифровой переключатель FLOR EDSW | K86: =VLOOKUP(H86,'Общий прайс лист'!A:D,4,FALSE) -> 14900
H87: EPMORB | I87: =VLOOKUP(H87,'Общий прайс лист'!$A$5:$D$310,2,FALSE) -> Фотоэлементы с зеркально-линзовым объективом BlueBus | K87: =VLOOKUP(H87,'Общий прайс лист'!A:D,4,FALSE) -> 9900
H88: PS124/PSS124 | I88: Аккумуляторная батарея (в зависимости от модификации привода)
B90: до 1`000кг, Инт. 50 циклов/час, Скорость 0,28м/сек | C90: КОМПЛЕКТ | D90: RB1000BDKCE | G90: RB1000BDKLT | H90: RB1000 | I90: =VLOOKUP(H90,'Общий прайс лист'!$A$5:$D$310,2,FALSE) -> Привод для откатных ворот RB1000 | J90: 1 | K90: =VLOOKUP(H90,'Общий прайс лист'!A:D,4,FALSE) -> 69900 | L90: =VLOOKUP(G90,'Общий прайс лист'!A:D,4,FALSE) -> 69900 | N90: =VLOOKUP(D90,'Общий прайс лист'!A:D,4,FALSE) -> 79900
H91: OXIBD | I91: =VLOOKUP(H91,'Общий прайс лист'!A:B,2,FALSE) -> Приемник OXIBD с обратной связью | J91: 1 | K91: =VLOOKUP(H91,'Общий прайс лист'!A:D,4,FALSE) -> 9490
H92: MYGO4 | I92: Пульт управления MYGO | J92: 2
H93: ELDC | I93: =VLOOKUP(H93,'Общий прайс лист'!$A$5:$D$310,2,FALSE) -> Лампа сигнальная с антенной 12В/24В ELDC | J93: 1 | K93: =VLOOKUP(H93,'Общий прайс лист'!A:D,4,FALSE) -> 5900
H94: EPMB | I94: =VLOOKUP(H94,'Общий прайс лист'!$A$5:$D$310,2,FALSE) -> Фотоэлементы Medium BlueBus EPMB | J94: 1 | K94: =VLOOKUP(H94,'Общий прайс лист'!A:D,4,FALSE) -> 6900
B95: до 1`000кг, Инт. 50 циклов/час, Скорость 0,28м/сек | C95: КОМПЛЕКТ | D95: RB1000ON3KCE | G95: RB1000ON3KLT | H95: RB1000 | I95: =VLOOKUP(H95,'Общий прайс лист'!$A$5:$D$310,2,FALSE) -> Привод для откатных ворот RB1000 | J95: 1 | K95: =VLOOKUP(H95,'Общий прайс лист'!A:D,4,FALSE) -> 69900 | L95: =VLOOKUP(G95,'Общий прайс лист'!A:D,4,FALSE) -> 69900 | N95: =VLOOKUP(D95,'Общий прайс лист'!A:D,4,FALSE) -> 79900
H96: OXIBD | I96: =VLOOKUP(H96,'Общий прайс лист'!A:B,2,FALSE) -> Приемник OXIBD с обратной связью | J96: 1 | K96: =VLOOKUP(H96,'Общий прайс лист'!A:D,4,FALSE) -> 9490
H97: ON3EBD | I97: Пульт управления ON3EBD | J97: 2
H98: ELDC | I98: =VLOOKUP(H98,'Общий прайс лист'!$A$5:$D$310,2,FALSE) -> Лампа сигнальная с антенной 12В/24В ELDC | J98: 1 | K98: =VLOOKUP(H98,'Общий прайс лист'!A:D,4,FALSE) -> 5900
H99: EPMB | I99: =VLOOKUP(H99,'Общий прайс лист'!$A$5:$D$310,2,FALSE) -> Фотоэлементы Medium BlueBus EPMB | J99: 1 | K99: =VLOOKUP(H99,'Общий прайс лист'!A:D,4,FALSE) -> 6900
B100: Рекомендуемые дополнительные аксессуары → | H100: EDSWG | I100: =VLOOKUP(H100,'Общий прайс лист'!$A$5:$D$310,2,FALSE) -> Цифровой переключатель FLOR EDSW | K100: =VLOOKUP(H100,'Общий прайс лист'!A:D,4,FALSE) -> 14900
H101: EPMORB | I101: =VLOOKUP(H101,'Общий прайс лист'!$A$5:$D$310,2,FALSE) -> Фотоэлементы с зеркально-линзовым объективом BlueBus | K101: =VLOOKUP(H101,'Общий прайс лист'!A:D,4,FALSE) -> 9900
H102: PS124/PSS124 | I102: Аккумуляторная батарея (в зависимости от модификации привода)
A103: RUN HI-SPEED | B103: до 1200 кг, Инт. 60 циклов/час, скорость до 0,37 м/с, ВЫСОКОРОСТНОЙ | C103: КОМПЛЕКТЫ | D103: RUN1200HSBDKLT | H103: RUN1200HS | I103: =VLOOKUP(H103,'Общий прайс лист'!$A$5:$D$310,2,FALSE) -> Привод для откатных ворот RUN1200HS | J103: 1 | K103: =VLOOKUP(H103,'Общий прайс лист'!A:D,4,FALSE) -> 106900 | L103: =VLOOKUP(D103,'Общий прайс лист'!A:D,4,FALSE) -> 106900
H104: OXIBD | I104: =VLOOKUP(H104,'Общий прайс лист'!A:B,2,FALSE) -> Приемник OXIBD с обратной связью | J104: 1 | K104: =VLOOKUP(H104,'Общий прайс лист'!A:D,4,FALSE) -> 9490
...

Sheet Компл. шлагбаумов
A1: Серия | B1: ШИРИНА ПРОЕЗДА | C1: ОСНОВНЫЕ ХАРАКТЕРИСТИКИ | E1: Артикулы для заказа | I1: Описание | J1: Кол-во | K1: Розн. Цена за шт. | L1: Розн. Цена за комплекты | O1: Оглавление
A2: WIDE S | B2: 4 метра | C2: Для проезда до до 4 метров, Скорость от 3,5 с. Инт. До 100 циклов/час | D2: КОМПЛЕКТЫ | E2: WIDES4KIT2 | G2: WIDES4KIT | H2: WIDES | I2: =VLOOKUP(H2,'Общий прайс лист'!A:B,2,FALSE) -> Тумба шлагбаума со встроенным радиоприемником WIDES | J2: 1 | K2: =VLOOKUP(H2,'Общий прайс лист'!A:D,4,FALSE) -> 86900 | L2: =VLOOKUP(G2,'Общий прайс лист'!A:D,4,FALSE) -> 96900 | M2: =VLOOKUP(E2,'Общий прайс лист'!A:D,4,FALSE) -> 106900
H3: XBA19-4RU | I3: =VLOOKUP(H3,'Общий прайс лист'!A:B,2,FALSE) -> Рейка шлагбаумная 45x58x4200мм XBA19-4RU | J3: 1 | K3: =VLOOKUP(H3,'Общий прайс лист'!A:D,4,FALSE) -> 16900
H4: XBA13 | I4: =VLOOKUP(H4,'Общий прайс лист'!A:B,2,FALSE) -> Демпфер XBA13 | J4: 1 | K4: =VLOOKUP(H4,'Общий прайс лист'!A:D,4,FALSE) -> 16900
H5: NK1 | I5: =VLOOKUP(H5,'Общий прайс лист'!A:B,2,FALSE) -> Наклейки светоотражающие (комплект) NK1 | J5: 1 | K5: =VLOOKUP(H5,'Общий прайс лист'!A:D,4,FALSE) -> 1060
H6: ELDC | I6: =VLOOKUP(H6,'Общий прайс лист'!A:B,2,FALSE) -> Лампа сигнальная с антенной 12В/24В ELDC | J6: 1 | K6: =VLOOKUP(H6,'Общий прайс лист'!A:D,4,FALSE) -> 5900
H7: EPM | I7: =VLOOKUP(H7,'Общий прайс лист'!A:B,2,FALSE) -> Фотоэлементы Medium EPM | J7: 1 | K7: =VLOOKUP(H7,'Общий прайс лист'!A:D,4,FALSE) -> 6900
C8: Рекомендуемые дополнительные аксессуары → | H8: PS324 | I8: =VLOOKUP(H8,'Общий прайс лист'!A:B,2,FALSE) -> Аккумуляторная батарея PS324 | K8: =VLOOKUP(H8,'Общий прайс лист'!A:D,4,FALSE) -> 14900
H9: XBA4 | I9: =VLOOKUP(H9,'Общий прайс лист'!A:B,2,FALSE) -> Светодиоды сигнальные белые, 4м XBA4 | K9: =VLOOKUP(H9,'Общий прайс лист'!A:D,4,FALSE) -> 16900
H10: EPMOR | I10: =VLOOKUP(H10,'Общий прайс лист'!A:B,2,FALSE) -> Фотоэлементы с зеркально-линзовым объективом | K10: =VLOOKUP(H10,'Общий прайс лист'!A:D,4,FALSE) -> 9900
H11: EDSWG | I11: =VLOOKUP(H11,'Общий прайс лист'!A:B,2,FALSE) -> Цифровой переключатель FLOR EDSW | K11: =VLOOKUP(H11,'Общий прайс лист'!A:D,4,FALSE) -> 14900
H12: ELDC | I12: =VLOOKUP(H12,'Общий прайс лист'!A:B,2,FALSE) -> Лампа сигнальная с антенной 12В/24В ELDC | K12: =VLOOKUP(H12,'Общий прайс лист'!A:D,4,FALSE) -> 5900
H13: WA11 | I13: =VLOOKUP(H13,'Общий прайс лист'!A:B,2,FALSE) -> Опора стационарная WA11 | K13: =VLOOKUP(H13,'Общий прайс лист'!A:D,4,FALSE) -> 16900
H14: WA12 | I14: =VLOOKUP(H14,'Общий прайс лист'!A:B,2,FALSE) -> Опора подвесная WA12 | K14: =VLOOKUP(H14,'Общий прайс лист'!A:D,4,FALSE) -> 16900
H15: WA13 | I15: =VLOOKUP(H15,'Общий прайс лист'!A:B,2,FALSE) -> Решетка для рейки шлагбаумной WA13 | K15: =VLOOKUP(H15,'Общий прайс лист'!A:D,4,FALSE) -> 16900
A16: WIDE M | B16: 4 метра | C16: Для проезда до 4 метров, Скорость 3-6 сек. Инт. 300 циклов/час | D16: КОМПЛЕКТЫ | E16: WIDEM4KIT2 | G16: WIDEM4KIT | H16: WIDEM | I16: =VLOOKUP(H16,'Общий прайс лист'!A:B,2,FALSE) -> Тумба шлагбаума c радиоприемником WIDEM | J16: 1 | K16: =VLOOKUP(H16,'Общий прайс лист'!A:D,4,FALSE) -> 96900 | L16: =VLOOKUP(G16,'Общий прайс лист'!A:D,4,FALSE) -> 106900 | M16: =VLOOKUP(E16,'Общий прайс лист'!A:D,4,FALSE) -> 116900
H17: XBA19-4RU | I17: =VLOOKUP(H17,'Общий прайс лист'!A:B,2,FALSE) -> Рейка шлагбаумная 45x58x4200мм XBA19-4RU | J17: 1 | K17: =VLOOKUP(H17,'Общий прайс лист'!A:D,4,FALSE) -> 16900
H18: XBA13 | I18: =VLOOKUP(H18,'Общий прайс лист'!A:B,2,FALSE) -> Демпфер XBA13 | J18: 1 | K18: =VLOOKUP(H18,'Общий прайс лист'!A:D,4,FALSE) -> 16900
H19: NK1 | I19: =VLOOKUP(H19,'Общий прайс лист'!A:B,2,FALSE) -> Наклейки светоотражающие (комплект) NK1 | J19: 1 | K19: =VLOOKUP(H19,'Общий прайс лист'!A:D,4,FALSE) -> 1060
H20: ELDC | I20: =VLOOKUP(H20,'Общий прайс лист'!A:B,2,FALSE) -> Лампа сигнальная с антенной 12В/24В ELDC | J20: 1 | K20: =VLOOKUP(H20,'Общий прайс лист'!A:D,4,FALSE) -> 5900
H21: EPM | I21: =VLOOKUP(H21,'Общий прайс лист'!A:B,2,FALSE) -> Фотоэлементы Medium EPM | J21: 1 | K21: =VLOOKUP(H21,'Общий прайс лист'!A:D,4,FALSE) -> 6900
C22: Рекомендуемые дополнительные аксессуары → | H22: PS324 | I22: =VLOOKUP(H22,'Общий прайс лист'!A:B,2,FALSE) -> Аккумуляторная батарея PS324 | K22: =VLOOKUP(H22,'Общий прайс лист'!A:D,4,FALSE) -> 14900
H23: XBA4 | I23: =VLOOKUP(H23,'Общий прайс лист'!A:B,2,FALSE) -> Светодиоды сигнальные белые, 4м XBA4 | K23: =VLOOKUP(H23,'Общий прайс лист'!A:D,4,FALSE) -> 16900
H24: EPMOR | I24: =VLOOKUP(H24,'Общий прайс лист'!A:B,2,FALSE) -> Фотоэлементы с зеркально-линзовым объективом | K24: =VLOOKUP(H24,'Общий прайс лист'!A:D,4,FALSE) -> 9900
H25: EDSWG | I25: =VLOOKUP(H25,'Общий прайс лист'!A:B,2,FALSE) -> Цифровой переключатель FLOR EDSW | K25: =VLOOKUP(H25,'Общий прайс лист'!A:D,4,FALSE) -> 14900
H26: ELDC | I26: =VLOOKUP(H26,'Общий прайс лист'!A:B,2,FALSE) -> Лампа сигнальная с антенной 12В/24В ELDC | K26: =VLOOKUP(H26,'Общий прайс лист'!A:D,4,FALSE) -> 5900
H27: WA11 | I27: =VLOOKUP(H27,'Общий прайс лист'!A:B,2,FALSE) -> Опора стационарная WA11 | K27: =VLOOKUP(H27,'Общий прайс лист'!A:D,4,FALSE) -> 16900
H28: WA12 | I28: =VLOOKUP(H28,'Общий прайс лист'!A:B,2,FALSE) -> Опора подвесная WA12 | K28: =VLOOKUP(H28,'Общий прайс лист'!A:D,4,FALSE) -> 16900
H29: WA13 | I29: =VLOOKUP(H29,'Общий прайс лист'!A:B,2,FALSE) -> Решетка для рейки шлагбаумной WA13 | K29: =VLOOKUP(H29,'Общий прайс лист'!A:D,4,FALSE) -> 16900
A30: WIDE M | B30: 5 метров | C30: Для проезда до 5 метров, Скорость 6-10 сек. Инт. 200 циклов/час | D30: КОМПЛЕКТЫ | E30: WIDEM5KIT2 | G30: WIDEM5KIT | H30: WIDEM | I30: =VLOOKUP(H30,'Общий прайс лист'!A:B,2,FALSE) -> Тумба шлагбаума c радиоприемником WIDEM | J30: 1 | K30: =VLOOKUP(H30,'Общий прайс лист'!A:D,4,FALSE) -> 96900 | L30: =VLOOKUP(G30,'Общий прайс лист'!A:D,4,FALSE) -> 116900 | M30: =VLOOKUP(E30,'Общий прайс лист'!A:D,4,FALSE) -> 126900
H31: XBA19-5RU | I31: =VLOOKUP(H31,'Общий прайс лист'!A:B,2,FALSE) -> Рейка шлагбаумная 45x58x5200мм XBA19-5RU | J31: 1 | K31: =VLOOKUP(H31,'Общий прайс лист'!A:D,4,FALSE) -> 21900
H32: XBA13-10RU | I32: Демпфер XBA13-10RU | J32: 1
H33: NK1 | I33: =VLOOKUP(H33,'Общий прайс лист'!A:B,2,FALSE) -> Наклейки светоотражающие (комплект) NK1 | J33: 1 | K33: =VLOOKUP(H33,'Общий прайс лист'!A:D,4,FALSE) -> 1060
H34: EPM | I34: =VLOOKUP(H34,'Общий прайс лист'!A:B,2,FALSE) -> Фотоэлементы Medium EPM | J34: 1 | K34: =VLOOKUP(H34,'Общий прайс лист'!A:D,4,FALSE) -> 6900
H35: ELDC | I35: =VLOOKUP(H35,'Общий прайс лист'!A:B,2,FALSE) -> Лампа сигнальная с антенной 12В/24В ELDC | J35: 1 | K35: =VLOOKUP(H35,'Общий прайс лист'!A:D,4,FALSE) -> 5900
C36: Рекомендуемые дополнительные аксессуары → | H36: PS324 | I36: =VLOOKUP(H36,'Общий прайс лист'!A:B,2,FALSE) -> Аккумуляторная батарея PS324 | K36: =VLOOKUP(H36,'Общий прайс лист'!A:D,4,FALSE) -> 14900
H37: XBA4 | I37: =VLOOKUP(H37,'Общий прайс лист'!A:B,2,FALSE) -> Светодиоды сигнальные белые, 4м XBA4 | K37: =VLOOKUP(H37,'Общий прайс лист'!A:D,4,FALSE) -> 16900
H38: EPMOR | I38: =VLOOKUP(H38,'Общий прайс лист'!A:B,2,FALSE) -> Фотоэлементы с зеркально-линзовым объективом | K38: =VLOOKUP(H38,'Общий прайс лист'!A:D,4,FALSE) -> 9900
H39: EDSWG | I39: =VLOOKUP(H39,'Общий прайс лист'!A:B,2,FALSE) -> Цифровой переключатель FLOR EDSW | K39: =VLOOKUP(H39,'Общий прайс лист'!A:D,4,FALSE) -> 14900
H40: WA11 | I40: =VLOOKUP(H40,'Общий прайс лист'!A:B,2,FALSE) -> Опора стационарная WA11 | K40: =VLOOKUP(H40,'Общий прайс лист'!A:D,4,FALSE) -> 16900
H41: WA12 | I41: =VLOOKUP(H41,'Общий прайс лист'!A:B,2,FALSE) -> Опора подвесная WA12 | K41: =VLOOKUP(H41,'Общий прайс лист'!A:D,4,FALSE) -> 16900
H42: ELDC | I42: =VLOOKUP(H42,'Общий прайс лист'!A:B,2,FALSE) -> Лампа сигнальная с антенной 12В/24В ELDC | K42: =VLOOKUP(H42,'Общий прайс лист'!A:D,4,FALSE) -> 5900
A43: WIDE L | B43: 6 метров | C43: Для проезда до 6,0 метров, Скорость 6-10 сек. Инт. 200 циклов/час | D43: КОМПЛЕКТЫ | E43: WIDEL6KIT2 | G43: WIDEL6KIT | H43: WIDEL | I43: =VLOOKUP(H43,'Общий прайс лист'!A:B,2,FALSE) -> Тумба шлагбаума c радиоприемником WIDEL | J43: 1 | K43: =VLOOKUP(H43,'Общий прайс лист'!A:D,4,FALSE) -> 149900 | L43: =VLOOKUP(G43,'Общий прайс лист'!A:D,4,FALSE) -> 159900 | M43: =VLOOKUP(E43,'Общий прайс лист'!A:D,4,FALSE) -> 169900
H44: XBA15-3RU | I44: =VLOOKUP(H44,'Общий прайс лист'!A:B,2,FALSE) -> Рейка шлагбаумная 69x92x3200мм XBA15-3RU | J44: 2 | K44: =VLOOKUP(H44,'Общий прайс лист'!A:D,4,FALSE) -> 16900
H45: XBA13-12RU | I45: Демпфер XBA13-12RU | J45: 1
H46: XBA9 | I46: =VLOOKUP(H46,'Общий прайс лист'!A:B,2,FALSE) -> Соединитель для стрел XBA9 | J46: 1 | K46: =VLOOKUP(H46,'Общий прайс лист'!A:D,4,FALSE) -> 16900
H47: NK1 | I47: =VLOOKUP(H47,'Общий прайс лист'!A:B,2,FALSE) -> Наклейки светоотражающие (комплект) NK1 | J47: 1 | K47: =VLOOKUP(H47,'Общий прайс лист'!A:D,4,FALSE) -> 1060
H48: ELDC | I48: =VLOOKUP(H48,'Общий прайс лист'!A:B,2,FALSE) -> Лампа сигнальная с антенной 12В/24В ELDC | J48: 1 | K48: =VLOOKUP(H48,'Общий прайс лист'!A:D,4,FALSE) -> 5900
H49: EPM | I49: =VLOOKUP(H49,'Общий прайс лист'!A:B,2,FALSE) -> Фотоэлементы Medium EPM | J49: 1 | K49: =VLOOKUP(H49,'Общий прайс лист'!A:D,4,FALSE) -> 6900
C50: Рекомендуемые дополнительные аксессуары → | H50: PS324 | I50: =VLOOKUP(H50,'Общий прайс лист'!A:B,2,FALSE) -> Аккумуляторная батарея PS324 | K50: =VLOOKUP(H50,'Общий прайс лист'!A:D,4,FALSE) -> 14900
H51: XBA6 | I51: =VLOOKUP(H51,'Общий прайс лист'!A:B,2,FALSE) -> Светодиоды сигнальные белые, 6м XBA6 | K51: =VLOOKUP(H51,'Общий прайс лист'!A:D,4,FALSE) -> 16900
H52: EPMOR | I52: =VLOOKUP(H52,'Общий прайс лист'!A:B,2,FALSE) -> Фотоэлементы с зеркально-линзовым объективом | K52: =VLOOKUP(H52,'Общий прайс лист'!A:D,4,FALSE) -> 9900
H53: EDSWG | I53: =VLOOKUP(H53,'Общий прайс лист'!A:B,2,FALSE) -> Цифровой переключатель FLOR EDSW | K53: =VLOOKUP(H53,'Общий прайс лист'!A:D,4,FALSE) -> 14900
H54: ELDC | I54: =VLOOKUP(H54,'Общий прайс лист'!A:B,2,FALSE) -> Лампа сигнальная с антенной 12В/24В ELDC | K54: =VLOOKUP(H54,'Общий прайс лист'!A:D,4,FALSE) -> 5900
H55: WA11 | I55: =VLOOKUP(H55,'Общий прайс лист'!A:B,2,FALSE) -> Опора стационарная WA11 | K55: =VLOOKUP(H55,'Общий прайс лист'!A:D,4,FALSE) -> 16900
H56: WA12 | I56: =VLOOKUP(H56,'Общий прайс лист'!A:B,2,FALSE) -> Опора подвесная WA12 | K56: =VLOOKUP(H56,'Общий прайс лист'!A:D,4,FALSE) -> 16900
H57: WA13 | I57: =VLOOKUP(H57,'Общий прайс лист'!A:B,2,FALSE) -> Решетка для рейки шлагбаумной WA13 | K57: =VLOOKUP(H57,'Общий прайс лист'!A:D,4,FALSE) -> 16900
A58: WIDE L | B58: 7 метров | C58: Для проезда до 7,0 метров, Скорость 6-10 сек. Инт. 200 циклов/час | D58: КОМПЛЕКТЫ | E58: WIDEL7KIT2 | G58: WIDEL7KIT | H58: WIDEL | I58: =VLOOKUP(H58,'Общий прайс лист'!A:B,2,FALSE) -> Тумба шлагбаума c радиоприемником WIDEL | J58: 1 | K58: =VLOOKUP(H58,'Общий прайс лист'!A:D,4,FALSE) -> 149900 | L58: =VLOOKUP(G58,'Общий прайс лист'!A:D,4,FALSE) -> 169900 | M58: =VLOOKUP(E58,'Общий прайс лист'!A:D,4,FALSE) -> 179900
H59: XBA15-3RU | I59: =VLOOKUP(H59,'Общий прайс лист'!A:B,2,FALSE) -> Рейка шлагбаумная 69x92x3200мм XBA15-3RU | J59: 1 | K59: =VLOOKUP(H59,'Общий прайс лист'!A:D,4,FALSE) -> 16900
H60: XBA14-4RU | I60: =VLOOKUP(H60,'Общий прайс лист'!A:B,2,FALSE) -> Рейка шлагбаумная 69x92x4200мм XBA14-4RU | J60: 1 | K60: =VLOOKUP(H60,'Общий прайс лист'!A:D,4,FALSE) -> 21900
H61: XBA9 | I61: =VLOOKUP(H61,'Общий прайс лист'!A:B,2,FALSE) -> Соединитель для стрел XBA9 | J61: 1 | K61: =VLOOKUP(H61,'Общий прайс лист'!A:D,4,FALSE) -> 16900
H62: XBA13 | I62: =VLOOKUP(H62,'Общий прайс лист'!A:B,2,FALSE) -> Демпфер XBA13 | J62: 2 | K62: =VLOOKUP(H62,'Общий прайс лист'!A:D,4,FALSE) -> 16900
H63: NK1 | I63: =VLOOKUP(H63,'Общий прайс лист'!A:B,2,FALSE) -> Наклейки светоотражающие (комплект) NK1 | J63: 2 | K63: =VLOOKUP(H63,'Общий прайс лист'!A:D,4,FALSE) -> 1060
H64: ELDC | I64: =VLOOKUP(H64,'Общий прайс лист'!A:B,2,FALSE) -> Лампа сигнальная с антенной 12В/24В ELDC | J64: 1 | K64: =VLOOKUP(H64,'Общий прайс лист'!A:D,4,FALSE) -> 5900
H65: EPM | I65: =VLOOKUP(H65,'Общий прайс лист'!A:B,2,FALSE) -> Фотоэлементы Medium EPM | J65: 1 | K65: =VLOOKUP(H65,'Общий прайс лист'!A:D,4,FALSE) -> 6900
C66: Рекомендуемые дополнительные аксессуары → | H66: PS324 | I66: =VLOOKUP(H66,'Общий прайс лист'!A:B,2,FALSE) -> Аккумуляторная батарея PS324 | K66: =VLOOKUP(H66,'Общий прайс лист'!A:D,4,FALSE) -> 14900
H67: XBA18 | I67: =VLOOKUP(H67,'Общий прайс лист'!A:B,2,FALSE) -> Светодиоды сигнальные белые, 8м XBA18 | K67: =VLOOKUP(H67,'Общий прайс лист'!A:D,4,FALSE) -> 16900
H68: EPMOR | I68: =VLOOKUP(H68,'Общий прайс лист'!A:B,2,FALSE) -> Фотоэлементы с зеркально-линзовым объективом | K68: =VLOOKUP(H68,'Общий прайс лист'!A:D,4,FALSE) -> 9900
H69: EDSWG | I69: =VLOOKUP(H69,'Общий прайс лист'!A:B,2,FALSE) -> Цифровой переключатель FLOR EDSW | K69: =VLOOKUP(H69,'Общий прайс лист'!A:D,4,FALSE) -> 14900
H70: WA11 | I70: =VLOOKUP(H70,'Общий прайс лист'!A:B,2,FALSE) -> Опора стационарная WA11 | K70: =VLOOKUP(H70,'Общий прайс лист'!A:D,4,FALSE) -> 16900
H71: ELDC | I71: =VLOOKUP(H71,'Общий прайс лист'!A:B,2,FALSE) -> Лампа сигнальная с антенной 12В/24В ELDC | K71: =VLOOKUP(H71,'Общий прайс лист'!A:D,4,FALSE) -> 5900
A72: M BAR | B72: 3 метра | C72: Ресурс 3`000`000 циклов, скоростной Для проезда до 3,0 метра, Скорость 1,5-4 сек. Инт. 500 циклов/час | D72: КОМПЛЕКТЫ | E72: M3BARBDKIT1 | G72: M3BARKIT | H72: M3BAR | I72: =VLOOKUP(H72,'Общий прайс лист'!A:B,2,FALSE) -> Тумба шлагбаума M3BAR | J72: 1 | K72: =VLOOKUP(H72,'Общий прайс лист'!A:D,4,FALSE) -> 150900 | L72: =VLOOKUP(G72,'Общий прайс лист'!A:D,4,FALSE) -> 170900 | M72: =VLOOKUP(E72,'Общий прайс лист'!A:D,4,FALSE) -> 190900
H73: XBA7 | I73: Интегрируемая сигнальная лампа XBA7 (только в комплекте KIT) | J73: 1 | K73: =VLOOKUP(H73,'Общий прайс лист'!A:D,4,FALSE) -> 16900
H74: XBA15-3RU | I74: =VLOOKUP(H74,'Общий прайс лист'!A:B,2,FALSE) -> Рейка шлагбаумная 69x92x3200мм XBA15-3RU | J74: 1 | K74: =VLOOKUP(H74,'Общий прайс лист'!A:D,4,FALSE) -> 16900
H75: XBA13 | I75: =VLOOKUP(H75,'Общий прайс лист'!A:B,2,FALSE) -> Демпфер XBA13 | J75: 1 | K75: =VLOOKUP(H75,'Общий прайс лист'!A:D,4,FALSE) -> 16900
H76: NK1 | I76: =VLOOKUP(H76,'Общий прайс лист'!A:B,2,FALSE) -> Наклейки светоотражающие (комплект) NK1 | J76: 1 | K76: =VLOOKUP(H76,'Общий прайс лист'!A:D,4,FALSE) -> 1060
H77: OXIBD | I77: =VLOOKUP(H77,'Общий прайс лист'!A:B,2,FALSE) -> Приемник OXIBD с обратной связью | J77: 1 | K77: =VLOOKUP(H77,'Общий прайс лист'!A:D,4,FALSE) -> 9490
H78: EPMB | I78: =VLOOKUP(H78,'Общий прайс лист'!A:B,2,FALSE) -> Фотоэлементы Medium BlueBus EPMB | J78: 1 | K78: =VLOOKUP(H78,'Общий прайс лист'!A:D,4,FALSE) -> 6900
H79: XBA4 | I79: =VLOOKUP(H79,'Общий прайс лист'!A:B,2,FALSE) -> Светодиоды сигнальные белые, 4м XBA4 | J79: 1 | K79: =VLOOKUP(H79,'Общий прайс лист'!A:D,4,FALSE) -> 16900
H80: XBA8 | I80: =VLOOKUP(H80,'Общий прайс лист'!A:B,2,FALSE) -> Интегрируемая светофорная лампа XBA8 | J80: 1 | K80: =VLOOKUP(H80,'Общий прайс лист'!A:D,4,FALSE) -> 16900
C81: Рекомендуемые дополнительные аксессуары → | H81: WA11 | I81: =VLOOKUP(H81,'Общий прайс лист'!A:B,2,FALSE) -> Опора стационарная WA11 | K81: =VLOOKUP(H81,'Общий прайс лист'!A:D,4,FALSE) -> 16900
H82: XBA13T | I82: =VLOOKUP(H82,'Общий прайс лист'!A:B,2,FALSE) -> Демпфер XBA13T | K82: =VLOOKUP(H82,'Общий прайс лист'!A:D,4,FALSE) -> 16900
H83: XBA40 | I83: =VLOOKUP(H83,'Общий прайс лист'!A:B,2,FALSE) -> Светодиоды сигнальные двуцветные (краный/зеленый), 4м XBA40 | K83: =VLOOKUP(H83,'Общий прайс лист'!A:D,4,FALSE) -> 16900
H84: EPMORB | I84: =VLOOKUP(H84,'Общий прайс лист'!A:B,2,FALSE) -> Фотоэлементы с зеркально-линзовым объективом BlueBus | K84: =VLOOKUP(H84,'Общий прайс лист'!A:D,4,FALSE) -> 9900
H85: PS224 | I85: =VLOOKUP(H85,'Общий прайс лист'!A:B,2,FALSE) -> Аккумуляторная батарея PS224 | K85: =VLOOKUP(H85,'Общий прайс лист'!A:D,4,FALSE) -> 14900
H86: EDSWG | I86: =VLOOKUP(H86,'Общий прайс лист'!A:B,2,FALSE) -> Цифровой переключатель FLOR EDSW | K86: =VLOOKUP(H86,'Общий прайс лист'!A:D,4,FALSE) -> 14900
A87: M BAR | B87: 4 метра | C87: Ресурс 3`000`000 циклов Для проезда до 4,0 метра, Скорость 3-6 сек. Инт. 350 циклов/час | D87: КОМПЛЕКТЫ | E87: M5BAR4BDKIT1 | G87: M5BAR4KIT | H87: M5BAR | I87: =VLOOKUP(H87,'Общий прайс лист'!A:B,2,FALSE) -> Тумба шлагбаума M5BAR | J87: 1 | K87: =VLOOKUP(H87,'Общий прайс лист'!A:D,4,FALSE) -> 171900 | L87: =VLOOKUP(G87,'Общий прайс лист'!A:D,4,FALSE) -> 191900 | M87: =VLOOKUP(E87,'Общий прайс лист'!A:D,4,FALSE) -> 211900
H88: XBA7 | I88: Интегрируемая сигнальная лампа XBA7 (только в комплекте KIT) | J88: 1 | K88: =VLOOKUP(H88,'Общий прайс лист'!A:D,4,FALSE) -> 16900
H89: XBA14-4RU | I89: =VLOOKUP(H89,'Общий прайс лист'!A:B,2,FALSE) -> Рейка шлагбаумная 69x92x4200мм XBA14-4RU | J89: 1 | K89: =VLOOKUP(H89,'Общий прайс лист'!A:D,4,FALSE) -> 21900
H90: XBA13 | I90: =VLOOKUP(H90,'Общий прайс лист'!A:B,2,FALSE) -> Демпфер XBA13 | J90: 1 | K90: =VLOOKUP(H90,'Общий прайс лист'!A:D,4,FALSE) -> 16900
H91: NK1 | I91: =VLOOKUP(H91,'Общий прайс лист'!A:B,2,FALSE) -> Наклейки светоотражающие (комплект) NK1 | J91: 1 | K91: =VLOOKUP(H91,'Общий прайс лист'!A:D,4,FALSE) -> 1060
H92: OXIBD | I92: =VLOOKUP(H92,'Общий прайс лист'!A:B,2,FALSE) -> Приемник OXIBD с обратной связью | J92: 1 | K92: =VLOOKUP(H92,'Общий прайс лист'!A:D,4,FALSE) -> 9490
H93: EPMB | I93: =VLOOKUP(H93,'Общий прайс лист'!A:B,2,FALSE) -> Фотоэлементы Medium BlueBus EPMB | J93: 1 | K93: =VLOOKUP(H93,'Общий прайс лист'!A:D,4,FALSE) -> 6900
H94: XBA4 | I94: =VLOOKUP(H94,'Общий прайс лист'!A:B,2,FALSE) -> Светодиоды сигнальные белые, 4м XBA4 | J94: 1 | K94: =VLOOKUP(H94,'Общий прайс лист'!A:D,4,FALSE) -> 16900
H95: XBA8 | I95: =VLOOKUP(H95,'Общий прайс лист'!A:B,2,FALSE) -> Интегрируемая светофорная лампа XBA8 | J95: 1 | K95: =VLOOKUP(H95,'Общий прайс лист'!A:D,4,FALSE) -> 16900
C96: Рекомендуемые дополнительные аксессуары → | H96: WA11 | I96: =VLOOKUP(H96,'Общий прайс лист'!A:B,2,FALSE) -> Опора стационарная WA11 | K96: =VLOOKUP(H96,'Общий прайс лист'!A:D,4,FALSE) -> 16900
H97: PS224 | I97: =VLOOKUP(H97,'Общий прайс лист'!A:B,2,FALSE) -> Аккумуляторная батарея PS224 | K97: =VLOOKUP(H97,'Общий прайс лист'!A:D,4,FALSE) -> 14900
H98: EPMORB | I98: =VLOOKUP(H98,'Общий прайс лист'!A:B,2,FALSE) -> Фотоэлементы с зеркально-линзовым объективом BlueBus | K98: =VLOOKUP(H98,'Общий прайс лист'!A:D,4,FALSE) -> 9900
H99: XBA13T | I99: =VLOOKUP(H99,'Общий прайс лист'!A:B,2,FALSE) -> Демпфер XBA13T | K99: =VLOOKUP(H99,'Общий прайс лист'!A:D,4,FALSE) -> 16900
H100: XBA40 | I100: =VLOOKUP(H100,'Общий прайс лист'!A:B,2,FALSE) -> Светодиоды сигнальные двуцветные (краный/зеленый), 4м XBA40 | K100: =VLOOKUP(H100,'Общий прайс лист'!A:D,4,FALSE) -> 16900
...

Sheet Компл. авт. для гаражных ворот
A1: Серия | B1: ОСНОВНЫЕ ХАРАКТЕРИСТИКИ | C1: Артикулы для заказа | G1: Описание | H1: Кол-во | I1: Розн. Цена за шт. | J1: Розн. Цена за комплекты | L1: Оглавление
A2: SPIDER | B2: Для ворот площадью до 16,9 м². Инт. 150 циклов/сутки | C2: КОМПЛЕКТ | D2: SPIDERBL16BDWKCE | F2: SPIDER1200BLW | G2: Привод для секционных ворот SPIDER1200BLW | H2: 1 | J2: =VLOOKUP(D2,'Общий прайс лист'!A:D,4,FALSE) -> 67900
F3: SR16B | G3: Потолочная рейка ременная SR16B | H3: 1
F4: MYGO4 | G4: Пульт управления MYGO4 | H4: 2
B5: Для ворот площадью до 11,4 м². Инт. 50 циклов/сутки | C5: КОМПЛЕКТ | D5: SPIDER16BDWKCE | F5: SPIDER800W | G5: Привод для секционных ворот SPIDER800W | H5: 1 | J5: =VLOOKUP(D5,'Общий прайс лист'!A:D,4,FALSE) -> 47900
F6: SR16B | G6: Потолочная рейка ременная SR16B | H6: 1
F7: MYGO4 | G7: Пульт управления MYGO4 | H7: 2
B8: Рекомендуемые дополнительные аксессуары → | F8: ELDC | G8: =VLOOKUP(F8,'Общий прайс лист'!$A$5:$D$310,2,FALSE) -> Лампа сигнальная с антенной 12В/24В ELDC | I8: =VLOOKUP(F8,'Общий прайс лист'!A:D,4,FALSE) -> 5900
F9: EPMOR | G9: =VLOOKUP(F9,'Общий прайс лист'!$A$5:$D$310,2,FALSE) -> Фотоэлементы с зеркально-линзовым объективом | I9: =VLOOKUP(F9,'Общий прайс лист'!A:D,4,FALSE) -> 9900
F10: EPM | G10: =VLOOKUP(F10,'Общий прайс лист'!$A$5:$D$310,2,FALSE) -> Фотоэлементы Medium EPM | I10: =VLOOKUP(F10,'Общий прайс лист'!A:D,4,FALSE) -> 6900
F11: PS124/PSS124 | G11: Аккумуляторная батарея (в зависимости от модификации привода)
F12: SPA2 | G12: =VLOOKUP(F12,'Общий прайс лист'!$A$5:$D$310,2,FALSE) -> Комплект для разблокировки тросом SPA2 | I12: =VLOOKUP(F12,'Общий прайс лист'!A:D,4,FALSE) -> 9900
F13: SR08B | G13: Комплект удлинителя направляющей рейки SR16B на 800 мм | I13: =VLOOKUP(F13,'Общий прайс лист'!A:D,4,FALSE) -> 9900
F14: EDSWG | G14: =VLOOKUP(F14,'Общий прайс лист'!$A$5:$D$310,2,FALSE) -> Цифровой переключатель FLOR EDSW | I14: =VLOOKUP(F14,'Общий прайс лист'!A:D,4,FALSE) -> 14900
A15: SPIDO 600 | B15: К-т для ворот H до 2,6м, S до 9,6 м². Инт. 40 циклов/сутки | C15: КОМПЛЕКТ | D15: SPO32CKCE | F15: SPIDO600 | G15: Привод для секционных ворот SPIDO600 | H15: 1 | J15: =VLOOKUP(D15,'Общий прайс лист'!A:D,4,FALSE) -> 27900
F16: SR32C | G16: Потолочная рейка цепная SR32C | H16: 1
F17: INTI2 | G17: Пульт управления INTI2 (цвет чёрный) | H17: 2
B18: К-т для ворот H до 2,6м, S до 9,6 м². Инт. 40 циклов/сутки | C18: КОМПЛЕКТ | D18: SPO16BKCE | F18: SPIDO600 | G18: Привод для секционных ворот SPIDO600 | H18: 1 | J18: =VLOOKUP(D18,'Общий прайс лист'!A:D,4,FALSE) -> 33900
F19: SR16B | G19: Потолочная рейка ременная SR16B | H19: 1
F20: INTI2 | G20: Пульт управления INTI2 (цвет чёрный) | H20: 2
B21: Рекомендуемые дополнительные аксессуары → | F21: ELDC | G21: =VLOOKUP(F21,'Общий прайс лист'!$A$5:$D$310,2,FALSE) -> Лампа сигнальная с антенной 12В/24В ELDC | I21: =VLOOKUP(F21,'Общий прайс лист'!A:D,4,FALSE) -> 5900
F22: EPMOR | G22: =VLOOKUP(F22,'Общий прайс лист'!$A$5:$D$310,2,FALSE) -> Фотоэлементы с зеркально-линзовым объективом | I22: =VLOOKUP(F22,'Общий прайс лист'!A:D,4,FALSE) -> 9900
F23: EPM | G23: =VLOOKUP(F23,'Общий прайс лист'!$A$5:$D$310,2,FALSE) -> Фотоэлементы Medium EPM | I23: =VLOOKUP(F23,'Общий прайс лист'!A:D,4,FALSE) -> 6900
F24: PS124/PSS124 | G24: Аккумуляторная батарея (в зависимости от модификации привода)
F25: SPA2 | G25: =VLOOKUP(F25,'Общий прайс лист'!$A$5:$D$310,2,FALSE) -> Комплект для разблокировки тросом SPA2 | I25: =VLOOKUP(F25,'Общий прайс лист'!A:D,4,FALSE) -> 9900
F26: EDSWG | G26: =VLOOKUP(F26,'Общий прайс лист'!$A$5:$D$310,2,FALSE) -> Цифровой переключатель FLOR EDSW | I26: =VLOOKUP(F26,'Общий прайс лист'!A:D,4,FALSE) -> 14900
A27: SPIDO1000 | B27: К-т для ворот H до 2,6м, S до 12,7 м². Инт. 100 циклов/сутки | C27: КОМПЛЕКТ | D27: SPO1032CKCE | F27: SPIDO1000 | G27: Привод для секционных ворот SPIDO1000 | H27: 1 | J27: =VLOOKUP(D27,'Общий прайс лист'!A:D,4,FALSE) -> 37900
F28: SR32C | G28: Потолочная цепная рейка 3,2м | H28: 1
F29: INTI2 | G29: Пульт управления INTI2 (цвет чёрный) | H29: 2
B31: Рекомендуемые дополнительные аксессуары → | F31: ELDC | G31: =VLOOKUP(F31,'Общий прайс лист'!$A$5:$D$310,2,FALSE) -> Лампа сигнальная с антенной 12В/24В ELDC | I31: =VLOOKUP(F31,'Общий прайс лист'!A:D,4,FALSE) -> 5900
F32: EPMOR | G32: =VLOOKUP(F32,'Общий прайс лист'!$A$5:$D$310,2,FALSE) -> Фотоэлементы с зеркально-линзовым объективом | I32: =VLOOKUP(F32,'Общий прайс лист'!A:D,4,FALSE) -> 9900
F33: EPM | G33: =VLOOKUP(F33,'Общий прайс лист'!$A$5:$D$310,2,FALSE) -> Фотоэлементы Medium EPM | I33: =VLOOKUP(F33,'Общий прайс лист'!A:D,4,FALSE) -> 6900
F34: PS124/PSS124 | G34: Аккумуляторная батарея (в зависимости от модификации привода)
F35: SPA2 | G35: =VLOOKUP(F35,'Общий прайс лист'!$A$5:$D$310,2,FALSE) -> Комплект для разблокировки тросом SPA2 | I35: =VLOOKUP(F35,'Общий прайс лист'!A:D,4,FALSE) -> 9900
B36: К-т для ворот H до 2,6м, S до 12,7 м². Инт. 100 циклов/сутки | C36: КОМПЛЕКТ | D36: SPO1016BKCE | F36: SPIDO1000 | G36: Привод для секционных ворот SPIDO1000 | H36: 1 | J36: =VLOOKUP(D36,'Общий прайс лист'!A:D,4,FALSE) -> 42900
F37: SR16B | G37: Потолочная ременная двухсоставная рейка 3,2м (2 шт. по 1,6м) | H37: 1
F38: INTI2 | G38: Пульт управления INTI2 (цвет чёрный) | H38: 2
B40: Рекомендуемые дополнительные аксессуары → | F40: ELDC | G40: =VLOOKUP(F40,'Общий прайс лист'!$A$5:$D$310,2,FALSE) -> Лампа сигнальная с антенной 12В/24В ELDC | I40: =VLOOKUP(F40,'Общий прайс лист'!A:D,4,FALSE) -> 5900
F41: EPMOR | G41: =VLOOKUP(F41,'Общий прайс лист'!$A$5:$D$310,2,FALSE) -> Фотоэлементы с зеркально-линзовым объективом | I41: =VLOOKUP(F41,'Общий прайс лист'!A:D,4,FALSE) -> 9900
F42: EPM | G42: =VLOOKUP(F42,'Общий прайс лист'!$A$5:$D$310,2,FALSE) -> Фотоэлементы Medium EPM | I42: =VLOOKUP(F42,'Общий прайс лист'!A:D,4,FALSE) -> 6900
F43: PS124/PSS124 | G43: Аккумуляторная батарея (в зависимости от модификации привода)
F44: SPA2 | G44: =VLOOKUP(F44,'Общий прайс лист'!$A$5:$D$310,2,FALSE) -> Комплект для разблокировки тросом SPA2 | I44: =VLOOKUP(F44,'Общий прайс лист'!A:D,4,FALSE) -> 9900
B45: К-т для ворот H до 3,4м, S до 13,2 м². Инт. 100 циклов/сутки | C45: КОМПЛЕКТ | D45: SPO1040BKCE | F45: SPIDO1000 | G45: Привод для секционных ворот SPIDO1000 | H45: 1 | J45: =VLOOKUP(D45,'Общий прайс лист'!A:D,4,FALSE) -> 47900
F46: SR40B | G46: Потолочная ременная двухсоставная рейка 3,2м (2 шт. по 1,6м) c удлинителем 0,8м | H46: 1
F47: INTI2 | G47: Пульт управления INTI2 (цвет чёрный) | H47: 2
B49: Рекомендуемые дополнительные аксессуары → | F49: ELDC | G49: =VLOOKUP(F49,'Общий прайс лист'!$A$5:$D$310,2,FALSE) -> Лампа сигнальная с антенной 12В/24В ELDC | I49: =VLOOKUP(F49,'Общий прайс лист'!A:D,4,FALSE) -> 5900
F50: EPMOR | G50: =VLOOKUP(F50,'Общий прайс лист'!$A$5:$D$310,2,FALSE) -> Фотоэлементы с зеркально-линзовым объективом | I50: =VLOOKUP(F50,'Общий прайс лист'!A:D,4,FALSE) -> 9900
F51: EPM | G51: =VLOOKUP(F51,'Общий прайс лист'!$A$5:$D$310,2,FALSE) -> Фотоэлементы Medium EPM | I51: =VLOOKUP(F51,'Общий прайс лист'!A:D,4,FALSE) -> 6900
F52: PS124/PSS124 | G52: Аккумуляторная батарея (в зависимости от модификации привода)
F53: SPA2 | G53: =VLOOKUP(F53,'Общий прайс лист'!$A$5:$D$310,2,FALSE) -> Комплект для разблокировки тросом SPA2 | I53: =VLOOKUP(F53,'Общий прайс лист'!A:D,4,FALSE) -> 9900
A54: SUMO | B54: Для сбаланс. ворот площадью до 15м² Инт. 30% | C54: КОМПЛЕКТЫ | D54: SOONBDKLT | F54: SO2000 | G54: =VLOOKUP(F54,'Общий прайс лист'!$A$5:$D$310,2,FALSE) -> Привод для секционных ворот SO2000 | H54: 1 | I54: =VLOOKUP(F54,'Общий прайс лист'!A:D,4,FALSE) -> 68900 | J54: =VLOOKUP(D54,'Общий прайс лист'!A:D,4,FALSE) -> 74900
F55: OXIBD | G55: =VLOOKUP(F55,'Общий прайс лист'!A:B,2,FALSE) -> Приемник OXIBD с обратной связью | H55: 1 | I55: =VLOOKUP(F55,'Общий прайс лист'!A:D,4,FALSE) -> 9490
F56: MYGO4 | G56: Пульт управления MYGO | H56: 2
B57: Рекомендуемые дополнительные аксессуары → | F57: ELDC | G57: =VLOOKUP(F57,'Общий прайс лист'!$A$5:$D$310,2,FALSE) -> Лампа сигнальная с антенной 12В/24В ELDC | I57: =VLOOKUP(F57,'Общий прайс лист'!A:D,4,FALSE) -> 5900
F58: EPMORB | G58: =VLOOKUP(F58,'Общий прайс лист'!$A$5:$D$310,2,FALSE) -> Фотоэлементы с зеркально-линзовым объективом BlueBus | I58: =VLOOKUP(F58,'Общий прайс лист'!A:D,4,FALSE) -> 9900
F59: EDSWG | G59: =VLOOKUP(F59,'Общий прайс лист'!$A$5:$D$310,2,FALSE) -> Цифровой переключатель FLOR EDSW | I59: =VLOOKUP(F59,'Общий прайс лист'!A:D,4,FALSE) -> 14900
B60: Для сбаланс. ворот площадью 15м²-35м² Инт. 50% Мощный | C60: КОМПЛЕКТ | D60: SUMOKIT | F60: SU2000 | G60: =VLOOKUP(F60,'Общий прайс лист'!$A$5:$D$310,2,FALSE) -> Привод для секционных ворот SU2000 | H60: 1 | I60: =VLOOKUP(F60,'Общий прайс лист'!A:D,4,FALSE) -> 74900 | J60: =VLOOKUP(D60,'Общий прайс лист'!A:D,4,FALSE) -> 80900
F61: DPRO924 | G61: =VLOOKUP(F61,'Общий прайс лист'!$A$5:$D$310,2,FALSE) -> Блок управления DPRO924 | H61: 1 | I61: =VLOOKUP(F61,'Общий прайс лист'!A:D,4,FALSE) -> 32490
B62: Рекомендуемые дополнительные аксессуары → | F62: ELDC | G62: =VLOOKUP(F62,'Общий прайс лист'!$A$5:$D$310,2,FALSE) -> Лампа сигнальная с антенной 12В/24В ELDC | I62: =VLOOKUP(F62,'Общий прайс лист'!A:D,4,FALSE) -> 5900
F63: EPMOR | G63: =VLOOKUP(F63,'Общий прайс лист'!$A$5:$D$310,2,FALSE) -> Фотоэлементы с зеркально-линзовым объективом | I63: =VLOOKUP(F63,'Общий прайс лист'!A:D,4,FALSE) -> 9900
F64: KIO | G64: =VLOOKUP(F64,'Общий прайс лист'!$A$5:$D$310,2,FALSE) -> Переключатель замковый с механизмом разблокировки KIO | I64: =VLOOKUP(F64,'Общий прайс лист'!A:D,4,FALSE) -> 10490
F65: KA1 | G65: =VLOOKUP(F65,'Общий прайс лист'!$A$5:$D$310,2,FALSE) -> Металлический трос разблокировки для KIO KA1 | I65: =VLOOKUP(F65,'Общий прайс лист'!A:D,4,FALSE) -> 6290
F66: EDSWG | G66: =VLOOKUP(F66,'Общий прайс лист'!$A$5:$D$310,2,FALSE) -> Цифровой переключатель FLOR EDSW | I66: =VLOOKUP(F66,'Общий прайс лист'!A:D,4,FALSE) -> 14900
B67: Для сбаланс. ворот площадью 10м²-25м² Инт. 50% Скоростной | C67: КОМПЛЕКТ | D67: SUMOVKIT | F67: SU2000V | G67: =VLOOKUP(F67,'Общий прайс лист'!$A$5:$D$310,2,FALSE) -> Привод для секционных ворот SU2000V | H67: 1 | I67: =VLOOKUP(F67,'Общий прайс лист'!A:D,4,FALSE) -> 80900 | J67: =VLOOKUP(D67,'Общий прайс лист'!A:D,4,FALSE) -> 86900
F68: DPRO924 | G68: =VLOOKUP(F68,'Общий прайс лист'!$A$5:$D$310,2,FALSE) -> Блок управления DPRO924 | H68: 1 | I68: =VLOOKUP(F68,'Общий прайс лист'!A:D,4,FALSE) -> 32490
B69: Рекомендуемые дополнительные аксессуары → | F69: ELDC | G69: =VLOOKUP(F69,'Общий прайс лист'!$A$5:$D$310,2,FALSE) -> Лампа сигнальная с антенной 12В/24В ELDC | I69: =VLOOKUP(F69,'Общий прайс лист'!A:D,4,FALSE) -> 5900
F70: EPMOR | G70: =VLOOKUP(F70,'Общий прайс лист'!$A$5:$D$310,2,FALSE) -> Фотоэлементы с зеркально-линзовым объективом | I70: =VLOOKUP(F70,'Общий прайс лист'!A:D,4,FALSE) -> 9900
F71: KIO | G71: =VLOOKUP(F71,'Общий прайс лист'!$A$5:$D$310,2,FALSE) -> Переключатель замковый с механизмом разблокировки KIO | I71: =VLOOKUP(F71,'Общий прайс лист'!A:D,4,FALSE) -> 10490
F72: KA1 | G72: =VLOOKUP(F72,'Общий прайс лист'!$A$5:$D$310,2,FALSE) -> Металлический трос разблокировки для KIO KA1 | I72: =VLOOKUP(F72,'Общий прайс лист'!A:D,4,FALSE) -> 6290
F73: EDSWG | G73: =VLOOKUP(F73,'Общий прайс лист'!$A$5:$D$310,2,FALSE) -> Цифровой переключатель FLOR EDSW | I73: =VLOOKUP(F73,'Общий прайс лист'!A:D,4,FALSE) -> 14900
B74: Для сбаланс. ворот площадью 10м²-15м² Инт. 50% Высокоскоростной | C74: КОМПЛЕКТ | D74: SUMOVVKIT | F74: SU2000VV | G74: =VLOOKUP(F74,'Общий прайс лист'!$A$5:$D$310,2,FALSE) -> Привод для секционных ворот SU2000VV | H74: 1 | I74: =VLOOKUP(F74,'Общий прайс лист'!A:D,4,FALSE) -> 86900 | J74: =VLOOKUP(D74,'Общий прайс лист'!A:D,4,FALSE) -> 91900
F75: DPRO924 | G75: =VLOOKUP(F75,'Общий прайс лист'!$A$5:$D$310,2,FALSE) -> Блок управления DPRO924 | H75: 1 | I75: =VLOOKUP(F75,'Общий прайс лист'!A:D,4,FALSE) -> 32490
B76: Рекомендуемые дополнительные аксессуары → | F76: ELDC | G76: =VLOOKUP(F76,'Общий прайс лист'!$A$5:$D$310,2,FALSE) -> Лампа сигнальная с антенной 12В/24В ELDC | I76: =VLOOKUP(F76,'Общий прайс лист'!A:D,4,FALSE) -> 5900
F77: EPMOR | G77: =VLOOKUP(F77,'Общий прайс лист'!$A$5:$D$310,2,FALSE) -> Фотоэлементы с зеркально-линзовым объективом | I77: =VLOOKUP(F77,'Общий прайс лист'!A:D,4,FALSE) -> 9900
F78: KIO | G78: =VLOOKUP(F78,'Общий прайс лист'!$A$5:$D$310,2,FALSE) -> Переключатель замковый с механизмом разблокировки KIO | I78: =VLOOKUP(F78,'Общий прайс лист'!A:D,4,FALSE) -> 10490
F79: KA1 | G79: =VLOOKUP(F79,'Общий прайс лист'!$A$5:$D$310,2,FALSE) -> Металлический трос разблокировки для KIO KA1 | I79: =VLOOKUP(F79,'Общий прайс лист'!A:D,4,FALSE) -> 6290
F80: EDSWG | G80: =VLOOKUP(F80,'Общий прайс лист'!$A$5:$D$310,2,FALSE) -> Цифровой переключатель FLOR EDSW | I80: =VLOOKUP(F80,'Общий прайс лист'!A:D,4,FALSE) -> 14900
A81: Аксессуары для автоматики | F81: DPRO924 | G81: =VLOOKUP(F81,'Общий прайс лист'!$A$5:$D$310,2,FALSE) -> Блок управления DPRO924 | H81: шт. | I81: =VLOOKUP(F81,'Общий прайс лист'!A:D,4,FALSE) -> 32490
F82: CRA1 | G82: =VLOOKUP(F82,'Общий прайс лист'!$A$5:$D$310,2,FALSE) -> Вал с 18-зубчатой шестерней CRA1 | H82: шт. | I82: =VLOOKUP(F82,'Общий прайс лист'!A:D,4,FALSE) -> 9900
F83: CRA2 | G83: =VLOOKUP(F83,'Общий прайс лист'!$A$5:$D$310,2,FALSE) -> Муфта для цепи CRA2 | H83: шт. | I83: =VLOOKUP(F83,'Общий прайс лист'!A:D,4,FALSE) -> 1590
F84: CRA3 | G84: =VLOOKUP(F84,'Общий прайс лист'!$A$5:$D$310,2,FALSE) -> Цепь 1/2'' с муфтой, 1000мм CRA3 | H84: шт. | I84: =VLOOKUP(F84,'Общий прайс лист'!A:D,4,FALSE) -> 9900
F85: CRA4 | G85: =VLOOKUP(F85,'Общий прайс лист'!$A$5:$D$310,2,FALSE) -> Цепь 1/2'' с муфтой, 5000мм CRA4 | H85: шт. | I85: =VLOOKUP(F85,'Общий прайс лист'!A:D,4,FALSE) -> 16900
F86: CRA5 | G86: =VLOOKUP(F86,'Общий прайс лист'!$A$5:$D$310,2,FALSE) -> Устройство натяжения цепи CRA5 | H86: шт. | I86: =VLOOKUP(F86,'Общий прайс лист'!A:D,4,FALSE) -> 16900
F87: CRA6 | G87: =VLOOKUP(F87,'Общий прайс лист'!$A$5:$D$310,2,FALSE) -> Шестерня 36-зубчатая CRA6 | H87: шт. | I87: =VLOOKUP(F87,'Общий прайс лист'!A:D,4,FALSE) -> 9900
F88: CRA7 | G88: =VLOOKUP(F88,'Общий прайс лист'!$A$5:$D$310,2,FALSE) -> Шестерня 18-зубчатая CRA7 | H88: шт. | I88: =VLOOKUP(F88,'Общий прайс лист'!A:D,4,FALSE) -> 9900
F89: CRA8 | G89: =VLOOKUP(F89,'Общий прайс лист'!$A$5:$D$310,2,FALSE) -> Кронштейн крепления CRA8 | H89: шт. | I89: =VLOOKUP(F89,'Общий прайс лист'!A:D,4,FALSE) -> 9900
F90: CRA9 | G90: =VLOOKUP(F90,'Общий прайс лист'!$A$5:$D$310,2,FALSE) -> Адаптер для вала CRA9 | H90: шт. | I90: =VLOOKUP(F90,'Общий прайс лист'!A:D,4,FALSE) -> 9900
F91: KIO | G91: =VLOOKUP(F91,'Общий прайс лист'!$A$5:$D$310,2,FALSE) -> Переключатель замковый с механизмом разблокировки KIO | H91: шт. | I91: =VLOOKUP(F91,'Общий прайс лист'!A:D,4,FALSE) -> 10490
F92: KA1 | G92: =VLOOKUP(F92,'Общий прайс лист'!$A$5:$D$310,2,FALSE) -> Металлический трос разблокировки для KIO KA1 | H92: шт. | I92: =VLOOKUP(F92,'Общий прайс лист'!A:D,4,FALSE) -> 6290
F93: SNA6 | G93: =VLOOKUP(F93,'Общий прайс лист'!$A$5:$D$310,2,FALSE) -> Рейка приводная SPIN, 4000мм SNA6 | H93: шт. | I93: =VLOOKUP(F93,'Общий прайс лист'!A:D,4,FALSE) -> 16900
F94: B12-B.4310 | G94: =VLOOKUP(F94,'Общий прайс лист'!$A$5:$D$310,2,FALSE) -> Аккумуляторная батарея B12-B.4310 | H94: шт. | I94: =VLOOKUP(F94,'Общий прайс лист'!A:D,4,FALSE) -> 9490

Sheet Пульты управления
A1: Артикул комплекта | B1: Пульты в составе комплекта | C1: Кол-во кнопок (радиоканалов) | D1: Кол-во пультов в составе компл., шт | E1: Цена Розница комплекта, руб с НДС | F1: Оглавление
A2: INTI (комплекты из 10 штук)
A3: INTI2GKIT10 | B3: INTI2G | C3: 2 | D3: 10 | E3: =VLOOKUP(A3,'Общий прайс лист'!A:D,4,FALSE) -> 24900
A4: INTI2YKIT10 | B4: INTI2Y | C4: 2 | D4: 10
A5: INTI2KIT10 | B5: INTI2 | C5: 2 | D5: 10
A6: INTI2BKIT10 | B6: INTI2B | C6: 2 | D6: 10
A7: INTI2RKIT10 | B7: INTI2R | C7: 2 | D7: 10
A8: INTI (комплекты из 100 штук)
A9: INTI2GKIT100 | B9: INTI2G | C9: 2 | D9: 100 | E9: =VLOOKUP(A9,'Общий прайс лист'!A:D,4,FALSE) -> 230900
A10: INTI2YKIT100 | B10: INTI2Y | C10: 2 | D10: 100
A11: INTI2KIT100 | B11: INTI2 | C11: 2 | D11: 100
A12: INTIBKIT100 | B12: INTI2B | C12: 2 | D12: 100
A13: INTI2RKIT100 | B13: INTI2R | C13: 2 | D13: 100
A15: INTIRWKIT100 | B15: INTI2G | C15: 2 | D15: 20 | E15: =VLOOKUP(A15,'Общий прайс лист'!A:D,4,FALSE) -> 219900
B16: INTI2Y | C16: 2 | D16: 20
B17: INTI2 | C17: 2 | D17: 20
B18: INTI2B | C18: 2 | D18: 20
B19: INTI2R | C19: 2 | D19: 20
A20: MYGO (комплекты из 10 штук) однонаправленные
A21: MYGO2KIT10 | B21: MYGO2 | C21: 2 | D21: 10 | E21: =VLOOKUP(A21,'Общий прайс лист'!A:D,4,FALSE) -> 24900
A22: MYGO4KIT10 | B22: MYGO4 | C22: 4 | D22: 10 | E22: =VLOOKUP(A22,'Общий прайс лист'!A:D,4,FALSE) -> 26900
A23: MYGO8KIT10 | B23: MYGO8 | C23: 8 | D23: 10 | E23: =VLOOKUP(A23,'Общий прайс лист'!A:D,4,FALSE) -> 28900
A24: MYGO (комплекты из 100 штук) однонаправленные
A25: MYGO2KIT100 | B25: MYGO2 | C25: 2 | D25: 100 | E25: =VLOOKUP(A25,'Общий прайс лист'!A:D,4,FALSE) -> 230900
A26: MYGO4KIT100 | B26: MYGO4 | C26: 4 | D26: 100 | E26: =VLOOKUP(A26,'Общий прайс лист'!A:D,4,FALSE) -> 240900
A27: MYGO8KIT100 | B27: MYGO8 | C27: 8 | D27: 100 | E27: =VLOOKUP(A27,'Общий прайс лист'!A:D,4,FALSE) -> 250900
A28: MYGO (комплекты 100 штук) однонаправленные МИКС
A29: MYGO248KIT100 | B29: MYGO2 | C29: 2 | D29: 60 | E29: =VLOOKUP(A29,'Общий прайс лист'!A:D,4,FALSE) -> 250900
B30: MYGO4 | C30: 4 | D30: 30
B31: MYGO8 | C31: 8 | D31: 10
A32: MYGOBD (комплекты из 10 штук) с обратной связью
A33: MYGO2BDKIT10 | B33: MYGO2BD | C33: 2 | D33: 10 | E33: =VLOOKUP(A33,'Общий прайс лист'!A:D,4,FALSE) -> 29900
A34: MYGO4BDKIT10 | B34: MYGO4BD | C34: 4 | D34: 10 | E34: =VLOOKUP(A34,'Общий прайс лист'!A:D,4,FALSE) -> 31900
A35: MYGO8BDKIT10 | B35: MYGO8BD | C35: 8 | D35: 10 | E35: =VLOOKUP(A35,'Общий прайс лист'!A:D,4,FALSE) -> 33900
A36: MYGOBD (комплекты из 100 штук) с обратной связью
A37: MYGO2BDKIT100 | B37: MYGO2BD | C37: 2 | D37: 100 | E37: =VLOOKUP(A37,'Общий прайс лист'!A:D,4,FALSE) -> 261900
A38: MYGO4BDKIT100 | B38: MYGO4BD | C38: 4 | D38: 100 | E38: =VLOOKUP(A38,'Общий прайс лист'!A:D,4,FALSE) -> 271900
A39: MYGO8BDKIT100 | B39: MYGO8BD | C39: 8 | D39: 100 | E39: =VLOOKUP(A39,'Общий прайс лист'!A:D,4,FALSE) -> 291900
A40: MYGOBD (комплекты из 100 штук) с обратной связью МИКС
A41: MYGO248BDKIT100 | B41: MYGO2BD | C41: 2 | D41: 60 | E41: =VLOOKUP(A41,'Общий прайс лист'!A:D,4,FALSE) -> 271900
B42: MYGO4BD | C42: 4 | D42: 30
B43: MYGO8BD | C43: 8 | D43: 10
A44: MYGOBD (комплект из 100 штук) однонаправленные и с обратной связью МИКС
A45: MYGOMIXBDKIT100 | B45: MYGO2 | C45: 2 | D45: 20 | E45: =VLOOKUP(A45,'Общий прайс лист'!A:D,4,FALSE) -> 261900
B46: MYGO4 | C46: 4 | D46: 20
B47: MYGO8 | C47: 8 | D47: 10
B48: MYGO2BD | C48: 2 | D48: 20
B49: MYGO4BD | C49: 4 | D49: 20
B50: MYGO8BD | C50: 8 | D50: 10
A51: LoRa (комплект из приёмника, 2х пультов управления и переходника) с обратной связью
A52: ONELRKIT | B52: OX2UBP | C52: 3 | D52: 1 | E52: =VLOOKUP(A52,'Общий прайс лист'!A:D,4,FALSE) -> 20900
B53: ON3ELR | D53: 2
B54: OXILR | D54: 1
A55: LoRa (комплект из 10 штук) с обратной связью
A56: ON3ELRKIT10 | B56: ON3ELR | C56: 3 | D56: 10 | E56: =VLOOKUP(A56,'Общий прайс лист'!A:D,4,FALSE) -> 41900

Sheet Программаторы и радиоприёмники
A1: Артикул для заказа | B1: Описание | C1: Ед. | D1: Розничная цена, руб с НДС | E1: Оглавление
A2: Программаторы и модули радиоуправления
A3: CORE | B3: =VLOOKUP(A3,'Общий прайс лист'!A:B,2,FALSE) -> Nice Wi-Fi радио шлюз, управление со смартфона, 500 каналов CORE | C3: шт | D3: =VLOOKUP(A3,'Общий прайс лист'!A:D,4,FALSE) -> 18900
A4: BIDI-WIFI | B4: =VLOOKUP(A4,'Общий прайс лист'!A:B,2,FALSE) -> Модуль радиоуправления Nice BIDI-WIFI | C4: шт | D4: =VLOOKUP(A4,'Общий прайс лист'!A:D,4,FALSE) -> 11490
A5: BIDI-WiFiKIT5 | B5: =VLOOKUP(A5,'Общий прайс лист'!A:B,2,FALSE) -> Комплект из 5 модулей радиоуправления BiDi-WiFi BIDI-WIFIKIT5 | C5: шт | D5: =VLOOKUP(A5,'Общий прайс лист'!A:D,4,FALSE) -> 51490
A6: IBT4N | B6: =VLOOKUP(A6,'Общий прайс лист'!A:B,2,FALSE) -> Адаптер BUS4T IBT4N | C6: шт | D6: =VLOOKUP(A6,'Общий прайс лист'!A:D,4,FALSE) -> 7490
A7: PROVIEW | B7: =VLOOKUP(A7,'Общий прайс лист'!A:B,2,FALSE) -> Блок программирования, управления и диагностики серия PRO PROVIEW | C7: шт | D7: =VLOOKUP(A7,'Общий прайс лист'!A:D,4,FALSE) -> 35900
A8: Приёмники
A9: OX2UBP | B9: =VLOOKUP(A9,'Общий прайс лист'!A:B,2,FALSE) -> Внешний коннектор для радиоприемников серии OXI OX2 OX2UBP | C9: шт | D9: =VLOOKUP(A9,'Общий прайс лист'!A:D,4,FALSE) -> 7490
A10: OX2 | B10: =VLOOKUP(A10,'Общий прайс лист'!A:B,2,FALSE) -> Приемник OX2 | C10: шт | D10: =VLOOKUP(A10,'Общий прайс лист'!A:D,4,FALSE) -> 9490
A11: OX2KIT10 | B11: =VLOOKUP(A11,'Общий прайс лист'!A:B,2,FALSE) -> Комплект OX2KIT10. Состав комплекта: Приемник OX2 - 10 шт; | C11: компл | D11: =VLOOKUP(A11,'Общий прайс лист'!A:D,4,FALSE) -> 65900
A12: OX2T | B12: =VLOOKUP(A12,'Общий прайс лист'!A:B,2,FALSE) -> Приемник с передатчиком OX2T | C12: шт | D12: =VLOOKUP(A12,'Общий прайс лист'!A:D,4,FALSE) -> 20900
A13: OX4T | B13: =VLOOKUP(A13,'Общий прайс лист'!A:B,2,FALSE) -> Приемник с передатчиком OX4T | C13: шт | D13: =VLOOKUP(A13,'Общий прайс лист'!A:D,4,FALSE) -> 20900
A14: OXIBD | B14: =VLOOKUP(A14,'Общий прайс лист'!A:B,2,FALSE) -> Приемник OXIBD с обратной связью | C14: шт | D14: =VLOOKUP(A14,'Общий прайс лист'!A:D,4,FALSE) -> 9490
A15: OXIBDKIT10 | B15: =VLOOKUP(A15,'Общий прайс лист'!A:B,2,FALSE) -> Комплект OXIBDKIT10. Состав комплекта: Приемник OXIBD - 10 шт; | C15: компл | D15: =VLOOKUP(A15,'Общий прайс лист'!A:D,4,FALSE) -> 65900
A16: OXILR | B16: =VLOOKUP(A16,'Общий прайс лист'!A:B,2,FALSE) -> Приемник OXILR с двухсторонней связью | C16: шт | D16: =VLOOKUP(A16,'Общий прайс лист'!A:D,4,FALSE) -> 9490
A17: OXILRKIT10 | B17: =VLOOKUP(A17,'Общий прайс лист'!A:B,2,FALSE) -> Комплект OXILRKIT10. Состав комплекта: Приемник OXILR - 10 шт; | C17: компл | D17: =VLOOKUP(A17,'Общий прайс лист'!A:D,4,FALSE) -> 77900

Sheet Аксессуары
B1: Артикул для заказа | C1: Описание | D1: Ед. | E1: Розничная цена, руб с НДС | F1: Оглавление
A2: Аксессуары для откатных приводов | B2: RBA1 | C2: =VLOOKUP(B2,'Общий прайс лист'!$A$5:$D$310,2,FALSE) -> Индуктивный датчик RBA1 | D2: шт | E2: =VLOOKUP(B2,'Общий прайс лист'!$A$2:$D$310,4,FALSE) -> 9490
B3: ROA81 | C3: =VLOOKUP(B3,'Общий прайс лист'!$A$5:$D$310,2,FALSE) -> Оцинкованная зубчатая рейка, модуль M6 ROA81 | D3: шт | E3: =VLOOKUP(B3,'Общий прайс лист'!$A$2:$D$310,4,FALSE) -> 9490
B4: RUA12 | C4: =VLOOKUP(B4,'Общий прайс лист'!$A$5:$D$310,2,FALSE) -> 12-ти зубчатый венец M6 RUA12 | D4: шт | E4: =VLOOKUP(B4,'Общий прайс лист'!$A$2:$D$310,4,FALSE) -> 9490
A5: Аксессуары для распашных приводов | B5: BMA1 | C5: =VLOOKUP(B5,'Общий прайс лист'!$A$5:$D$310,2,FALSE) -> Механизм открывания ворот на 360 градусов BMA1 | D5: шт | E5: =VLOOKUP(B5,'Общий прайс лист'!$A$2:$D$310,4,FALSE) -> 20900
B6: BMBOX | C6: =VLOOKUP(B6,'Общий прайс лист'!$A$5:$D$310,2,FALSE) -> Фундаментная коробка BMBOX | D6: шт | E6: =VLOOKUP(B6,'Общий прайс лист'!$A$2:$D$310,4,FALSE) -> 32900
B7: HYA11 | C7: =VLOOKUP(B7,'Общий прайс лист'!$A$5:$D$310,2,FALSE) -> Устройство для разблокировки HYA11 | D7: шт | E7: =VLOOKUP(B7,'Общий прайс лист'!$A$2:$D$310,4,FALSE) -> 5200
B8: HYA12 | C8: =VLOOKUP(B8,'Общий прайс лист'!$A$5:$D$310,2,FALSE) -> Рычаг-удлинитель HYA12 | D8: шт | E8: =VLOOKUP(B8,'Общий прайс лист'!$A$2:$D$310,4,FALSE) -> 20900
B9: MEA1 | C9: =VLOOKUP(B9,'Общий прайс лист'!$A$5:$D$310,2,FALSE) -> Механизм открывания ворот на 360 градусов MEA1 | D9: шт | E9: =VLOOKUP(B9,'Общий прайс лист'!$A$2:$D$310,4,FALSE) -> 20900
B10: MEA2 | C10: =VLOOKUP(B10,'Общий прайс лист'!$A$5:$D$310,2,FALSE) -> Механизм разблокировки MEA2 | D10: шт | E10: =VLOOKUP(B10,'Общий прайс лист'!$A$2:$D$310,4,FALSE) -> 20900
B11: MEA3 | C11: =VLOOKUP(B11,'Общий прайс лист'!$A$5:$D$310,2,FALSE) -> Механизм разблокировки MEA3 | D11: шт | E11: =VLOOKUP(B11,'Общий прайс лист'!$A$2:$D$310,4,FALSE) -> 20900
B12: MEA5 | C12: =VLOOKUP(B12,'Общий прайс лист'!$A$5:$D$310,2,FALSE) -> Рычаг для механизма MEA3 MEA5 | D12: шт | E12: =VLOOKUP(B12,'Общий прайс лист'!$A$2:$D$310,4,FALSE) -> 5200
B13: MECF | C13: =VLOOKUP(B13,'Общий прайс лист'!$A$5:$D$310,2,FALSE) -> Фундаментная коробка с катафорезным покрытием MECF | D13: шт | E13: =VLOOKUP(B13,'Общий прайс лист'!$A$2:$D$310,4,FALSE) -> 32900
B14: MECX | C14: =VLOOKUP(B14,'Общий прайс лист'!$A$5:$D$310,2,FALSE) -> Фундаментная коробка из нержавеющей стали MECX | D14: шт | E14: =VLOOKUP(B14,'Общий прайс лист'!$A$2:$D$310,4,FALSE) -> 32900
B15: PLA6 | C15: =VLOOKUP(B15,'Общий прайс лист'!$A$5:$D$310,2,FALSE) -> Кронштейн монтажный задний PLA6 | D15: шт | E15: =VLOOKUP(B15,'Общий прайс лист'!$A$2:$D$310,4,FALSE) -> 5200
B16: PLA8 | C16: =VLOOKUP(B16,'Общий прайс лист'!$A$5:$D$310,2,FALSE) -> Передний регулируемый кронштейн PLA8 | D16: шт | E16: =VLOOKUP(B16,'Общий прайс лист'!$A$2:$D$310,4,FALSE) -> 5200
B17: PLA10 | C17: =VLOOKUP(B17,'Общий прайс лист'!$A$5:$D$310,2,FALSE) -> Электромеханический замок вертикальный, 12В PLA10 | D17: шт | E17: =VLOOKUP(B17,'Общий прайс лист'!$A$2:$D$310,4,FALSE) -> 20900
... B22: PLA16 | C22: =VLOOKUP(B22,'Общий прайс лист'!$A$5:$D$310,2,FALSE) -> регулируемый кронштейн PLA16 | D22: шт | E22: =VLOOKUP(B22,'Общий прайс лист'!$A$2:$D$310,4,FALSE) -> 5200
A23: Аксессуары для секционных приводов | B23: CRA1 | C23: =VLOOKUP(B23,'Общий прайс лист'!$A$5:$D$310,2,FALSE) -> Вал с 18-зубчатой шестерней CRA1 | D23: шт | E23: =VLOOKUP(B23,'Общий прайс лист'!$A$2:$D$310,4,FALSE) -> 9900
B24: CRA2 | C24: =VLOOKUP(B24,'Общий прайс лист'!$A$5:$D$310,2,FALSE) -> Муфта для цепи CRA2 | D24: шт | E24: =VLOOKUP(B24,'Общий прайс лист'!$A$2:$D$310,4,FALSE) -> 1590
B25: CRA3 | C25: =VLOOKUP(B25,'Общий прайс лист'!$A$5:$D$310,2,FALSE) -> Цепь 1/2'' с муфтой, 1000мм CRA3 | D25: шт | E25: =VLOOKUP(B25,'Общий прайс лист'!$A$2:$D$310,4,FALSE) -> 9900
B26: CRA4 | C26: =VLOOKUP(B26,'Общий прайс лист'!$A$5:$D$310,2,FALSE) -> Цепь 1/2'' с муфтой, 5000мм CRA4 | D26: шт | E26: =VLOOKUP(B26,'Общий прайс лист'!$A$2:$D$310,4,FALSE) -> 16900
B27: CRA5 | C27: =VLOOKUP(B27,'Общий прайс лист'!$A$5:$D$310,2,FALSE) -> Устройство натяжения цепи CRA5 | D27: шт | E27: =VLOOKUP(B27,'Общий прайс лист'!$A$2:$D$310,4,FALSE) -> 16900
B28: CRA6 | C28: =VLOOKUP(B28,'Общий прайс лист'!$A$5:$D$310,2,FALSE) -> Шестерня 36-зубчатая CRA6 | D28: шт | E28: =VLOOKUP(B28,'Общий прайс лист'!$A$2:$D$310,4,FALSE) -> 9900
B29: CRA7 | C29: =VLOOKUP(B29,'Общий прайс лист'!$A$5:$D$310,2,FALSE) -> Шестерня 18-зубчатая CRA7 | D29: шт | E29: =VLOOKUP(B29,'Общий прайс лист'!$A$2:$D$310,4,FALSE) -> 9900
B30: CRA8 | C30: =VLOOKUP(B30,'Общий прайс лист'!$A$5:$D$310,2,FALSE) -> Кронштейн крепления CRA8 | D30: шт | E30: =VLOOKUP(B30,'Общий прайс лист'!$A$2:$D$310,4,FALSE) -> 9900
B31: CRA9 | C31: =VLOOKUP(B31,'Общий прайс лист'!$A$5:$D$310,2,FALSE) -> Адаптер для вала CRA9 | D31: шт | E31: =VLOOKUP(B31,'Общий прайс лист'!$A$2:$D$310,4,FALSE) -> 9900
B32: SNA6 | C32: =VLOOKUP(B32,'Общий прайс лист'!$A$5:$D$310,2,FALSE) -> Рейка приводная SPIN, 4000мм SNA6 | D32: шт | E32: =VLOOKUP(B32,'Общий прайс лист'!$A$2:$D$310,4,FALSE) -> 16900
B33: SPA2 | C33: =VLOOKUP(B33,'Общий прайс лист'!$A$5:$D$310,2,FALSE) -> Комплект для разблокировки тросом SPA2 | D33: шт | E33: =VLOOKUP(B33,'Общий прайс лист'!$A$2:$D$310,4,FALSE) -> 9900
A34: Аксессуары для шлагбаумов | B34: BOOMKIT4 | C34: =VLOOKUP(B34,'Общий прайс лист'!$A$5:$D$310,2,FALSE) -> Адаптер овальной стрелы для шлагбаумов WIL и SIGNO | D34: компл | E34: =VLOOKUP(B34,'Общий прайс лист'!$A$2:$D$310,4,FALSE) -> 16900
B35: BOOMKIT6 | C35: =VLOOKUP(B35,'Общий прайс лист'!$A$5:$D$310,2,FALSE) -> Адаптер овальной стрелы для шлагбаумов WIL и SIGNO | D35: компл | E35: =VLOOKUP(B35,'Общий прайс лист'!$A$2:$D$310,4,FALSE) -> 16900
B36: XBA6KIT | C36: =VLOOKUP(B36,'Общий прайс лист'!$A$5:$D$310,2,FALSE) -> Комплект шлагбаумной рейки XBA15-3RU (2 шт.) с соединителем XBA9 | D36: шт | E36: =VLOOKUP(B36,'Общий прайс лист'!$A$2:$D$310,4,FALSE) -> 32490
B37: XBA15-3RU | C37: =VLOOKUP(B37,'Общий прайс лист'!$A$5:$D$310,2,FALSE) -> Рейка шлагбаумная 69x92x3200мм XBA15-3RU | D37: шт | E37: =VLOOKUP(B37,'Общий прайс лист'!$A$2:$D$310,4,FALSE) -> 16900
B38: XBA14-4RU | C38: =VLOOKUP(B38,'Общий прайс лист'!$A$5:$D$310,2,FALSE) -> Рейка шлагбаумная 69x92x4200мм XBA14-4RU | D38: шт | E38: =VLOOKUP(B38,'Общий прайс лист'!$A$2:$D$310,4,FALSE) -> 21900
B39: XBA5-5RU | C39: =VLOOKUP(B39,'Общий прайс лист'!$A$5:$D$310,2,FALSE) -> Рейка шлагбаумная 69x92x5200мм XBA5-5RU | D39: шт | E39: =VLOOKUP(B39,'Общий прайс лист'!$A$2:$D$310,4,FALSE) -> 27900
B40: XBA19-4RU | C40: =VLOOKUP(B40,'Общий прайс лист'!$A$5:$D$310,2,FALSE) -> Рейка шлагбаумная 45x58x4200мм XBA19-4RU | D40: шт | E40: =VLOOKUP(B40,'Общий прайс лист'!$A$2:$D$310,4,FALSE) -> 16900
B41: XBA19-5RU | C41: =VLOOKUP(B41,'Общий прайс лист'!$A$5:$D$310,2,FALSE) -> Рейка шлагбаумная 45x58x5200мм XBA19-5RU | D41: шт | E41: =VLOOKUP(B41,'Общий прайс лист'!$A$2:$D$310,4,FALSE) -> 21900
B42: XBA9 | C42: =VLOOKUP(B42,'Общий прайс лист'!$A$5:$D$310,2,FALSE) -> Соединитель для стрел XBA9 | D42: шт | E42: =VLOOKUP(B42,'Общий прайс лист'!$A$2:$D$310,4,FALSE) -> 16900
B43: WIA10 | C43: =VLOOKUP(B43,'Общий прайс лист'!$A$5:$D$310,2,FALSE) -> Кронштейн для аварийной разблокировки стрелы WIA10 | D43: шт | E43: =VLOOKUP(B43,'Общий прайс лист'!$A$2:$D$310,4,FALSE) -> 16900
B44: WIA11 | C44: =VLOOKUP(B44,'Общий прайс лист'!$A$5:$D$310,2,FALSE) -> Кронштейн для складывания стрелы WIA11 | D44: шт | E44: =VLOOKUP(B44,'Общий прайс лист'!$A$2:$D$310,4,FALSE) -> 16900
B45: XBA10 | C45: =VLOOKUP(B45,'Общий прайс лист'!$A$5:$D$310,2,FALSE) -> Кронштейн для аварийной разблокировки стрелы XBA10 | D45: шт | E45: =VLOOKUP(B45,'Общий прайс лист'!$A$2:$D$310,4,FALSE) -> 26900
B46: XBA11 | C46: =VLOOKUP(B46,'Общий прайс лист'!$A$5:$D$310,2,FALSE) -> Кронштейн для складывания стрелы XBA11 | D46: шт | E46: =VLOOKUP(B46,'Общий прайс лист'!$A$2:$D$310,4,FALSE) -> 26900
... B64: ELMM | C64: =VLOOKUP(B64,'Общий прайс лист'!$A$5:$D$310,2,FALSE) -> Светодиодная лампа для оптических датчиков фотоэлементов EPMOR ELMM | D64: шт | E64: =VLOOKUP(B64,'Общий прайс лист'!$A$2:$D$310,4,FALSE) -> 6290
A65: Фотоэлементы | B65: EPM | C65: =VLOOKUP(B65,'Общий прайс лист'!$A$5:$D$310,2,FALSE) -> Фотоэлементы Medium EPM | D65: шт | E65: =VLOOKUP(B65,'Общий прайс лист'!$A$2:$D$310,4,FALSE) -> 6900
B66: EPMAO | C66: =VLOOKUP(B66,'Общий прайс лист'!$A$5:$D$310,2,FALSE) -> Фотоэлементы ориентируемые в антивандальном корпусе Medium EPMAO | D66: шт | E66: =VLOOKUP(B66,'Общий прайс лист'!$A$2:$D$310,4,FALSE) -> 15690
B67: EPMAOB | C67: =VLOOKUP(B67,'Общий прайс лист'!$A$5:$D$310,2,FALSE) -> Фотоэлементы ориентируемые в антивандальном корпусе Medium BlueBus EPMAOB | D67: шт | E67: =VLOOKUP(B67,'Общий прайс лист'!$A$2:$D$310,4,FALSE) -> 15690
B68: EPMB | C68: =VLOOKUP(B68,'Общий прайс лист'!$A$5:$D$310,2,FALSE) -> Фотоэлементы Medium BlueBus EPMB | D68: шт | E68: =VLOOKUP(B68,'Общий прайс лист'!$A$2:$D$310,4,FALSE) -> 6900
B69: EPS | C69: =VLOOKUP(B69,'Общий прайс лист'!$A$5:$D$310,2,FALSE) -> Фотоэлементы Slim EPS | D69: шт | E69: =VLOOKUP(B69,'Общий прайс лист'!$A$2:$D$310,4,FALSE) -> 6900
B70: EPSB | C70: =VLOOKUP(B70,'Общий прайс лист'!$A$5:$D$310,2,FALSE) -> Фотоэлементы Slim BlueBus EPSB | D70: шт | E70: =VLOOKUP(B70,'Общий прайс лист'!$A$2:$D$310,4,FALSE) -> 6900
B71: EPMOR | C71: =VLOOKUP(B71,'Общий прайс лист'!$A$5:$D$310,2,FALSE) -> Фотоэлементы с зеркально-линзовым объективом | D71: пара | E71: =VLOOKUP(B71,'Общий прайс лист'!$A$2:$D$310,4,FALSE) -> 9900
B72: EPMORB | C72: =VLOOKUP(B72,'Общий прайс лист'!$A$5:$D$310,2,FALSE) -> Фотоэлементы с зеркально-линзовым объективом BlueBus | D72: пара | E72: =VLOOKUP(B72,'Общий прайс лист'!$A$2:$D$310,4,FALSE) -> 9900
B73: FT210 | C73: =VLOOKUP(B73,'Общий прайс лист'!$A$5:$D$310,2,FALSE) -> Фотоэлементы (без батареек) FT210 | D73: шт | E73: =VLOOKUP(B73,'Общий прайс лист'!$A$2:$D$310,4,FALSE) -> 18900
B74: FT210B | C74: =VLOOKUP(B74,'Общий прайс лист'!$A$5:$D$310,2,FALSE) -> Фотоэлементы (без батареек) FT210B | D74: шт | E74: =VLOOKUP(B74,'Общий прайс лист'!$A$2:$D$310,4,FALSE) -> 18900
B75: PPH1 | C75: =VLOOKUP(B75,'Общий прайс лист'!$A$5:$D$310,2,FALSE) -> Стойка для 1-го фотоэлемента Medium или Large, 500мм PPH1 | D75: шт | E75: =VLOOKUP(B75,'Общий прайс лист'!$A$2:$D$310,4,FALSE) -> 9390
B76: PPH2 | C76: =VLOOKUP(B76,'Общий прайс лист'!$A$5:$D$310,2,FALSE) -> Стойка для 2-х фотоэлементов Medium или Large, 1000мм PPH2 | D76: шт | E76: =VLOOKUP(B76,'Общий прайс лист'!$A$2:$D$310,4,FALSE) -> 9390
A77: Блоки управления | B77: DPRO924 | C77: =VLOOKUP(B77,'Общий прайс лист'!$A$5:$D$310,2,FALSE) -> Блок управления DPRO924 | D77: шт | E77: =VLOOKUP(B77,'Общий прайс лист'!$A$2:$D$310,4,FALSE) -> 32490
B78: MC200 | C78: =VLOOKUP(B78,'Общий прайс лист'!$A$5:$D$310,2,FALSE) -> Блок управления для рольворот, подключение фотоэлементов, IP55 | D78: шт | E78: =VLOOKUP(B78,'Общий прайс лист'!$A$2:$D$310,4,FALSE) -> 11490
B79: MC800 | C79: =VLOOKUP(B79,'Общий прайс лист'!$A$5:$D$310,2,FALSE) -> Блок управления MC800 | D79: шт | E79: =VLOOKUP(B79,'Общий прайс лист'!$A$2:$D$310,4,FALSE) -> 32490
B80: MC424L | C80: =VLOOKUP(B80,'Общий прайс лист'!$A$5:$D$310,2,FALSE) -> Блок управления MC424L, встроенный радиоприемник на 100 пультов, SM-разъем | D80: шт | E80: =VLOOKUP(B80,'Общий прайс лист'!$A$2:$D$310,4,FALSE) -> 32490
B81: MC824H | C81: =VLOOKUP(B81,'Общий прайс лист'!$A$5:$D$310,2,FALSE) -> Блок управления MC824H | D81: шт | E81: =VLOOKUP(B81,'Общий прайс лист'!$A$2:$D$310,4,FALSE) -> 32490
A82: Аккумуляторные батареи | B82: B12-B.4310 | C82: =VLOOKUP(B82,'Общий прайс лист'!$A$5:$D$310,2,FALSE) -> Аккумуляторная батарея B12-B.4310 | D82: шт | E82: =VLOOKUP(B82,'Общий прайс лист'!$A$2:$D$310,4,FALSE) -> 9490
B83: PS124 | C83: =VLOOKUP(B83,'Общий прайс лист'!$A$5:$D$310,2,FALSE) -> Аккумуляторная батарея PS124 | D83: шт | E83: =VLOOKUP(B83,'Общий прайс лист'!$A$2:$D$310,4,FALSE) -> 14900
B84: PS224 | C84: =VLOOKUP(B84,'Общий прайс лист'!$A$5:$D$310,2,FALSE) -> Аккумуляторная батарея PS224 | D84: шт | E84: =VLOOKUP(B84,'Общий прайс лист'!$A$2:$D$310,4,FALSE) -> 14900
B85: PS424 | C85: =VLOOKUP(B85,'Общий прайс лист'!$A$5:$D$310,2,FALSE) -> Аккумуляторная батарея PS424 | D85: шт | E85: =VLOOKUP(B85,'Общий прайс лист'!$A$2:$D$310,4,FALSE) -> 14900
B86: PS524 | C86: =VLOOKUP(B86,'Общий прайс лист'!$A$5:$D$310,2,FALSE) -> Плата для подключения аккумуляторной батареи PS524 | D86: шт | E86: =VLOOKUP(B86,'Общий прайс лист'!$A$2:$D$310,4,FALSE) -> 14900
A87: Переключатели | B87: KIO | C87: =VLOOKUP(B87,'Общий прайс лист'!$A$5:$D$310,2,FALSE) -> Переключатель замковый с механизмом разблокировки KIO | D87: шт | E87: =VLOOKUP(B87,'Общий прайс лист'!$A$2:$D$310,4,FALSE) -> 10490
B88: KA1 | C88: =VLOOKUP(B88,'Общий прайс лист'!$A$5:$D$310,2,FALSE) -> Металлический трос разблокировки для KIO KA1 | D88: шт | E88: =VLOOKUP(B88,'Общий прайс лист'!$A$2:$D$310,4,FALSE) -> 6290
B89: EDS | C89: =VLOOKUP(B89,'Общий прайс лист'!$A$5:$D$310,2,FALSE) -> Цифровой переключатель EDS | D89: шт | E89: =VLOOKUP(B89,'Общий прайс лист'!$A$2:$D$310,4,FALSE) -> 14900
B90: EDSB | C90: =VLOOKUP(B90,'Общий прайс лист'!$A$5:$D$310,2,FALSE) -> Цифровой переключатель BlueBus EDSB | D90: шт | E90: =VLOOKUP(B90,'Общий прайс лист'!$A$2:$D$310,4,FALSE) -> 14900
B91: EDSWG | C91: =VLOOKUP(B91,'Общий прайс лист'!$A$5:$D$310,2,FALSE) -> Цифровой переключатель FLOR EDSW | D91: шт | E91: =VLOOKUP(B91,'Общий прайс лист'!$A$2:$D$310,4,FALSE) -> 14900
B92: EKA01 | C92: =VLOOKUP(B92,'Общий прайс лист'!$A$5:$D$310,2,FALSE) -> Приспособление для монтажа переключателей ERA на стойку PPH2 EKA01 | D92: шт | E92: =VLOOKUP(B92,'Общий прайс лист'!$A$2:$D$310,4,FALSE) -> 6290
B93: EKS | C93: =VLOOKUP(B93,'Общий прайс лист'!$A$5:$D$310,2,FALSE) -> Переключатель замковый EKS | D93: шт | E93: =VLOOKUP(B93,'Общий прайс лист'!$A$2:$D$310,4,FALSE) -> 6290
A94: Универсальные аксессуары | B94: ABF | C94: =VLOOKUP(B94,'Общий прайс лист'!$A$5:$D$310,2,FALSE) -> Антенна ABF | D94: шт | E94: =VLOOKUP(B94,'Общий прайс лист'!$A$2:$D$310,4,FALSE) -> 6290
B95: LP21 | C95: =VLOOKUP(B95,'Общий прайс лист'!$A$5:$D$310,2,FALSE) -> Индукционный датчик, 1-канальный LP21 | D95: шт | E95: =VLOOKUP(B95,'Общий прайс лист'!$A$2:$D$310,4,FALSE) -> 32900
B96: LP22 | C96: =VLOOKUP(B96,'Общий прайс лист'!$A$5:$D$310,2,FALSE) -> Индукционный датчик, 2-канальный LP22 | D96: шт | E96: =VLOOKUP(B96,'Общий прайс лист'!$A$2:$D$310,4,FALSE) -> 37900
B97: PW1 | C97: =VLOOKUP(B97,'Общий прайс лист'!$A$5:$D$310,2,FALSE) -> Обогревательный элемент PW1 | D97: шт | E97: =VLOOKUP(B97,'Общий прайс лист'!$A$2:$D$310,4,FALSE) -> 9390
B98: TW1 | C98: =VLOOKUP(B98,'Общий прайс лист'!$A$5:$D$310,2,FALSE) -> Термостат для обогревательного элемента TW1 | D98: шт | E98: =VLOOKUP(B98,'Общий прайс лист'!$A$2:$D$310,4,FALSE) -> 9390

Sheet ЗИП
A2: Артикул для заказа | B2: Описание | C2: Ед. | D2: Розничная цена, руб с НДС | E2: Оглавление
A3: 700510002121 | B3: разъем (вилка) для ремонта приемников SMXI, SMXIS, OXI, OXIR10, OXIBD, OXILR, OX2, OX2T | C3: шт. | D3: 900
A4: 059-CE.8001 | B4: Плата блока управления A6 | C4: шт. | D4: 19900
A5: 081-B.8001 | B5: Плата блока управления A824 | C5: шт. | D5: 19900
A6: 102-A.8001 | B6: Плата блока управления A400 | C6: шт. | D6: 19900
A7: 7U450A.0727 | B7: Конденсатор TOONA 230В/MOBY 230В | C7: шт. | D7: 1900
A8: 10U400A.0727 | B8: Конденсатор HY7100, 7005 | C8: шт. | D8: 1900
A9: 12U450.0727 | B9: Конденсатор 12uF 450v RO500KCE | C9: шт. | D9: 1900
A10: 10U450C.0727 | B10: Конденсатор ME3000R01 | C10: шт. | D10: 1900
A11: 12U450B.0727 | B11: Конденсатор 12uF 450v ROX600,1000 / TO5016P | C11: шт. | D11: 1900
A12: 12U450D.0727 | B12: Конденсатор ROBO600, RO600, ROX1000R10, ROX600KCER10 | C12: шт. | D12: 1900
A13: 138-C.8001 | B13: Плата блока управления A60/A | C13: шт. | D13: 19900
A14: 14U450D.0727 | B14: Конденсатор RUN1800R01/A, 2500R01/A, RUN1800, 2500, RO1000, TH1500 | C14: шт. | D14: 1900
... A1277: XBA20 | B1277: Плата управления SBAR | C1277: шт. | D1277: 19900
B1278: Ключ разблокировки ROBO600 | C1278: шт. | D1278: 6900
C1279: шт.
A1280: PD2123B0002 | B1280: Крышка верхняя RBS400, RBS600 PD2123B0002 | C1280: шт. | D1280: 6900
A1281: PD2128A3004 | B1281: Основание корпуса привода ROBO600 PD2128A3001 | C1281: шт. | D1281: 7900
A1282: SPMCU1 | B1282: Плата управления привода RBS400,RBS600, SPIDER800 без WiFi | C1282: шт. | D1282: 29900
A1283: SPMCU2 | B1283: Плата управления привода RBS600HS, SPIDER800W, SPIDER1200W встроенный WiFi | C1283: шт. | D1283: 29900
A1284: SPTB709C | B1284: Плата управления электродвигателя SPIDER800, SPIDER800W | C1284: шт. | D1284: 19900
A1285: SPTB710C | B1285: Плата управления электродвигателя RBS400, RBS600, RBS600HS | C1285: шт. | D1285: 19900
A1286: SPTB740B1B | B1286: Плата управления электродвигателя SPIDER1200W | C1286: шт. | D1286: 19900
A1287: CA0364A00 | B1287: Шлейф (кабель) двигателя и диодного моста SPIDER800-1200. Общая длина 220 мм | C1287: шт. | D1287: 3900
A1288: CA0364C00 | B1288: Шлейф (кабель) двигателя и диодного моста RBS400-600-600HS | C1288: шт. | D1288: 3900
A1289: CA0368A01 | B1289: Межблочный кабель, 8 жил 280мм SPIDER800-1200 | C1289: шт. | D1289: 3900
A1290: CA0370A00 | B1290: Шлейф (кабель) импульсного блока питания 3х жильный 150мм RBS400-600-600HS | C1290: шт. | D1290: 2900
A1291: CA0381A00 | B1291: Шлейф (кабель) импульсного блока питания 120мм SPIDER800-1200 | C1291: шт. | D1291: 2900
... A1314: PD2183A0002 | B1314: Крышка блока управления двигателем RBS400-600-600HS | C1314: шт. | D1314: 1900
C1315: шт.
C1316: шт.
A1317: SP10CH | B1317: Набор из 10 пронумерованных ключей ROBO-RBS | C1317: шт. | D1317: 14900
A1318: SPAMG603A00 | B1318: Редуктор в сборе RBS400-600-600HS | C1318: шт. | D1318: 15900
A1319: SPCG024500 | B1319: Крышка верхняя корпуса RBS600HS с отверстиями для фотодатчика | C1319: шт. | D1319: 7900
A1320: SPEG132B00 | B1320: Комплект трансформатора SPIDER800 | C1320: шт. | D1320: 9900
A1321: SPEG134A00 | B1321: Крышка верхняя с лампой SPIDER800-1200 | C1321: шт. | D1321: 19900
A1322: SPEG135A00 | B1322: Сменный светодиодный индикатор состояния (комплект) RBS400, 600, 600HS, 800 | C1322: шт. | D1322: 9900
A1323: SPEG139A00 | B1323: Комплект трансформатора SPIDER1200 | C1323: шт. | D1323: 19900
A1324: SPEG308A00 | B1324: Комплект трансформатора RBS400-600-600HS | C1324: шт. | D1324: 19900
A1325: SPGSP07800 | B1325: Магнитный концевой выключатель в сборе RBS400-600-600HS | C1325: шт. | D1325: 8900
A1326: SPLSM05400 | B1326: Индуктивный концевой выключатель RBS400-600-600HS в сборе | C1326: шт. | D1326: 6900
A1327: SPMTG11700 | B1327: Комплект электродвигателя RBS600 в сборе | C1327: шт. | D1327: 19900
A1328: SPMTG11800 | B1328: Комплект электродвигателя RBS600HS в сборе | C1328: шт. | D1328: 29900
... A1341: SPSPA1000 | B1341: Плата управления привода SPIDO1000 | C1341: шт. | D1341: 15900
C1342: шт.
C1343: шт.
C1344: шт.
A1345: SPSPA600R30 | B1345: Плата управления привода SPO600R30 | C1345: шт. | D1345: 15900
C1346: шт.
A1347: CA0364A02 | B1347: Шлейф (кабель) подключения двигателя и диодного моста SPIDER800-800W-800R30-1200BLW-1200BLWR30. Общая длина 220 мм | C1347: шт. | D1347: 2900
A1348: CA0480A00 | B1348: Шлейф (кабель) импульсного блока питания 3х жильный 150мм SPIDER1200BLWR30 | C1348: шт. | D1348: 2900
A1349: PD2187A0001 | B1349: Червячный винт электродвигателя RBS400-400R30 | C1349: шт. | D1349: 3900
A1350: PD2187A0002 | B1350: Червячный винт электродвигателя RBS600-600R30-600HS-600HSR30 | C1350: шт. | D1350: 3900
A1351: PD2187B0000 | B1351: Червячный винт электродвигателя RBS800 | C1351: шт. | D1351: 3900
A1352: SPMCU1R30 | B1352: Плата управления привода RBS400R30 ,600R30, 800R00, SPIDER800R30 без WiFi | C1352: шт. | D1352: 25900
A1353: SPMCU2R30 | B1353: Плата управления привода RBS600HSR30, SPIDER800WR30,1200BLWR30 встроенный WiFi | C1353: шт. | D1353: 25900
A1354: SPMTG15800 | B1354: Комплект электродвигателя RBS800 в сборе | C1354: шт. | D1354: 29900
A1355: SPTB709D | B1355: Плата управления электродвигателя SPIDER800R30, SPIDER800WR30 | C1355: шт. | D1355: 9900
A1356: SPTB710D | B1356: Плата управления электродвигателя RBS400R30, 600R30, 600HSR30 SPTB710D | C1356: шт. | D1356: 9900
A1357: SPTB740C | B1357: Плата управления электродвигателя SPIDER1200BLWR30 | C1357: шт. | D1357: 9900
A1358: SPTB807A | B1358: Импульсный блок питания SPO600R30-SPO1000, SPIDER800R30-800WR30-1200BLWR30, RBS400R30-600R30-600HSR30-800 | C1358: шт. | D1358: 9900
C1359: шт.
A1360: SPEKRBS600HSR30 | B1360: Комплект плат управления для RBS600HSR30 БЛОКИ, ВХОДЯЩИЕ В КОМПЛЕКТ: SPMCU2R30 плата управления привода R30 со встроенным Wi-Fi, SPTB710D плата управления двигателем RBS-R30 | C1360: шт. | D1360: 29900
A1361: SPEKRBS600HS | B1361: Комплект плат управления для RBS600HSR10 БЛОКИ, ВХОДЯЩИЕ В КОМПЛЕКТ : SPMCU2 плата управления привода R10 со встроенным Wi-Fi, SPTB710C плата управления двигателем RBS-R10 | C1361: шт. | D1361: 29900
A1362: SPEKRBS600R30 | B1362: Комплект плат управления для RBS600R30 БЛОКИ, ВХОДЯЩИЕ В КОМПЛЕКТ: SPMCU1R30 плата управления привода R30 БЕЗ встроенного Wi-Fi , SPTB710D плата управления двигателем RBS-R30 | C1362: шт. | D1362: 29900
A1363: SPEKRBS600 | B1363: Комплект плат управления для RBS600R10 БЛОКИ, ВХОДЯЩИЕ В КОМПЛЕКТ: SPMCU1 плата управления привода R10 БЕЗ встроенного Wi-Fi , SPTB710C плата управления двигателем RBS-R10 | C1363: шт. | D1363: 29900
A1364: SPEKRBS400R30 | B1364: Комплект плат управления для RBS400R30 БЛОКИ, ВХОДЯЩИЕ В КОМПЛЕКТ: SPMCU1R30 плата управления привода R30 БЕЗ встроенного Wi-Fi, SPTB710D плата управления двигателем RBS-R30 | C1364: шт. | D1364: 29900
A1365: SPEKRBS400 | B1365: Комплект плат управления для RBS400R10 БЛОКИ, ВХОДЯЩИЕ В КОМПЛЕКТ: SPMCU1 плата управления привода R10 БЕЗ встроенного Wi-Fi, SPTB710C плата управления двигателем RBS-R10 | C1365: шт. | D1365: 29900
A1366: SPEKSPR1200WR30 | B1366: Комплект плат управления для SPR1200WR30 БЛОКИ, ВХОДЯЩИЕ В КОМПЛЕКТ: SPMCU2R30 плата управления привода R30 со встроенным Wi-Fi, SPTB740C плата управления двигателем SPR1200 R30 | C1366: шт. | D1366: 29900
A1367: SPEKSPR1200W | B1367: Комплект плат управления для SPR1200WR10 БЛОКИ, ВХОДЯЩИЕ В КОМПЛЕКТ: SPMCU2 плата управления привода R10 со встроенным Wi-Fi, SPTB740B1B плата управления двигателем SPR1200 R10 | C1367: шт. | D1367: 29900
A1368: SPEKSPR800WR30 | B1368: Комплект плат управления для SPR800WR30 БЛОКИ, ВХОДЯЩИЕ В КОМПЛЕКТ: SPMCU2R30 плата управления привода R30 со встроенным Wi-Fi, SPTB709D плата управления двигателем SPR800 R30 | C1368: шт. | D1368: 29900
A1369: SPEKSPR800W | B1369: Комплект плат управления для SPR800WR10 БЛОКИ, ВХОДЯЩИЕ В КОМПЛЕКТ: SPMCU2 плата управления привода R10 со встроенным Wi-Fi, SPTB709C плата управления двигателем SPR800 R10 | C1369: шт. | D1369: 29900
A1370: SPEKSPR800R30 | B1370: Комплект плат управления для SPR800R30 БЛОКИ, ВХОДЯЩИЕ В КОМПЛЕКТ: SPMCU1R30 плата управления привода R30 БЕЗ встроенного Wi-Fi, SPTB709D плата управления двигателем SPR800 R30 | C1370: шт. | D1370: 29900
A1371: SPEKSPR800 | B1371: Комплект плат управления для SPR800R10 БЛОКИ, ВХОДЯЩИЕ В КОМПЛЕКТ: SPMCU1 плата управления привода R10 БЕЗ встроенного Wi-Fi, SPTB709C плата управления двигателем SPR800 R10 | C1371: шт. | D1371: 29900
C1372: шт.
A1373: SPPOA3R30 | B1373: Плата управления HO7124R30 | C1373: шт. | D1373: 19900
A1374: BMG2211R09.45673 | B1374: Основание корпуса HOPP_R10_R30 | C1374: шт. | D1374: 7900
A1375: PPD2217R04.4540 | B1375: Корпус (внутренняя часть) HOPP_R10_R30 | C1375: шт. | D1375: 900
A1376: PD2442A0000 | B1376: Крепление блока HO7124R30 | C1376: шт. | D1376: 900
A1377: CA0395A02 | B1377: Шлейф (кабель) блока управления HO7124R30 | C1377: шт. | D1377: 1900
C1378: шт.
C1379: шт.
A1380: SPROA42 | B1380: Плата управления ROBO1000 | C1380: шт. | D1380: 19900
A1381: SPMTG13700 | B1381: Комплект электродвигателя ROBO1000 | C1381: шт. | D1381: 19900
A1382: SPROA43 | B1382: Плата управления ROBO1500 | C1382: шт. | D1382: 19900
A1383: SPMTG13800 | B1383: Комплект электродвигателя ROBO1500 | C1383: шт. | D1383: 19900
A1384: SPAMG641A00 | B1384: Комплект выходного вала RO1000 RO1500 | C1384: шт. | D1384: 15900
A1385: SPFKCB2 | B1385: Монтажный комплект ROBO1000_ROBO1500 | C1385: шт. | D1385: 5900
A1386: PD2230A3001 | B1386: Основание корпуса ROBO1000_ROBO1500 | C1386: шт. | D1386: 7900
A1387: PD2314A0000 | B1387: Штифт разблокировки ROBO1000_ROBO1500 | C1387: шт. | D1387: 900
A1388: PPD1858A.4540 | B1388: Червячное колесо ROBO1000_ROBO1500 | C1388: шт. | D1388: 3900
A1389: PD2382A0000 | B1389: Пластина крепления блока управления ROBO1000_ROBO1500 | C1389: шт. | D1389: 1900
A1390: 12U450G.0727 | B1390: Конденсатор ROBO1000 | C1390: шт. | D1390: 1900
A1391: PD2222B0000 | B1391: Крышка верхняя ROBO1000_ROBO1500 | C1391: шт. | D1391: 7900
... A1393: 14U450F.0727 | B1393: Конденсатор ROBO1500 | C1393: шт. | D1393: 1900
A1394: V8X55.5102 | B1394: Винт 8x55 | C1394: шт.
C1395: шт.
A1396: SPMCA1R30 | B1396: Плата управления MC824HR30 | C1396: шт. | D1396: 19900
A1397: SPMCA2R30 | B1397: Плата управления MC424LR30 | C1397: шт. | D1397: 19900
C1398: шт.
...
